BEGIN:VCALENDAR
VERSION:2.0
PRODID:-//His Vineyard - ECPv6.15.20//NONSGML v1.0//EN
CALSCALE:GREGORIAN
METHOD:PUBLISH
X-ORIGINAL-URL:https://hisvineyard.com
X-WR-CALDESC:Events for His Vineyard
REFRESH-INTERVAL;VALUE=DURATION:PT1H
X-Robots-Tag:noindex
X-PUBLISHED-TTL:PT1H
BEGIN:VTIMEZONE
TZID:America/New_York
BEGIN:DAYLIGHT
TZOFFSETFROM:-0500
TZOFFSETTO:-0400
TZNAME:EDT
DTSTART:20250309T070000
END:DAYLIGHT
BEGIN:STANDARD
TZOFFSETFROM:-0400
TZOFFSETTO:-0500
TZNAME:EST
DTSTART:20251102T060000
END:STANDARD
BEGIN:DAYLIGHT
TZOFFSETFROM:-0500
TZOFFSETTO:-0400
TZNAME:EDT
DTSTART:20260308T070000
END:DAYLIGHT
BEGIN:STANDARD
TZOFFSETFROM:-0400
TZOFFSETTO:-0500
TZNAME:EST
DTSTART:20261101T060000
END:STANDARD
BEGIN:DAYLIGHT
TZOFFSETFROM:-0500
TZOFFSETTO:-0400
TZNAME:EDT
DTSTART:20270314T070000
END:DAYLIGHT
BEGIN:STANDARD
TZOFFSETFROM:-0400
TZOFFSETTO:-0500
TZNAME:EST
DTSTART:20271107T060000
END:STANDARD
END:VTIMEZONE
BEGIN:VEVENT
DTSTART;TZID=America/New_York:20260505T060000
DTEND;TZID=America/New_York:20260505T070000
DTSTAMP:20260420T055936
CREATED:20251202T135140Z
LAST-MODIFIED:20251211T130526Z
UID:10007485-1777960800-1777964400@hisvineyard.com
SUMMARY:Gideons Army
DESCRIPTION:
URL:https://hisvineyard.com/event/gideons-army-76/2026-05-05/
LOCATION:The Gap – Church Office\, 120 Sizemore Street\, Greer\, SC\, 29651\, United States
CATEGORIES:Bibe Study / Fellowship
ORGANIZER;CN="Fred Fuller":MAILTO:ffuller55@gmail.com
END:VEVENT
BEGIN:VEVENT
DTSTART;TZID=America/New_York:20260506T190000
DTEND;TZID=America/New_York:20260506T200000
DTSTAMP:20260420T055936
CREATED:20260127T004329Z
LAST-MODIFIED:20260127T004330Z
UID:10005554-1778094000-1778097600@hisvineyard.com
SUMMARY:Youth Group
DESCRIPTION:
URL:https://hisvineyard.com/event/youth-group-2/2026-05-06/
LOCATION:Worship Center
CATEGORIES:Bibe Study / Fellowship,Youth Groups
ORGANIZER;CN="Derek Henderson - Youth Pastor":MAILTO:derekh1981@gmail.com
END:VEVENT
BEGIN:VEVENT
DTSTART;TZID=America/New_York:20260506T190000
DTEND;TZID=America/New_York:20260506T200000
DTSTAMP:20260420T055936
CREATED:20260127T004523Z
LAST-MODIFIED:20260127T004524Z
UID:10005816-1778094000-1778097600@hisvineyard.com
SUMMARY:Kids Vineyard
DESCRIPTION:
URL:https://hisvineyard.com/event/kids-vineyard-152/2026-05-06/
LOCATION:Kids Vineyard Room
CATEGORIES:Bibe Study / Fellowship,Childrens Ministry
END:VEVENT
BEGIN:VEVENT
DTSTART;TZID=America/New_York:20260506T190000
DTEND;TZID=America/New_York:20260506T200000
DTSTAMP:20260420T055936
CREATED:20260127T004721Z
LAST-MODIFIED:20260127T004722Z
UID:10006077-1778094000-1778097600@hisvineyard.com
SUMMARY:Preschool
DESCRIPTION:
URL:https://hisvineyard.com/event/preschool-2/2026-05-06/
CATEGORIES:Bibe Study / Fellowship,Childrens Ministry
ORGANIZER;CN="Nikki Piper - Preschool Director":MAILTO:nikkipiperpreschool@gmail.com
END:VEVENT
BEGIN:VEVENT
DTSTART;TZID=America/New_York:20260506T190000
DTEND;TZID=America/New_York:20260506T200000
DTSTAMP:20260420T055936
CREATED:20260127T004801Z
LAST-MODIFIED:20260127T004802Z
UID:10006603-1778094000-1778097600@hisvineyard.com
SUMMARY:Nursery
DESCRIPTION:
URL:https://hisvineyard.com/event/nursery-2/2026-05-06/
LOCATION:Nursery – Little Vines
CATEGORIES:Bibe Study / Fellowship,Childrens Ministry
ORGANIZER;CN="Hillary Thompson - Nursery Director":MAILTO:hutcheson.hillary@gmail.com
END:VEVENT
BEGIN:VEVENT
DTSTART;TZID=America/New_York:20260506T190000
DTEND;TZID=America/New_York:20260506T200000
DTSTAMP:20260420T055936
CREATED:20260127T004916Z
LAST-MODIFIED:20260127T004917Z
UID:10006864-1778094000-1778097600@hisvineyard.com
SUMMARY:Toddlers
DESCRIPTION:
URL:https://hisvineyard.com/event/toddlers-2/2026-05-06/
CATEGORIES:Bibe Study / Fellowship,Childrens Ministry
ORGANIZER;CN="Hillary Thompson - Nursery Director":MAILTO:hutcheson.hillary@gmail.com
END:VEVENT
BEGIN:VEVENT
DTSTART;TZID=America/New_York:20260506T190000
DTEND;TZID=America/New_York:20260506T200000
DTSTAMP:20260420T055936
CREATED:20260405T014140Z
LAST-MODIFIED:20260405T020303Z
UID:10007964-1778094000-1778097600@hisvineyard.com
SUMMARY:Wednesday Night Prayer Meeting - Reading of the Book of Revelations
DESCRIPTION:Receive the Revelation Blessing as Pastor Keith reads the book of Revelations aloud from the Amplified Bible.
URL:https://hisvineyard.com/event/wednesday-night-prayer-meeting-2-2/2026-05-06/
LOCATION:Church Atrium\, 656 Arlington Road\, Greer\, SC\, 29650\, United States
CATEGORIES:Bibe Study / Fellowship,Special Events
END:VEVENT
BEGIN:VEVENT
DTSTART;TZID=America/New_York:20260512T060000
DTEND;TZID=America/New_York:20260512T070000
DTSTAMP:20260420T055936
CREATED:20251202T135140Z
LAST-MODIFIED:20251211T130526Z
UID:10007486-1778565600-1778569200@hisvineyard.com
SUMMARY:Gideons Army
DESCRIPTION:
URL:https://hisvineyard.com/event/gideons-army-76/2026-05-12/
LOCATION:The Gap – Church Office\, 120 Sizemore Street\, Greer\, SC\, 29651\, United States
CATEGORIES:Bibe Study / Fellowship
ORGANIZER;CN="Fred Fuller":MAILTO:ffuller55@gmail.com
END:VEVENT
BEGIN:VEVENT
DTSTART;TZID=America/New_York:20260513T190000
DTEND;TZID=America/New_York:20260513T200000
DTSTAMP:20260420T055936
CREATED:20260127T004329Z
LAST-MODIFIED:20260127T004330Z
UID:10005555-1778698800-1778702400@hisvineyard.com
SUMMARY:Youth Group
DESCRIPTION:
URL:https://hisvineyard.com/event/youth-group-2/2026-05-13/
LOCATION:Worship Center
CATEGORIES:Bibe Study / Fellowship,Youth Groups
ORGANIZER;CN="Derek Henderson - Youth Pastor":MAILTO:derekh1981@gmail.com
END:VEVENT
BEGIN:VEVENT
DTSTART;TZID=America/New_York:20260513T190000
DTEND;TZID=America/New_York:20260513T200000
DTSTAMP:20260420T055936
CREATED:20260127T004523Z
LAST-MODIFIED:20260127T004524Z
UID:10005817-1778698800-1778702400@hisvineyard.com
SUMMARY:Kids Vineyard
DESCRIPTION:
URL:https://hisvineyard.com/event/kids-vineyard-152/2026-05-13/
LOCATION:Kids Vineyard Room
CATEGORIES:Bibe Study / Fellowship,Childrens Ministry
END:VEVENT
BEGIN:VEVENT
DTSTART;TZID=America/New_York:20260513T190000
DTEND;TZID=America/New_York:20260513T200000
DTSTAMP:20260420T055936
CREATED:20260127T004721Z
LAST-MODIFIED:20260127T004722Z
UID:10006078-1778698800-1778702400@hisvineyard.com
SUMMARY:Preschool
DESCRIPTION:
URL:https://hisvineyard.com/event/preschool-2/2026-05-13/
CATEGORIES:Bibe Study / Fellowship,Childrens Ministry
ORGANIZER;CN="Nikki Piper - Preschool Director":MAILTO:nikkipiperpreschool@gmail.com
END:VEVENT
BEGIN:VEVENT
DTSTART;TZID=America/New_York:20260513T190000
DTEND;TZID=America/New_York:20260513T200000
DTSTAMP:20260420T055936
CREATED:20260127T004801Z
LAST-MODIFIED:20260127T004802Z
UID:10006604-1778698800-1778702400@hisvineyard.com
SUMMARY:Nursery
DESCRIPTION:
URL:https://hisvineyard.com/event/nursery-2/2026-05-13/
LOCATION:Nursery – Little Vines
CATEGORIES:Bibe Study / Fellowship,Childrens Ministry
ORGANIZER;CN="Hillary Thompson - Nursery Director":MAILTO:hutcheson.hillary@gmail.com
END:VEVENT
BEGIN:VEVENT
DTSTART;TZID=America/New_York:20260513T190000
DTEND;TZID=America/New_York:20260513T200000
DTSTAMP:20260420T055936
CREATED:20260127T004916Z
LAST-MODIFIED:20260127T004917Z
UID:10006865-1778698800-1778702400@hisvineyard.com
SUMMARY:Toddlers
DESCRIPTION:
URL:https://hisvineyard.com/event/toddlers-2/2026-05-13/
CATEGORIES:Bibe Study / Fellowship,Childrens Ministry
ORGANIZER;CN="Hillary Thompson - Nursery Director":MAILTO:hutcheson.hillary@gmail.com
END:VEVENT
BEGIN:VEVENT
DTSTART;TZID=America/New_York:20260513T190000
DTEND;TZID=America/New_York:20260513T200000
DTSTAMP:20260420T055936
CREATED:20260405T014140Z
LAST-MODIFIED:20260405T020303Z
UID:10007965-1778698800-1778702400@hisvineyard.com
SUMMARY:Wednesday Night Prayer Meeting - Reading of the Book of Revelations
DESCRIPTION:Receive the Revelation Blessing as Pastor Keith reads the book of Revelations aloud from the Amplified Bible.
URL:https://hisvineyard.com/event/wednesday-night-prayer-meeting-2-2/2026-05-13/
LOCATION:Church Atrium\, 656 Arlington Road\, Greer\, SC\, 29650\, United States
CATEGORIES:Bibe Study / Fellowship,Special Events
END:VEVENT
BEGIN:VEVENT
DTSTART;TZID=America/New_York:20260519T060000
DTEND;TZID=America/New_York:20260519T070000
DTSTAMP:20260420T055936
CREATED:20251202T135140Z
LAST-MODIFIED:20251211T130526Z
UID:10007487-1779170400-1779174000@hisvineyard.com
SUMMARY:Gideons Army
DESCRIPTION:
URL:https://hisvineyard.com/event/gideons-army-76/2026-05-19/
LOCATION:The Gap – Church Office\, 120 Sizemore Street\, Greer\, SC\, 29651\, United States
CATEGORIES:Bibe Study / Fellowship
ORGANIZER;CN="Fred Fuller":MAILTO:ffuller55@gmail.com
END:VEVENT
BEGIN:VEVENT
DTSTART;TZID=America/New_York:20260520T190000
DTEND;TZID=America/New_York:20260520T200000
DTSTAMP:20260420T055936
CREATED:20260127T004329Z
LAST-MODIFIED:20260127T004330Z
UID:10005556-1779303600-1779307200@hisvineyard.com
SUMMARY:Youth Group
DESCRIPTION:
URL:https://hisvineyard.com/event/youth-group-2/2026-05-20/
LOCATION:Worship Center
CATEGORIES:Bibe Study / Fellowship,Youth Groups
ORGANIZER;CN="Derek Henderson - Youth Pastor":MAILTO:derekh1981@gmail.com
END:VEVENT
BEGIN:VEVENT
DTSTART;TZID=America/New_York:20260520T190000
DTEND;TZID=America/New_York:20260520T200000
DTSTAMP:20260420T055936
CREATED:20260127T004523Z
LAST-MODIFIED:20260127T004524Z
UID:10005818-1779303600-1779307200@hisvineyard.com
SUMMARY:Kids Vineyard
DESCRIPTION:
URL:https://hisvineyard.com/event/kids-vineyard-152/2026-05-20/
LOCATION:Kids Vineyard Room
CATEGORIES:Bibe Study / Fellowship,Childrens Ministry
END:VEVENT
BEGIN:VEVENT
DTSTART;TZID=America/New_York:20260520T190000
DTEND;TZID=America/New_York:20260520T200000
DTSTAMP:20260420T055936
CREATED:20260127T004721Z
LAST-MODIFIED:20260127T004722Z
UID:10006079-1779303600-1779307200@hisvineyard.com
SUMMARY:Preschool
DESCRIPTION:
URL:https://hisvineyard.com/event/preschool-2/2026-05-20/
CATEGORIES:Bibe Study / Fellowship,Childrens Ministry
ORGANIZER;CN="Nikki Piper - Preschool Director":MAILTO:nikkipiperpreschool@gmail.com
END:VEVENT
BEGIN:VEVENT
DTSTART;TZID=America/New_York:20260520T190000
DTEND;TZID=America/New_York:20260520T200000
DTSTAMP:20260420T055936
CREATED:20260127T004801Z
LAST-MODIFIED:20260127T004802Z
UID:10006605-1779303600-1779307200@hisvineyard.com
SUMMARY:Nursery
DESCRIPTION:
URL:https://hisvineyard.com/event/nursery-2/2026-05-20/
LOCATION:Nursery – Little Vines
CATEGORIES:Bibe Study / Fellowship,Childrens Ministry
ORGANIZER;CN="Hillary Thompson - Nursery Director":MAILTO:hutcheson.hillary@gmail.com
END:VEVENT
BEGIN:VEVENT
DTSTART;TZID=America/New_York:20260520T190000
DTEND;TZID=America/New_York:20260520T200000
DTSTAMP:20260420T055936
CREATED:20260127T004916Z
LAST-MODIFIED:20260127T004917Z
UID:10006866-1779303600-1779307200@hisvineyard.com
SUMMARY:Toddlers
DESCRIPTION:
URL:https://hisvineyard.com/event/toddlers-2/2026-05-20/
CATEGORIES:Bibe Study / Fellowship,Childrens Ministry
ORGANIZER;CN="Hillary Thompson - Nursery Director":MAILTO:hutcheson.hillary@gmail.com
END:VEVENT
BEGIN:VEVENT
DTSTART;TZID=America/New_York:20260520T190000
DTEND;TZID=America/New_York:20260520T200000
DTSTAMP:20260420T055936
CREATED:20260405T014140Z
LAST-MODIFIED:20260405T020303Z
UID:10007966-1779303600-1779307200@hisvineyard.com
SUMMARY:Wednesday Night Prayer Meeting - Reading of the Book of Revelations
DESCRIPTION:Receive the Revelation Blessing as Pastor Keith reads the book of Revelations aloud from the Amplified Bible.
URL:https://hisvineyard.com/event/wednesday-night-prayer-meeting-2-2/2026-05-20/
LOCATION:Church Atrium\, 656 Arlington Road\, Greer\, SC\, 29650\, United States
CATEGORIES:Bibe Study / Fellowship,Special Events
END:VEVENT
BEGIN:VEVENT
DTSTART;TZID=America/New_York:20260526T060000
DTEND;TZID=America/New_York:20260526T070000
DTSTAMP:20260420T055936
CREATED:20251202T135140Z
LAST-MODIFIED:20251211T130526Z
UID:10007488-1779775200-1779778800@hisvineyard.com
SUMMARY:Gideons Army
DESCRIPTION:
URL:https://hisvineyard.com/event/gideons-army-76/2026-05-26/
LOCATION:The Gap – Church Office\, 120 Sizemore Street\, Greer\, SC\, 29651\, United States
CATEGORIES:Bibe Study / Fellowship
ORGANIZER;CN="Fred Fuller":MAILTO:ffuller55@gmail.com
END:VEVENT
BEGIN:VEVENT
DTSTART;TZID=America/New_York:20260527T190000
DTEND;TZID=America/New_York:20260527T200000
DTSTAMP:20260420T055936
CREATED:20260127T004329Z
LAST-MODIFIED:20260127T004330Z
UID:10005557-1779908400-1779912000@hisvineyard.com
SUMMARY:Youth Group
DESCRIPTION:
URL:https://hisvineyard.com/event/youth-group-2/2026-05-27/
LOCATION:Worship Center
CATEGORIES:Bibe Study / Fellowship,Youth Groups
ORGANIZER;CN="Derek Henderson - Youth Pastor":MAILTO:derekh1981@gmail.com
END:VEVENT
BEGIN:VEVENT
DTSTART;TZID=America/New_York:20260527T190000
DTEND;TZID=America/New_York:20260527T200000
DTSTAMP:20260420T055936
CREATED:20260127T004523Z
LAST-MODIFIED:20260127T004524Z
UID:10005819-1779908400-1779912000@hisvineyard.com
SUMMARY:Kids Vineyard
DESCRIPTION:
URL:https://hisvineyard.com/event/kids-vineyard-152/2026-05-27/
LOCATION:Kids Vineyard Room
CATEGORIES:Bibe Study / Fellowship,Childrens Ministry
END:VEVENT
BEGIN:VEVENT
DTSTART;TZID=America/New_York:20260527T190000
DTEND;TZID=America/New_York:20260527T200000
DTSTAMP:20260420T055936
CREATED:20260127T004721Z
LAST-MODIFIED:20260127T004722Z
UID:10006080-1779908400-1779912000@hisvineyard.com
SUMMARY:Preschool
DESCRIPTION:
URL:https://hisvineyard.com/event/preschool-2/2026-05-27/
CATEGORIES:Bibe Study / Fellowship,Childrens Ministry
ORGANIZER;CN="Nikki Piper - Preschool Director":MAILTO:nikkipiperpreschool@gmail.com
END:VEVENT
BEGIN:VEVENT
DTSTART;TZID=America/New_York:20260527T190000
DTEND;TZID=America/New_York:20260527T200000
DTSTAMP:20260420T055936
CREATED:20260127T004801Z
LAST-MODIFIED:20260127T004802Z
UID:10006606-1779908400-1779912000@hisvineyard.com
SUMMARY:Nursery
DESCRIPTION:
URL:https://hisvineyard.com/event/nursery-2/2026-05-27/
LOCATION:Nursery – Little Vines
CATEGORIES:Bibe Study / Fellowship,Childrens Ministry
ORGANIZER;CN="Hillary Thompson - Nursery Director":MAILTO:hutcheson.hillary@gmail.com
END:VEVENT
BEGIN:VEVENT
DTSTART;TZID=America/New_York:20260527T190000
DTEND;TZID=America/New_York:20260527T200000
DTSTAMP:20260420T055936
CREATED:20260127T004916Z
LAST-MODIFIED:20260127T004917Z
UID:10006867-1779908400-1779912000@hisvineyard.com
SUMMARY:Toddlers
DESCRIPTION:
URL:https://hisvineyard.com/event/toddlers-2/2026-05-27/
CATEGORIES:Bibe Study / Fellowship,Childrens Ministry
ORGANIZER;CN="Hillary Thompson - Nursery Director":MAILTO:hutcheson.hillary@gmail.com
END:VEVENT
BEGIN:VEVENT
DTSTART;TZID=America/New_York:20260527T190000
DTEND;TZID=America/New_York:20260527T200000
DTSTAMP:20260420T055936
CREATED:20260405T014140Z
LAST-MODIFIED:20260405T020303Z
UID:10007967-1779908400-1779912000@hisvineyard.com
SUMMARY:Wednesday Night Prayer Meeting - Reading of the Book of Revelations
DESCRIPTION:Receive the Revelation Blessing as Pastor Keith reads the book of Revelations aloud from the Amplified Bible.
URL:https://hisvineyard.com/event/wednesday-night-prayer-meeting-2-2/2026-05-27/
LOCATION:Church Atrium\, 656 Arlington Road\, Greer\, SC\, 29650\, United States
CATEGORIES:Bibe Study / Fellowship,Special Events
END:VEVENT
END:VCALENDAR