BEGIN:VCALENDAR
VERSION:2.0
PRODID:-//His Vineyard - ECPv6.15.20//NONSGML v1.0//EN
CALSCALE:GREGORIAN
METHOD:PUBLISH
X-ORIGINAL-URL:https://hisvineyard.com
X-WR-CALDESC:Events for His Vineyard
REFRESH-INTERVAL;VALUE=DURATION:PT1H
X-Robots-Tag:noindex
X-PUBLISHED-TTL:PT1H
BEGIN:VTIMEZONE
TZID:America/New_York
BEGIN:DAYLIGHT
TZOFFSETFROM:-0500
TZOFFSETTO:-0400
TZNAME:EDT
DTSTART:20260308T070000
END:DAYLIGHT
BEGIN:STANDARD
TZOFFSETFROM:-0400
TZOFFSETTO:-0500
TZNAME:EST
DTSTART:20261101T060000
END:STANDARD
BEGIN:DAYLIGHT
TZOFFSETFROM:-0500
TZOFFSETTO:-0400
TZNAME:EDT
DTSTART:20270314T070000
END:DAYLIGHT
BEGIN:STANDARD
TZOFFSETFROM:-0400
TZOFFSETTO:-0500
TZNAME:EST
DTSTART:20271107T060000
END:STANDARD
BEGIN:DAYLIGHT
TZOFFSETFROM:-0500
TZOFFSETTO:-0400
TZNAME:EDT
DTSTART:20280312T070000
END:DAYLIGHT
BEGIN:STANDARD
TZOFFSETFROM:-0400
TZOFFSETTO:-0500
TZNAME:EST
DTSTART:20281105T060000
END:STANDARD
END:VTIMEZONE
BEGIN:VEVENT
DTSTART;TZID=America/New_York:20270706T060000
DTEND;TZID=America/New_York:20270706T070000
DTSTAMP:20260421T040448
CREATED:20251202T135140Z
LAST-MODIFIED:20251211T130526Z
UID:10007546-1814853600-1814857200@hisvineyard.com
SUMMARY:Gideons Army
DESCRIPTION:
URL:https://hisvineyard.com/event/gideons-army-76/2027-07-06/
LOCATION:The Gap – Church Office\, 120 Sizemore Street\, Greer\, SC\, 29651\, United States
CATEGORIES:Bibe Study / Fellowship
ORGANIZER;CN="Fred Fuller":MAILTO:ffuller55@gmail.com
END:VEVENT
BEGIN:VEVENT
DTSTART;TZID=America/New_York:20270707T190000
DTEND;TZID=America/New_York:20270707T200000
DTSTAMP:20260421T040448
CREATED:20260127T004329Z
LAST-MODIFIED:20260127T004330Z
UID:10005615-1814986800-1814990400@hisvineyard.com
SUMMARY:Youth Group
DESCRIPTION:
URL:https://hisvineyard.com/event/youth-group-2/2027-07-07/
LOCATION:Worship Center
CATEGORIES:Bibe Study / Fellowship,Youth Groups
ORGANIZER;CN="Derek Henderson - Youth Pastor":MAILTO:derekh1981@gmail.com
END:VEVENT
BEGIN:VEVENT
DTSTART;TZID=America/New_York:20270707T190000
DTEND;TZID=America/New_York:20270707T200000
DTSTAMP:20260421T040448
CREATED:20260127T004523Z
LAST-MODIFIED:20260127T004524Z
UID:10005877-1814986800-1814990400@hisvineyard.com
SUMMARY:Kids Vineyard
DESCRIPTION:
URL:https://hisvineyard.com/event/kids-vineyard-152/2027-07-07/
LOCATION:Kids Vineyard Room
CATEGORIES:Bibe Study / Fellowship,Childrens Ministry
END:VEVENT
BEGIN:VEVENT
DTSTART;TZID=America/New_York:20270707T190000
DTEND;TZID=America/New_York:20270707T200000
DTSTAMP:20260421T040448
CREATED:20260127T004721Z
LAST-MODIFIED:20260127T004722Z
UID:10006138-1814986800-1814990400@hisvineyard.com
SUMMARY:Preschool
DESCRIPTION:
URL:https://hisvineyard.com/event/preschool-2/2027-07-07/
CATEGORIES:Bibe Study / Fellowship,Childrens Ministry
ORGANIZER;CN="Nikki Piper - Preschool Director":MAILTO:nikkipiperpreschool@gmail.com
END:VEVENT
BEGIN:VEVENT
DTSTART;TZID=America/New_York:20270707T190000
DTEND;TZID=America/New_York:20270707T200000
DTSTAMP:20260421T040448
CREATED:20260127T004801Z
LAST-MODIFIED:20260127T004802Z
UID:10006664-1814986800-1814990400@hisvineyard.com
SUMMARY:Nursery
DESCRIPTION:
URL:https://hisvineyard.com/event/nursery-2/2027-07-07/
LOCATION:Nursery – Little Vines
CATEGORIES:Bibe Study / Fellowship,Childrens Ministry
ORGANIZER;CN="Hillary Thompson - Nursery Director":MAILTO:hutcheson.hillary@gmail.com
END:VEVENT
BEGIN:VEVENT
DTSTART;TZID=America/New_York:20270707T190000
DTEND;TZID=America/New_York:20270707T200000
DTSTAMP:20260421T040448
CREATED:20260127T004916Z
LAST-MODIFIED:20260127T004917Z
UID:10006925-1814986800-1814990400@hisvineyard.com
SUMMARY:Toddlers
DESCRIPTION:
URL:https://hisvineyard.com/event/toddlers-2/2027-07-07/
CATEGORIES:Bibe Study / Fellowship,Childrens Ministry
ORGANIZER;CN="Hillary Thompson - Nursery Director":MAILTO:hutcheson.hillary@gmail.com
END:VEVENT
BEGIN:VEVENT
DTSTART;TZID=America/New_York:20270707T190000
DTEND;TZID=America/New_York:20270707T200000
DTSTAMP:20260421T040448
CREATED:20260127T005020Z
LAST-MODIFIED:20260405T020425Z
UID:10007188-1814986800-1814990400@hisvineyard.com
SUMMARY:Wednesday Night Prayer Meeting
DESCRIPTION:
URL:https://hisvineyard.com/event/wednesday-night-prayer-meeting-2/2027-07-07/
LOCATION:Youth Room – Prayer meeting room
CATEGORIES:Bibe Study / Fellowship
END:VEVENT
BEGIN:VEVENT
DTSTART;TZID=America/New_York:20270713T060000
DTEND;TZID=America/New_York:20270713T070000
DTSTAMP:20260421T040448
CREATED:20251202T135140Z
LAST-MODIFIED:20251211T130526Z
UID:10007547-1815458400-1815462000@hisvineyard.com
SUMMARY:Gideons Army
DESCRIPTION:
URL:https://hisvineyard.com/event/gideons-army-76/2027-07-13/
LOCATION:The Gap – Church Office\, 120 Sizemore Street\, Greer\, SC\, 29651\, United States
CATEGORIES:Bibe Study / Fellowship
ORGANIZER;CN="Fred Fuller":MAILTO:ffuller55@gmail.com
END:VEVENT
BEGIN:VEVENT
DTSTART;TZID=America/New_York:20270714T190000
DTEND;TZID=America/New_York:20270714T200000
DTSTAMP:20260421T040448
CREATED:20260127T004329Z
LAST-MODIFIED:20260127T004330Z
UID:10005616-1815591600-1815595200@hisvineyard.com
SUMMARY:Youth Group
DESCRIPTION:
URL:https://hisvineyard.com/event/youth-group-2/2027-07-14/
LOCATION:Worship Center
CATEGORIES:Bibe Study / Fellowship,Youth Groups
ORGANIZER;CN="Derek Henderson - Youth Pastor":MAILTO:derekh1981@gmail.com
END:VEVENT
BEGIN:VEVENT
DTSTART;TZID=America/New_York:20270714T190000
DTEND;TZID=America/New_York:20270714T200000
DTSTAMP:20260421T040448
CREATED:20260127T004523Z
LAST-MODIFIED:20260127T004524Z
UID:10005878-1815591600-1815595200@hisvineyard.com
SUMMARY:Kids Vineyard
DESCRIPTION:
URL:https://hisvineyard.com/event/kids-vineyard-152/2027-07-14/
LOCATION:Kids Vineyard Room
CATEGORIES:Bibe Study / Fellowship,Childrens Ministry
END:VEVENT
BEGIN:VEVENT
DTSTART;TZID=America/New_York:20270714T190000
DTEND;TZID=America/New_York:20270714T200000
DTSTAMP:20260421T040448
CREATED:20260127T004721Z
LAST-MODIFIED:20260127T004722Z
UID:10006139-1815591600-1815595200@hisvineyard.com
SUMMARY:Preschool
DESCRIPTION:
URL:https://hisvineyard.com/event/preschool-2/2027-07-14/
CATEGORIES:Bibe Study / Fellowship,Childrens Ministry
ORGANIZER;CN="Nikki Piper - Preschool Director":MAILTO:nikkipiperpreschool@gmail.com
END:VEVENT
BEGIN:VEVENT
DTSTART;TZID=America/New_York:20270714T190000
DTEND;TZID=America/New_York:20270714T200000
DTSTAMP:20260421T040448
CREATED:20260127T004801Z
LAST-MODIFIED:20260127T004802Z
UID:10006665-1815591600-1815595200@hisvineyard.com
SUMMARY:Nursery
DESCRIPTION:
URL:https://hisvineyard.com/event/nursery-2/2027-07-14/
LOCATION:Nursery – Little Vines
CATEGORIES:Bibe Study / Fellowship,Childrens Ministry
ORGANIZER;CN="Hillary Thompson - Nursery Director":MAILTO:hutcheson.hillary@gmail.com
END:VEVENT
BEGIN:VEVENT
DTSTART;TZID=America/New_York:20270714T190000
DTEND;TZID=America/New_York:20270714T200000
DTSTAMP:20260421T040448
CREATED:20260127T004916Z
LAST-MODIFIED:20260127T004917Z
UID:10006926-1815591600-1815595200@hisvineyard.com
SUMMARY:Toddlers
DESCRIPTION:
URL:https://hisvineyard.com/event/toddlers-2/2027-07-14/
CATEGORIES:Bibe Study / Fellowship,Childrens Ministry
ORGANIZER;CN="Hillary Thompson - Nursery Director":MAILTO:hutcheson.hillary@gmail.com
END:VEVENT
BEGIN:VEVENT
DTSTART;TZID=America/New_York:20270714T190000
DTEND;TZID=America/New_York:20270714T200000
DTSTAMP:20260421T040448
CREATED:20260127T005020Z
LAST-MODIFIED:20260405T020425Z
UID:10007189-1815591600-1815595200@hisvineyard.com
SUMMARY:Wednesday Night Prayer Meeting
DESCRIPTION:
URL:https://hisvineyard.com/event/wednesday-night-prayer-meeting-2/2027-07-14/
LOCATION:Youth Room – Prayer meeting room
CATEGORIES:Bibe Study / Fellowship
END:VEVENT
BEGIN:VEVENT
DTSTART;TZID=America/New_York:20270720T060000
DTEND;TZID=America/New_York:20270720T070000
DTSTAMP:20260421T040448
CREATED:20251202T135140Z
LAST-MODIFIED:20251211T130526Z
UID:10007548-1816063200-1816066800@hisvineyard.com
SUMMARY:Gideons Army
DESCRIPTION:
URL:https://hisvineyard.com/event/gideons-army-76/2027-07-20/
LOCATION:The Gap – Church Office\, 120 Sizemore Street\, Greer\, SC\, 29651\, United States
CATEGORIES:Bibe Study / Fellowship
ORGANIZER;CN="Fred Fuller":MAILTO:ffuller55@gmail.com
END:VEVENT
BEGIN:VEVENT
DTSTART;TZID=America/New_York:20270721T190000
DTEND;TZID=America/New_York:20270721T200000
DTSTAMP:20260421T040448
CREATED:20260127T004329Z
LAST-MODIFIED:20260127T004330Z
UID:10005617-1816196400-1816200000@hisvineyard.com
SUMMARY:Youth Group
DESCRIPTION:
URL:https://hisvineyard.com/event/youth-group-2/2027-07-21/
LOCATION:Worship Center
CATEGORIES:Bibe Study / Fellowship,Youth Groups
ORGANIZER;CN="Derek Henderson - Youth Pastor":MAILTO:derekh1981@gmail.com
END:VEVENT
BEGIN:VEVENT
DTSTART;TZID=America/New_York:20270721T190000
DTEND;TZID=America/New_York:20270721T200000
DTSTAMP:20260421T040448
CREATED:20260127T004523Z
LAST-MODIFIED:20260127T004524Z
UID:10005879-1816196400-1816200000@hisvineyard.com
SUMMARY:Kids Vineyard
DESCRIPTION:
URL:https://hisvineyard.com/event/kids-vineyard-152/2027-07-21/
LOCATION:Kids Vineyard Room
CATEGORIES:Bibe Study / Fellowship,Childrens Ministry
END:VEVENT
BEGIN:VEVENT
DTSTART;TZID=America/New_York:20270721T190000
DTEND;TZID=America/New_York:20270721T200000
DTSTAMP:20260421T040448
CREATED:20260127T004721Z
LAST-MODIFIED:20260127T004722Z
UID:10006140-1816196400-1816200000@hisvineyard.com
SUMMARY:Preschool
DESCRIPTION:
URL:https://hisvineyard.com/event/preschool-2/2027-07-21/
CATEGORIES:Bibe Study / Fellowship,Childrens Ministry
ORGANIZER;CN="Nikki Piper - Preschool Director":MAILTO:nikkipiperpreschool@gmail.com
END:VEVENT
BEGIN:VEVENT
DTSTART;TZID=America/New_York:20270721T190000
DTEND;TZID=America/New_York:20270721T200000
DTSTAMP:20260421T040448
CREATED:20260127T004801Z
LAST-MODIFIED:20260127T004802Z
UID:10006666-1816196400-1816200000@hisvineyard.com
SUMMARY:Nursery
DESCRIPTION:
URL:https://hisvineyard.com/event/nursery-2/2027-07-21/
LOCATION:Nursery – Little Vines
CATEGORIES:Bibe Study / Fellowship,Childrens Ministry
ORGANIZER;CN="Hillary Thompson - Nursery Director":MAILTO:hutcheson.hillary@gmail.com
END:VEVENT
BEGIN:VEVENT
DTSTART;TZID=America/New_York:20270721T190000
DTEND;TZID=America/New_York:20270721T200000
DTSTAMP:20260421T040448
CREATED:20260127T004916Z
LAST-MODIFIED:20260127T004917Z
UID:10006927-1816196400-1816200000@hisvineyard.com
SUMMARY:Toddlers
DESCRIPTION:
URL:https://hisvineyard.com/event/toddlers-2/2027-07-21/
CATEGORIES:Bibe Study / Fellowship,Childrens Ministry
ORGANIZER;CN="Hillary Thompson - Nursery Director":MAILTO:hutcheson.hillary@gmail.com
END:VEVENT
BEGIN:VEVENT
DTSTART;TZID=America/New_York:20270721T190000
DTEND;TZID=America/New_York:20270721T200000
DTSTAMP:20260421T040448
CREATED:20260127T005020Z
LAST-MODIFIED:20260405T020425Z
UID:10007190-1816196400-1816200000@hisvineyard.com
SUMMARY:Wednesday Night Prayer Meeting
DESCRIPTION:
URL:https://hisvineyard.com/event/wednesday-night-prayer-meeting-2/2027-07-21/
LOCATION:Youth Room – Prayer meeting room
CATEGORIES:Bibe Study / Fellowship
END:VEVENT
BEGIN:VEVENT
DTSTART;TZID=America/New_York:20270727T060000
DTEND;TZID=America/New_York:20270727T070000
DTSTAMP:20260421T040448
CREATED:20251202T135140Z
LAST-MODIFIED:20251211T130526Z
UID:10007549-1816668000-1816671600@hisvineyard.com
SUMMARY:Gideons Army
DESCRIPTION:
URL:https://hisvineyard.com/event/gideons-army-76/2027-07-27/
LOCATION:The Gap – Church Office\, 120 Sizemore Street\, Greer\, SC\, 29651\, United States
CATEGORIES:Bibe Study / Fellowship
ORGANIZER;CN="Fred Fuller":MAILTO:ffuller55@gmail.com
END:VEVENT
BEGIN:VEVENT
DTSTART;TZID=America/New_York:20270728T190000
DTEND;TZID=America/New_York:20270728T200000
DTSTAMP:20260421T040448
CREATED:20260127T004329Z
LAST-MODIFIED:20260127T004330Z
UID:10005618-1816801200-1816804800@hisvineyard.com
SUMMARY:Youth Group
DESCRIPTION:
URL:https://hisvineyard.com/event/youth-group-2/2027-07-28/
LOCATION:Worship Center
CATEGORIES:Bibe Study / Fellowship,Youth Groups
ORGANIZER;CN="Derek Henderson - Youth Pastor":MAILTO:derekh1981@gmail.com
END:VEVENT
BEGIN:VEVENT
DTSTART;TZID=America/New_York:20270728T190000
DTEND;TZID=America/New_York:20270728T200000
DTSTAMP:20260421T040448
CREATED:20260127T004523Z
LAST-MODIFIED:20260127T004524Z
UID:10005880-1816801200-1816804800@hisvineyard.com
SUMMARY:Kids Vineyard
DESCRIPTION:
URL:https://hisvineyard.com/event/kids-vineyard-152/2027-07-28/
LOCATION:Kids Vineyard Room
CATEGORIES:Bibe Study / Fellowship,Childrens Ministry
END:VEVENT
BEGIN:VEVENT
DTSTART;TZID=America/New_York:20270728T190000
DTEND;TZID=America/New_York:20270728T200000
DTSTAMP:20260421T040448
CREATED:20260127T004721Z
LAST-MODIFIED:20260127T004722Z
UID:10006141-1816801200-1816804800@hisvineyard.com
SUMMARY:Preschool
DESCRIPTION:
URL:https://hisvineyard.com/event/preschool-2/2027-07-28/
CATEGORIES:Bibe Study / Fellowship,Childrens Ministry
ORGANIZER;CN="Nikki Piper - Preschool Director":MAILTO:nikkipiperpreschool@gmail.com
END:VEVENT
BEGIN:VEVENT
DTSTART;TZID=America/New_York:20270728T190000
DTEND;TZID=America/New_York:20270728T200000
DTSTAMP:20260421T040448
CREATED:20260127T004801Z
LAST-MODIFIED:20260127T004802Z
UID:10006667-1816801200-1816804800@hisvineyard.com
SUMMARY:Nursery
DESCRIPTION:
URL:https://hisvineyard.com/event/nursery-2/2027-07-28/
LOCATION:Nursery – Little Vines
CATEGORIES:Bibe Study / Fellowship,Childrens Ministry
ORGANIZER;CN="Hillary Thompson - Nursery Director":MAILTO:hutcheson.hillary@gmail.com
END:VEVENT
BEGIN:VEVENT
DTSTART;TZID=America/New_York:20270728T190000
DTEND;TZID=America/New_York:20270728T200000
DTSTAMP:20260421T040448
CREATED:20260127T004916Z
LAST-MODIFIED:20260127T004917Z
UID:10006928-1816801200-1816804800@hisvineyard.com
SUMMARY:Toddlers
DESCRIPTION:
URL:https://hisvineyard.com/event/toddlers-2/2027-07-28/
CATEGORIES:Bibe Study / Fellowship,Childrens Ministry
ORGANIZER;CN="Hillary Thompson - Nursery Director":MAILTO:hutcheson.hillary@gmail.com
END:VEVENT
BEGIN:VEVENT
DTSTART;TZID=America/New_York:20270728T190000
DTEND;TZID=America/New_York:20270728T200000
DTSTAMP:20260421T040448
CREATED:20260127T005020Z
LAST-MODIFIED:20260405T020425Z
UID:10007191-1816801200-1816804800@hisvineyard.com
SUMMARY:Wednesday Night Prayer Meeting
DESCRIPTION:
URL:https://hisvineyard.com/event/wednesday-night-prayer-meeting-2/2027-07-28/
LOCATION:Youth Room – Prayer meeting room
CATEGORIES:Bibe Study / Fellowship
END:VEVENT
END:VCALENDAR