BEGIN:VCALENDAR
VERSION:2.0
PRODID:-//His Vineyard - ECPv6.15.20//NONSGML v1.0//EN
CALSCALE:GREGORIAN
METHOD:PUBLISH
X-ORIGINAL-URL:https://hisvineyard.com
X-WR-CALDESC:Events for His Vineyard
REFRESH-INTERVAL;VALUE=DURATION:PT1H
X-Robots-Tag:noindex
X-PUBLISHED-TTL:PT1H
BEGIN:VTIMEZONE
TZID:America/New_York
BEGIN:DAYLIGHT
TZOFFSETFROM:-0500
TZOFFSETTO:-0400
TZNAME:EDT
DTSTART:20260308T070000
END:DAYLIGHT
BEGIN:STANDARD
TZOFFSETFROM:-0400
TZOFFSETTO:-0500
TZNAME:EST
DTSTART:20261101T060000
END:STANDARD
BEGIN:DAYLIGHT
TZOFFSETFROM:-0500
TZOFFSETTO:-0400
TZNAME:EDT
DTSTART:20270314T070000
END:DAYLIGHT
BEGIN:STANDARD
TZOFFSETFROM:-0400
TZOFFSETTO:-0500
TZNAME:EST
DTSTART:20271107T060000
END:STANDARD
BEGIN:DAYLIGHT
TZOFFSETFROM:-0500
TZOFFSETTO:-0400
TZNAME:EDT
DTSTART:20280312T070000
END:DAYLIGHT
BEGIN:STANDARD
TZOFFSETFROM:-0400
TZOFFSETTO:-0500
TZNAME:EST
DTSTART:20281105T060000
END:STANDARD
END:VTIMEZONE
BEGIN:VEVENT
DTSTART;TZID=America/New_York:20270803T060000
DTEND;TZID=America/New_York:20270803T070000
DTSTAMP:20260421T053632
CREATED:20251202T135140Z
LAST-MODIFIED:20251211T130526Z
UID:10007550-1817272800-1817276400@hisvineyard.com
SUMMARY:Gideons Army
DESCRIPTION:
URL:https://hisvineyard.com/event/gideons-army-76/2027-08-03/
LOCATION:The Gap – Church Office\, 120 Sizemore Street\, Greer\, SC\, 29651\, United States
CATEGORIES:Bibe Study / Fellowship
ORGANIZER;CN="Fred Fuller":MAILTO:ffuller55@gmail.com
END:VEVENT
BEGIN:VEVENT
DTSTART;TZID=America/New_York:20270804T190000
DTEND;TZID=America/New_York:20270804T200000
DTSTAMP:20260421T053632
CREATED:20260127T004329Z
LAST-MODIFIED:20260127T004330Z
UID:10005619-1817406000-1817409600@hisvineyard.com
SUMMARY:Youth Group
DESCRIPTION:
URL:https://hisvineyard.com/event/youth-group-2/2027-08-04/
LOCATION:Worship Center
CATEGORIES:Bibe Study / Fellowship,Youth Groups
ORGANIZER;CN="Derek Henderson - Youth Pastor":MAILTO:derekh1981@gmail.com
END:VEVENT
BEGIN:VEVENT
DTSTART;TZID=America/New_York:20270804T190000
DTEND;TZID=America/New_York:20270804T200000
DTSTAMP:20260421T053632
CREATED:20260127T004523Z
LAST-MODIFIED:20260127T004524Z
UID:10005881-1817406000-1817409600@hisvineyard.com
SUMMARY:Kids Vineyard
DESCRIPTION:
URL:https://hisvineyard.com/event/kids-vineyard-152/2027-08-04/
LOCATION:Kids Vineyard Room
CATEGORIES:Bibe Study / Fellowship,Childrens Ministry
END:VEVENT
BEGIN:VEVENT
DTSTART;TZID=America/New_York:20270804T190000
DTEND;TZID=America/New_York:20270804T200000
DTSTAMP:20260421T053632
CREATED:20260127T004721Z
LAST-MODIFIED:20260127T004722Z
UID:10006142-1817406000-1817409600@hisvineyard.com
SUMMARY:Preschool
DESCRIPTION:
URL:https://hisvineyard.com/event/preschool-2/2027-08-04/
CATEGORIES:Bibe Study / Fellowship,Childrens Ministry
ORGANIZER;CN="Nikki Piper - Preschool Director":MAILTO:nikkipiperpreschool@gmail.com
END:VEVENT
BEGIN:VEVENT
DTSTART;TZID=America/New_York:20270804T190000
DTEND;TZID=America/New_York:20270804T200000
DTSTAMP:20260421T053632
CREATED:20260127T004801Z
LAST-MODIFIED:20260127T004802Z
UID:10006668-1817406000-1817409600@hisvineyard.com
SUMMARY:Nursery
DESCRIPTION:
URL:https://hisvineyard.com/event/nursery-2/2027-08-04/
LOCATION:Nursery – Little Vines
CATEGORIES:Bibe Study / Fellowship,Childrens Ministry
ORGANIZER;CN="Hillary Thompson - Nursery Director":MAILTO:hutcheson.hillary@gmail.com
END:VEVENT
BEGIN:VEVENT
DTSTART;TZID=America/New_York:20270804T190000
DTEND;TZID=America/New_York:20270804T200000
DTSTAMP:20260421T053632
CREATED:20260127T004916Z
LAST-MODIFIED:20260127T004917Z
UID:10006929-1817406000-1817409600@hisvineyard.com
SUMMARY:Toddlers
DESCRIPTION:
URL:https://hisvineyard.com/event/toddlers-2/2027-08-04/
CATEGORIES:Bibe Study / Fellowship,Childrens Ministry
ORGANIZER;CN="Hillary Thompson - Nursery Director":MAILTO:hutcheson.hillary@gmail.com
END:VEVENT
BEGIN:VEVENT
DTSTART;TZID=America/New_York:20270804T190000
DTEND;TZID=America/New_York:20270804T200000
DTSTAMP:20260421T053632
CREATED:20260127T005020Z
LAST-MODIFIED:20260405T020425Z
UID:10007192-1817406000-1817409600@hisvineyard.com
SUMMARY:Wednesday Night Prayer Meeting
DESCRIPTION:
URL:https://hisvineyard.com/event/wednesday-night-prayer-meeting-2/2027-08-04/
LOCATION:Youth Room – Prayer meeting room
CATEGORIES:Bibe Study / Fellowship
END:VEVENT
BEGIN:VEVENT
DTSTART;TZID=America/New_York:20270810T060000
DTEND;TZID=America/New_York:20270810T070000
DTSTAMP:20260421T053632
CREATED:20251202T135140Z
LAST-MODIFIED:20251211T130526Z
UID:10007551-1817877600-1817881200@hisvineyard.com
SUMMARY:Gideons Army
DESCRIPTION:
URL:https://hisvineyard.com/event/gideons-army-76/2027-08-10/
LOCATION:The Gap – Church Office\, 120 Sizemore Street\, Greer\, SC\, 29651\, United States
CATEGORIES:Bibe Study / Fellowship
ORGANIZER;CN="Fred Fuller":MAILTO:ffuller55@gmail.com
END:VEVENT
BEGIN:VEVENT
DTSTART;TZID=America/New_York:20270811T190000
DTEND;TZID=America/New_York:20270811T200000
DTSTAMP:20260421T053632
CREATED:20260127T004329Z
LAST-MODIFIED:20260127T004330Z
UID:10005620-1818010800-1818014400@hisvineyard.com
SUMMARY:Youth Group
DESCRIPTION:
URL:https://hisvineyard.com/event/youth-group-2/2027-08-11/
LOCATION:Worship Center
CATEGORIES:Bibe Study / Fellowship,Youth Groups
ORGANIZER;CN="Derek Henderson - Youth Pastor":MAILTO:derekh1981@gmail.com
END:VEVENT
BEGIN:VEVENT
DTSTART;TZID=America/New_York:20270811T190000
DTEND;TZID=America/New_York:20270811T200000
DTSTAMP:20260421T053632
CREATED:20260127T004523Z
LAST-MODIFIED:20260127T004524Z
UID:10005882-1818010800-1818014400@hisvineyard.com
SUMMARY:Kids Vineyard
DESCRIPTION:
URL:https://hisvineyard.com/event/kids-vineyard-152/2027-08-11/
LOCATION:Kids Vineyard Room
CATEGORIES:Bibe Study / Fellowship,Childrens Ministry
END:VEVENT
BEGIN:VEVENT
DTSTART;TZID=America/New_York:20270811T190000
DTEND;TZID=America/New_York:20270811T200000
DTSTAMP:20260421T053632
CREATED:20260127T004721Z
LAST-MODIFIED:20260127T004722Z
UID:10006143-1818010800-1818014400@hisvineyard.com
SUMMARY:Preschool
DESCRIPTION:
URL:https://hisvineyard.com/event/preschool-2/2027-08-11/
CATEGORIES:Bibe Study / Fellowship,Childrens Ministry
ORGANIZER;CN="Nikki Piper - Preschool Director":MAILTO:nikkipiperpreschool@gmail.com
END:VEVENT
BEGIN:VEVENT
DTSTART;TZID=America/New_York:20270811T190000
DTEND;TZID=America/New_York:20270811T200000
DTSTAMP:20260421T053632
CREATED:20260127T004801Z
LAST-MODIFIED:20260127T004802Z
UID:10006669-1818010800-1818014400@hisvineyard.com
SUMMARY:Nursery
DESCRIPTION:
URL:https://hisvineyard.com/event/nursery-2/2027-08-11/
LOCATION:Nursery – Little Vines
CATEGORIES:Bibe Study / Fellowship,Childrens Ministry
ORGANIZER;CN="Hillary Thompson - Nursery Director":MAILTO:hutcheson.hillary@gmail.com
END:VEVENT
BEGIN:VEVENT
DTSTART;TZID=America/New_York:20270811T190000
DTEND;TZID=America/New_York:20270811T200000
DTSTAMP:20260421T053632
CREATED:20260127T004916Z
LAST-MODIFIED:20260127T004917Z
UID:10006930-1818010800-1818014400@hisvineyard.com
SUMMARY:Toddlers
DESCRIPTION:
URL:https://hisvineyard.com/event/toddlers-2/2027-08-11/
CATEGORIES:Bibe Study / Fellowship,Childrens Ministry
ORGANIZER;CN="Hillary Thompson - Nursery Director":MAILTO:hutcheson.hillary@gmail.com
END:VEVENT
BEGIN:VEVENT
DTSTART;TZID=America/New_York:20270811T190000
DTEND;TZID=America/New_York:20270811T200000
DTSTAMP:20260421T053632
CREATED:20260127T005020Z
LAST-MODIFIED:20260405T020425Z
UID:10007193-1818010800-1818014400@hisvineyard.com
SUMMARY:Wednesday Night Prayer Meeting
DESCRIPTION:
URL:https://hisvineyard.com/event/wednesday-night-prayer-meeting-2/2027-08-11/
LOCATION:Youth Room – Prayer meeting room
CATEGORIES:Bibe Study / Fellowship
END:VEVENT
BEGIN:VEVENT
DTSTART;TZID=America/New_York:20270817T060000
DTEND;TZID=America/New_York:20270817T070000
DTSTAMP:20260421T053632
CREATED:20251202T135140Z
LAST-MODIFIED:20251211T130526Z
UID:10007552-1818482400-1818486000@hisvineyard.com
SUMMARY:Gideons Army
DESCRIPTION:
URL:https://hisvineyard.com/event/gideons-army-76/2027-08-17/
LOCATION:The Gap – Church Office\, 120 Sizemore Street\, Greer\, SC\, 29651\, United States
CATEGORIES:Bibe Study / Fellowship
ORGANIZER;CN="Fred Fuller":MAILTO:ffuller55@gmail.com
END:VEVENT
BEGIN:VEVENT
DTSTART;TZID=America/New_York:20270818T190000
DTEND;TZID=America/New_York:20270818T200000
DTSTAMP:20260421T053632
CREATED:20260127T004329Z
LAST-MODIFIED:20260127T004330Z
UID:10005621-1818615600-1818619200@hisvineyard.com
SUMMARY:Youth Group
DESCRIPTION:
URL:https://hisvineyard.com/event/youth-group-2/2027-08-18/
LOCATION:Worship Center
CATEGORIES:Bibe Study / Fellowship,Youth Groups
ORGANIZER;CN="Derek Henderson - Youth Pastor":MAILTO:derekh1981@gmail.com
END:VEVENT
BEGIN:VEVENT
DTSTART;TZID=America/New_York:20270818T190000
DTEND;TZID=America/New_York:20270818T200000
DTSTAMP:20260421T053632
CREATED:20260127T004523Z
LAST-MODIFIED:20260127T004524Z
UID:10005883-1818615600-1818619200@hisvineyard.com
SUMMARY:Kids Vineyard
DESCRIPTION:
URL:https://hisvineyard.com/event/kids-vineyard-152/2027-08-18/
LOCATION:Kids Vineyard Room
CATEGORIES:Bibe Study / Fellowship,Childrens Ministry
END:VEVENT
BEGIN:VEVENT
DTSTART;TZID=America/New_York:20270818T190000
DTEND;TZID=America/New_York:20270818T200000
DTSTAMP:20260421T053632
CREATED:20260127T004721Z
LAST-MODIFIED:20260127T004722Z
UID:10006144-1818615600-1818619200@hisvineyard.com
SUMMARY:Preschool
DESCRIPTION:
URL:https://hisvineyard.com/event/preschool-2/2027-08-18/
CATEGORIES:Bibe Study / Fellowship,Childrens Ministry
ORGANIZER;CN="Nikki Piper - Preschool Director":MAILTO:nikkipiperpreschool@gmail.com
END:VEVENT
BEGIN:VEVENT
DTSTART;TZID=America/New_York:20270818T190000
DTEND;TZID=America/New_York:20270818T200000
DTSTAMP:20260421T053632
CREATED:20260127T004801Z
LAST-MODIFIED:20260127T004802Z
UID:10006670-1818615600-1818619200@hisvineyard.com
SUMMARY:Nursery
DESCRIPTION:
URL:https://hisvineyard.com/event/nursery-2/2027-08-18/
LOCATION:Nursery – Little Vines
CATEGORIES:Bibe Study / Fellowship,Childrens Ministry
ORGANIZER;CN="Hillary Thompson - Nursery Director":MAILTO:hutcheson.hillary@gmail.com
END:VEVENT
BEGIN:VEVENT
DTSTART;TZID=America/New_York:20270818T190000
DTEND;TZID=America/New_York:20270818T200000
DTSTAMP:20260421T053632
CREATED:20260127T004916Z
LAST-MODIFIED:20260127T004917Z
UID:10006931-1818615600-1818619200@hisvineyard.com
SUMMARY:Toddlers
DESCRIPTION:
URL:https://hisvineyard.com/event/toddlers-2/2027-08-18/
CATEGORIES:Bibe Study / Fellowship,Childrens Ministry
ORGANIZER;CN="Hillary Thompson - Nursery Director":MAILTO:hutcheson.hillary@gmail.com
END:VEVENT
BEGIN:VEVENT
DTSTART;TZID=America/New_York:20270818T190000
DTEND;TZID=America/New_York:20270818T200000
DTSTAMP:20260421T053632
CREATED:20260127T005020Z
LAST-MODIFIED:20260405T020425Z
UID:10007194-1818615600-1818619200@hisvineyard.com
SUMMARY:Wednesday Night Prayer Meeting
DESCRIPTION:
URL:https://hisvineyard.com/event/wednesday-night-prayer-meeting-2/2027-08-18/
LOCATION:Youth Room – Prayer meeting room
CATEGORIES:Bibe Study / Fellowship
END:VEVENT
BEGIN:VEVENT
DTSTART;TZID=America/New_York:20270824T060000
DTEND;TZID=America/New_York:20270824T070000
DTSTAMP:20260421T053632
CREATED:20251202T135140Z
LAST-MODIFIED:20251211T130526Z
UID:10007553-1819087200-1819090800@hisvineyard.com
SUMMARY:Gideons Army
DESCRIPTION:
URL:https://hisvineyard.com/event/gideons-army-76/2027-08-24/
LOCATION:The Gap – Church Office\, 120 Sizemore Street\, Greer\, SC\, 29651\, United States
CATEGORIES:Bibe Study / Fellowship
ORGANIZER;CN="Fred Fuller":MAILTO:ffuller55@gmail.com
END:VEVENT
BEGIN:VEVENT
DTSTART;TZID=America/New_York:20270825T190000
DTEND;TZID=America/New_York:20270825T200000
DTSTAMP:20260421T053632
CREATED:20260127T004329Z
LAST-MODIFIED:20260127T004330Z
UID:10005622-1819220400-1819224000@hisvineyard.com
SUMMARY:Youth Group
DESCRIPTION:
URL:https://hisvineyard.com/event/youth-group-2/2027-08-25/
LOCATION:Worship Center
CATEGORIES:Bibe Study / Fellowship,Youth Groups
ORGANIZER;CN="Derek Henderson - Youth Pastor":MAILTO:derekh1981@gmail.com
END:VEVENT
BEGIN:VEVENT
DTSTART;TZID=America/New_York:20270825T190000
DTEND;TZID=America/New_York:20270825T200000
DTSTAMP:20260421T053632
CREATED:20260127T004523Z
LAST-MODIFIED:20260127T004524Z
UID:10005884-1819220400-1819224000@hisvineyard.com
SUMMARY:Kids Vineyard
DESCRIPTION:
URL:https://hisvineyard.com/event/kids-vineyard-152/2027-08-25/
LOCATION:Kids Vineyard Room
CATEGORIES:Bibe Study / Fellowship,Childrens Ministry
END:VEVENT
BEGIN:VEVENT
DTSTART;TZID=America/New_York:20270825T190000
DTEND;TZID=America/New_York:20270825T200000
DTSTAMP:20260421T053632
CREATED:20260127T004721Z
LAST-MODIFIED:20260127T004722Z
UID:10006145-1819220400-1819224000@hisvineyard.com
SUMMARY:Preschool
DESCRIPTION:
URL:https://hisvineyard.com/event/preschool-2/2027-08-25/
CATEGORIES:Bibe Study / Fellowship,Childrens Ministry
ORGANIZER;CN="Nikki Piper - Preschool Director":MAILTO:nikkipiperpreschool@gmail.com
END:VEVENT
BEGIN:VEVENT
DTSTART;TZID=America/New_York:20270825T190000
DTEND;TZID=America/New_York:20270825T200000
DTSTAMP:20260421T053632
CREATED:20260127T004801Z
LAST-MODIFIED:20260127T004802Z
UID:10006671-1819220400-1819224000@hisvineyard.com
SUMMARY:Nursery
DESCRIPTION:
URL:https://hisvineyard.com/event/nursery-2/2027-08-25/
LOCATION:Nursery – Little Vines
CATEGORIES:Bibe Study / Fellowship,Childrens Ministry
ORGANIZER;CN="Hillary Thompson - Nursery Director":MAILTO:hutcheson.hillary@gmail.com
END:VEVENT
BEGIN:VEVENT
DTSTART;TZID=America/New_York:20270825T190000
DTEND;TZID=America/New_York:20270825T200000
DTSTAMP:20260421T053632
CREATED:20260127T004916Z
LAST-MODIFIED:20260127T004917Z
UID:10006932-1819220400-1819224000@hisvineyard.com
SUMMARY:Toddlers
DESCRIPTION:
URL:https://hisvineyard.com/event/toddlers-2/2027-08-25/
CATEGORIES:Bibe Study / Fellowship,Childrens Ministry
ORGANIZER;CN="Hillary Thompson - Nursery Director":MAILTO:hutcheson.hillary@gmail.com
END:VEVENT
BEGIN:VEVENT
DTSTART;TZID=America/New_York:20270825T190000
DTEND;TZID=America/New_York:20270825T200000
DTSTAMP:20260421T053632
CREATED:20260127T005020Z
LAST-MODIFIED:20260405T020425Z
UID:10007195-1819220400-1819224000@hisvineyard.com
SUMMARY:Wednesday Night Prayer Meeting
DESCRIPTION:
URL:https://hisvineyard.com/event/wednesday-night-prayer-meeting-2/2027-08-25/
LOCATION:Youth Room – Prayer meeting room
CATEGORIES:Bibe Study / Fellowship
END:VEVENT
BEGIN:VEVENT
DTSTART;TZID=America/New_York:20270831T060000
DTEND;TZID=America/New_York:20270831T070000
DTSTAMP:20260421T053632
CREATED:20251202T135140Z
LAST-MODIFIED:20251211T130526Z
UID:10007554-1819692000-1819695600@hisvineyard.com
SUMMARY:Gideons Army
DESCRIPTION:
URL:https://hisvineyard.com/event/gideons-army-76/2027-08-31/
LOCATION:The Gap – Church Office\, 120 Sizemore Street\, Greer\, SC\, 29651\, United States
CATEGORIES:Bibe Study / Fellowship
ORGANIZER;CN="Fred Fuller":MAILTO:ffuller55@gmail.com
END:VEVENT
END:VCALENDAR