BEGIN:VCALENDAR
VERSION:2.0
PRODID:-//His Vineyard - ECPv6.15.20//NONSGML v1.0//EN
CALSCALE:GREGORIAN
METHOD:PUBLISH
X-WR-CALNAME:His Vineyard
X-ORIGINAL-URL:https://hisvineyard.com
X-WR-CALDESC:Events for His Vineyard
REFRESH-INTERVAL;VALUE=DURATION:PT1H
X-Robots-Tag:noindex
X-PUBLISHED-TTL:PT1H
BEGIN:VTIMEZONE
TZID:America/New_York
BEGIN:DAYLIGHT
TZOFFSETFROM:-0500
TZOFFSETTO:-0400
TZNAME:EDT
DTSTART:20270314T070000
END:DAYLIGHT
BEGIN:STANDARD
TZOFFSETFROM:-0400
TZOFFSETTO:-0500
TZNAME:EST
DTSTART:20271107T060000
END:STANDARD
BEGIN:DAYLIGHT
TZOFFSETFROM:-0500
TZOFFSETTO:-0400
TZNAME:EDT
DTSTART:20280312T070000
END:DAYLIGHT
BEGIN:STANDARD
TZOFFSETFROM:-0400
TZOFFSETTO:-0500
TZNAME:EST
DTSTART:20281105T060000
END:STANDARD
BEGIN:DAYLIGHT
TZOFFSETFROM:-0500
TZOFFSETTO:-0400
TZNAME:EDT
DTSTART:20290311T070000
END:DAYLIGHT
BEGIN:STANDARD
TZOFFSETFROM:-0400
TZOFFSETTO:-0500
TZNAME:EST
DTSTART:20291104T060000
END:STANDARD
END:VTIMEZONE
BEGIN:VEVENT
DTSTART;TZID=America/New_York:20280104T060000
DTEND;TZID=America/New_York:20280104T070000
DTSTAMP:20260423T130810
CREATED:20251202T135140Z
LAST-MODIFIED:20251211T130526Z
UID:10007572-1830578400-1830582000@hisvineyard.com
SUMMARY:Gideons Army
DESCRIPTION:
URL:https://hisvineyard.com/event/gideons-army-76/2028-01-04/
LOCATION:The Gap – Church Office\, 120 Sizemore Street\, Greer\, SC\, 29651\, United States
CATEGORIES:Bibe Study / Fellowship
ORGANIZER;CN="Fred Fuller":MAILTO:ffuller55@gmail.com
END:VEVENT
BEGIN:VEVENT
DTSTART;TZID=America/New_York:20280105T190000
DTEND;TZID=America/New_York:20280105T200000
DTSTAMP:20260423T130810
CREATED:20260127T004329Z
LAST-MODIFIED:20260127T004330Z
UID:10005641-1830711600-1830715200@hisvineyard.com
SUMMARY:Youth Group
DESCRIPTION:
URL:https://hisvineyard.com/event/youth-group-2/2028-01-05/
LOCATION:Worship Center
CATEGORIES:Bibe Study / Fellowship,Youth Groups
ORGANIZER;CN="Derek Henderson - Youth Pastor":MAILTO:derekh1981@gmail.com
END:VEVENT
BEGIN:VEVENT
DTSTART;TZID=America/New_York:20280105T190000
DTEND;TZID=America/New_York:20280105T200000
DTSTAMP:20260423T130810
CREATED:20260127T004523Z
LAST-MODIFIED:20260127T004524Z
UID:10005903-1830711600-1830715200@hisvineyard.com
SUMMARY:Kids Vineyard
DESCRIPTION:
URL:https://hisvineyard.com/event/kids-vineyard-152/2028-01-05/
LOCATION:Kids Vineyard Room
CATEGORIES:Bibe Study / Fellowship,Childrens Ministry
END:VEVENT
BEGIN:VEVENT
DTSTART;TZID=America/New_York:20280105T190000
DTEND;TZID=America/New_York:20280105T200000
DTSTAMP:20260423T130810
CREATED:20260127T004721Z
LAST-MODIFIED:20260127T004722Z
UID:10006164-1830711600-1830715200@hisvineyard.com
SUMMARY:Preschool
DESCRIPTION:
URL:https://hisvineyard.com/event/preschool-2/2028-01-05/
CATEGORIES:Bibe Study / Fellowship,Childrens Ministry
ORGANIZER;CN="Nikki Piper - Preschool Director":MAILTO:nikkipiperpreschool@gmail.com
END:VEVENT
BEGIN:VEVENT
DTSTART;TZID=America/New_York:20280105T190000
DTEND;TZID=America/New_York:20280105T200000
DTSTAMP:20260423T130810
CREATED:20260127T004801Z
LAST-MODIFIED:20260127T004802Z
UID:10006690-1830711600-1830715200@hisvineyard.com
SUMMARY:Nursery
DESCRIPTION:
URL:https://hisvineyard.com/event/nursery-2/2028-01-05/
LOCATION:Nursery – Little Vines
CATEGORIES:Bibe Study / Fellowship,Childrens Ministry
ORGANIZER;CN="Hillary Thompson - Nursery Director":MAILTO:hutcheson.hillary@gmail.com
END:VEVENT
BEGIN:VEVENT
DTSTART;TZID=America/New_York:20280105T190000
DTEND;TZID=America/New_York:20280105T200000
DTSTAMP:20260423T130810
CREATED:20260127T004916Z
LAST-MODIFIED:20260127T004917Z
UID:10006951-1830711600-1830715200@hisvineyard.com
SUMMARY:Toddlers
DESCRIPTION:
URL:https://hisvineyard.com/event/toddlers-2/2028-01-05/
CATEGORIES:Bibe Study / Fellowship,Childrens Ministry
ORGANIZER;CN="Hillary Thompson - Nursery Director":MAILTO:hutcheson.hillary@gmail.com
END:VEVENT
BEGIN:VEVENT
DTSTART;TZID=America/New_York:20280105T190000
DTEND;TZID=America/New_York:20280105T200000
DTSTAMP:20260423T130810
CREATED:20260127T005020Z
LAST-MODIFIED:20260405T020425Z
UID:10007214-1830711600-1830715200@hisvineyard.com
SUMMARY:Wednesday Night Prayer Meeting
DESCRIPTION:
URL:https://hisvineyard.com/event/wednesday-night-prayer-meeting-2/2028-01-05/
LOCATION:Youth Room – Prayer meeting room
CATEGORIES:Bibe Study / Fellowship
END:VEVENT
BEGIN:VEVENT
DTSTART;TZID=America/New_York:20280111T060000
DTEND;TZID=America/New_York:20280111T070000
DTSTAMP:20260423T130810
CREATED:20251202T135140Z
LAST-MODIFIED:20251211T130526Z
UID:10007573-1831183200-1831186800@hisvineyard.com
SUMMARY:Gideons Army
DESCRIPTION:
URL:https://hisvineyard.com/event/gideons-army-76/2028-01-11/
LOCATION:The Gap – Church Office\, 120 Sizemore Street\, Greer\, SC\, 29651\, United States
CATEGORIES:Bibe Study / Fellowship
ORGANIZER;CN="Fred Fuller":MAILTO:ffuller55@gmail.com
END:VEVENT
BEGIN:VEVENT
DTSTART;TZID=America/New_York:20280112T190000
DTEND;TZID=America/New_York:20280112T200000
DTSTAMP:20260423T130810
CREATED:20260127T004329Z
LAST-MODIFIED:20260127T004330Z
UID:10005642-1831316400-1831320000@hisvineyard.com
SUMMARY:Youth Group
DESCRIPTION:
URL:https://hisvineyard.com/event/youth-group-2/2028-01-12/
LOCATION:Worship Center
CATEGORIES:Bibe Study / Fellowship,Youth Groups
ORGANIZER;CN="Derek Henderson - Youth Pastor":MAILTO:derekh1981@gmail.com
END:VEVENT
BEGIN:VEVENT
DTSTART;TZID=America/New_York:20280112T190000
DTEND;TZID=America/New_York:20280112T200000
DTSTAMP:20260423T130810
CREATED:20260127T004523Z
LAST-MODIFIED:20260127T004524Z
UID:10005904-1831316400-1831320000@hisvineyard.com
SUMMARY:Kids Vineyard
DESCRIPTION:
URL:https://hisvineyard.com/event/kids-vineyard-152/2028-01-12/
LOCATION:Kids Vineyard Room
CATEGORIES:Bibe Study / Fellowship,Childrens Ministry
END:VEVENT
BEGIN:VEVENT
DTSTART;TZID=America/New_York:20280112T190000
DTEND;TZID=America/New_York:20280112T200000
DTSTAMP:20260423T130810
CREATED:20260127T004721Z
LAST-MODIFIED:20260127T004722Z
UID:10006165-1831316400-1831320000@hisvineyard.com
SUMMARY:Preschool
DESCRIPTION:
URL:https://hisvineyard.com/event/preschool-2/2028-01-12/
CATEGORIES:Bibe Study / Fellowship,Childrens Ministry
ORGANIZER;CN="Nikki Piper - Preschool Director":MAILTO:nikkipiperpreschool@gmail.com
END:VEVENT
BEGIN:VEVENT
DTSTART;TZID=America/New_York:20280112T190000
DTEND;TZID=America/New_York:20280112T200000
DTSTAMP:20260423T130810
CREATED:20260127T004801Z
LAST-MODIFIED:20260127T004802Z
UID:10006691-1831316400-1831320000@hisvineyard.com
SUMMARY:Nursery
DESCRIPTION:
URL:https://hisvineyard.com/event/nursery-2/2028-01-12/
LOCATION:Nursery – Little Vines
CATEGORIES:Bibe Study / Fellowship,Childrens Ministry
ORGANIZER;CN="Hillary Thompson - Nursery Director":MAILTO:hutcheson.hillary@gmail.com
END:VEVENT
BEGIN:VEVENT
DTSTART;TZID=America/New_York:20280112T190000
DTEND;TZID=America/New_York:20280112T200000
DTSTAMP:20260423T130810
CREATED:20260127T004916Z
LAST-MODIFIED:20260127T004917Z
UID:10006952-1831316400-1831320000@hisvineyard.com
SUMMARY:Toddlers
DESCRIPTION:
URL:https://hisvineyard.com/event/toddlers-2/2028-01-12/
CATEGORIES:Bibe Study / Fellowship,Childrens Ministry
ORGANIZER;CN="Hillary Thompson - Nursery Director":MAILTO:hutcheson.hillary@gmail.com
END:VEVENT
BEGIN:VEVENT
DTSTART;TZID=America/New_York:20280112T190000
DTEND;TZID=America/New_York:20280112T200000
DTSTAMP:20260423T130810
CREATED:20260127T005020Z
LAST-MODIFIED:20260405T020425Z
UID:10007215-1831316400-1831320000@hisvineyard.com
SUMMARY:Wednesday Night Prayer Meeting
DESCRIPTION:
URL:https://hisvineyard.com/event/wednesday-night-prayer-meeting-2/2028-01-12/
LOCATION:Youth Room – Prayer meeting room
CATEGORIES:Bibe Study / Fellowship
END:VEVENT
BEGIN:VEVENT
DTSTART;TZID=America/New_York:20280118T060000
DTEND;TZID=America/New_York:20280118T070000
DTSTAMP:20260423T130810
CREATED:20251202T135140Z
LAST-MODIFIED:20251211T130526Z
UID:10007574-1831788000-1831791600@hisvineyard.com
SUMMARY:Gideons Army
DESCRIPTION:
URL:https://hisvineyard.com/event/gideons-army-76/2028-01-18/
LOCATION:The Gap – Church Office\, 120 Sizemore Street\, Greer\, SC\, 29651\, United States
CATEGORIES:Bibe Study / Fellowship
ORGANIZER;CN="Fred Fuller":MAILTO:ffuller55@gmail.com
END:VEVENT
BEGIN:VEVENT
DTSTART;TZID=America/New_York:20280119T190000
DTEND;TZID=America/New_York:20280119T200000
DTSTAMP:20260423T130810
CREATED:20260127T004329Z
LAST-MODIFIED:20260127T004330Z
UID:10005643-1831921200-1831924800@hisvineyard.com
SUMMARY:Youth Group
DESCRIPTION:
URL:https://hisvineyard.com/event/youth-group-2/2028-01-19/
LOCATION:Worship Center
CATEGORIES:Bibe Study / Fellowship,Youth Groups
ORGANIZER;CN="Derek Henderson - Youth Pastor":MAILTO:derekh1981@gmail.com
END:VEVENT
BEGIN:VEVENT
DTSTART;TZID=America/New_York:20280119T190000
DTEND;TZID=America/New_York:20280119T200000
DTSTAMP:20260423T130810
CREATED:20260127T004523Z
LAST-MODIFIED:20260127T004524Z
UID:10005905-1831921200-1831924800@hisvineyard.com
SUMMARY:Kids Vineyard
DESCRIPTION:
URL:https://hisvineyard.com/event/kids-vineyard-152/2028-01-19/
LOCATION:Kids Vineyard Room
CATEGORIES:Bibe Study / Fellowship,Childrens Ministry
END:VEVENT
BEGIN:VEVENT
DTSTART;TZID=America/New_York:20280119T190000
DTEND;TZID=America/New_York:20280119T200000
DTSTAMP:20260423T130810
CREATED:20260127T004721Z
LAST-MODIFIED:20260127T004722Z
UID:10006166-1831921200-1831924800@hisvineyard.com
SUMMARY:Preschool
DESCRIPTION:
URL:https://hisvineyard.com/event/preschool-2/2028-01-19/
CATEGORIES:Bibe Study / Fellowship,Childrens Ministry
ORGANIZER;CN="Nikki Piper - Preschool Director":MAILTO:nikkipiperpreschool@gmail.com
END:VEVENT
BEGIN:VEVENT
DTSTART;TZID=America/New_York:20280119T190000
DTEND;TZID=America/New_York:20280119T200000
DTSTAMP:20260423T130810
CREATED:20260127T004801Z
LAST-MODIFIED:20260127T004802Z
UID:10006692-1831921200-1831924800@hisvineyard.com
SUMMARY:Nursery
DESCRIPTION:
URL:https://hisvineyard.com/event/nursery-2/2028-01-19/
LOCATION:Nursery – Little Vines
CATEGORIES:Bibe Study / Fellowship,Childrens Ministry
ORGANIZER;CN="Hillary Thompson - Nursery Director":MAILTO:hutcheson.hillary@gmail.com
END:VEVENT
BEGIN:VEVENT
DTSTART;TZID=America/New_York:20280119T190000
DTEND;TZID=America/New_York:20280119T200000
DTSTAMP:20260423T130810
CREATED:20260127T004916Z
LAST-MODIFIED:20260127T004917Z
UID:10006953-1831921200-1831924800@hisvineyard.com
SUMMARY:Toddlers
DESCRIPTION:
URL:https://hisvineyard.com/event/toddlers-2/2028-01-19/
CATEGORIES:Bibe Study / Fellowship,Childrens Ministry
ORGANIZER;CN="Hillary Thompson - Nursery Director":MAILTO:hutcheson.hillary@gmail.com
END:VEVENT
BEGIN:VEVENT
DTSTART;TZID=America/New_York:20280119T190000
DTEND;TZID=America/New_York:20280119T200000
DTSTAMP:20260423T130810
CREATED:20260127T005020Z
LAST-MODIFIED:20260405T020425Z
UID:10007216-1831921200-1831924800@hisvineyard.com
SUMMARY:Wednesday Night Prayer Meeting
DESCRIPTION:
URL:https://hisvineyard.com/event/wednesday-night-prayer-meeting-2/2028-01-19/
LOCATION:Youth Room – Prayer meeting room
CATEGORIES:Bibe Study / Fellowship
END:VEVENT
BEGIN:VEVENT
DTSTART;TZID=America/New_York:20280125T060000
DTEND;TZID=America/New_York:20280125T070000
DTSTAMP:20260423T130810
CREATED:20251202T135140Z
LAST-MODIFIED:20251211T130526Z
UID:10007575-1832392800-1832396400@hisvineyard.com
SUMMARY:Gideons Army
DESCRIPTION:
URL:https://hisvineyard.com/event/gideons-army-76/2028-01-25/
LOCATION:The Gap – Church Office\, 120 Sizemore Street\, Greer\, SC\, 29651\, United States
CATEGORIES:Bibe Study / Fellowship
ORGANIZER;CN="Fred Fuller":MAILTO:ffuller55@gmail.com
END:VEVENT
BEGIN:VEVENT
DTSTART;TZID=America/New_York:20280126T190000
DTEND;TZID=America/New_York:20280126T200000
DTSTAMP:20260423T130810
CREATED:20260127T004329Z
LAST-MODIFIED:20260127T004330Z
UID:10005644-1832526000-1832529600@hisvineyard.com
SUMMARY:Youth Group
DESCRIPTION:
URL:https://hisvineyard.com/event/youth-group-2/2028-01-26/
LOCATION:Worship Center
CATEGORIES:Bibe Study / Fellowship,Youth Groups
ORGANIZER;CN="Derek Henderson - Youth Pastor":MAILTO:derekh1981@gmail.com
END:VEVENT
BEGIN:VEVENT
DTSTART;TZID=America/New_York:20280126T190000
DTEND;TZID=America/New_York:20280126T200000
DTSTAMP:20260423T130810
CREATED:20260127T004523Z
LAST-MODIFIED:20260127T004524Z
UID:10005906-1832526000-1832529600@hisvineyard.com
SUMMARY:Kids Vineyard
DESCRIPTION:
URL:https://hisvineyard.com/event/kids-vineyard-152/2028-01-26/
LOCATION:Kids Vineyard Room
CATEGORIES:Bibe Study / Fellowship,Childrens Ministry
END:VEVENT
BEGIN:VEVENT
DTSTART;TZID=America/New_York:20280126T190000
DTEND;TZID=America/New_York:20280126T200000
DTSTAMP:20260423T130810
CREATED:20260127T004721Z
LAST-MODIFIED:20260127T004722Z
UID:10006167-1832526000-1832529600@hisvineyard.com
SUMMARY:Preschool
DESCRIPTION:
URL:https://hisvineyard.com/event/preschool-2/2028-01-26/
CATEGORIES:Bibe Study / Fellowship,Childrens Ministry
ORGANIZER;CN="Nikki Piper - Preschool Director":MAILTO:nikkipiperpreschool@gmail.com
END:VEVENT
BEGIN:VEVENT
DTSTART;TZID=America/New_York:20280126T190000
DTEND;TZID=America/New_York:20280126T200000
DTSTAMP:20260423T130810
CREATED:20260127T004801Z
LAST-MODIFIED:20260127T004802Z
UID:10006693-1832526000-1832529600@hisvineyard.com
SUMMARY:Nursery
DESCRIPTION:
URL:https://hisvineyard.com/event/nursery-2/2028-01-26/
LOCATION:Nursery – Little Vines
CATEGORIES:Bibe Study / Fellowship,Childrens Ministry
ORGANIZER;CN="Hillary Thompson - Nursery Director":MAILTO:hutcheson.hillary@gmail.com
END:VEVENT
BEGIN:VEVENT
DTSTART;TZID=America/New_York:20280126T190000
DTEND;TZID=America/New_York:20280126T200000
DTSTAMP:20260423T130810
CREATED:20260127T004916Z
LAST-MODIFIED:20260127T004917Z
UID:10006954-1832526000-1832529600@hisvineyard.com
SUMMARY:Toddlers
DESCRIPTION:
URL:https://hisvineyard.com/event/toddlers-2/2028-01-26/
CATEGORIES:Bibe Study / Fellowship,Childrens Ministry
ORGANIZER;CN="Hillary Thompson - Nursery Director":MAILTO:hutcheson.hillary@gmail.com
END:VEVENT
BEGIN:VEVENT
DTSTART;TZID=America/New_York:20280126T190000
DTEND;TZID=America/New_York:20280126T200000
DTSTAMP:20260423T130810
CREATED:20260127T005020Z
LAST-MODIFIED:20260405T020425Z
UID:10007217-1832526000-1832529600@hisvineyard.com
SUMMARY:Wednesday Night Prayer Meeting
DESCRIPTION:
URL:https://hisvineyard.com/event/wednesday-night-prayer-meeting-2/2028-01-26/
LOCATION:Youth Room – Prayer meeting room
CATEGORIES:Bibe Study / Fellowship
END:VEVENT
END:VCALENDAR