BEGIN:VCALENDAR
VERSION:2.0
PRODID:-//His Vineyard - ECPv6.15.20//NONSGML v1.0//EN
CALSCALE:GREGORIAN
METHOD:PUBLISH
X-WR-CALNAME:His Vineyard
X-ORIGINAL-URL:https://hisvineyard.com
X-WR-CALDESC:Events for His Vineyard
REFRESH-INTERVAL;VALUE=DURATION:PT1H
X-Robots-Tag:noindex
X-PUBLISHED-TTL:PT1H
BEGIN:VTIMEZONE
TZID:America/New_York
BEGIN:DAYLIGHT
TZOFFSETFROM:-0500
TZOFFSETTO:-0400
TZNAME:EDT
DTSTART:20250309T070000
END:DAYLIGHT
BEGIN:STANDARD
TZOFFSETFROM:-0400
TZOFFSETTO:-0500
TZNAME:EST
DTSTART:20251102T060000
END:STANDARD
BEGIN:DAYLIGHT
TZOFFSETFROM:-0500
TZOFFSETTO:-0400
TZNAME:EDT
DTSTART:20260308T070000
END:DAYLIGHT
BEGIN:STANDARD
TZOFFSETFROM:-0400
TZOFFSETTO:-0500
TZNAME:EST
DTSTART:20261101T060000
END:STANDARD
BEGIN:DAYLIGHT
TZOFFSETFROM:-0500
TZOFFSETTO:-0400
TZNAME:EDT
DTSTART:20270314T070000
END:DAYLIGHT
BEGIN:STANDARD
TZOFFSETFROM:-0400
TZOFFSETTO:-0500
TZNAME:EST
DTSTART:20271107T060000
END:STANDARD
END:VTIMEZONE
BEGIN:VEVENT
DTSTART;TZID=America/New_York:20260321T193000
DTEND;TZID=America/New_York:20260321T200000
DTSTAMP:20260420T061744
CREATED:20250407T212248Z
LAST-MODIFIED:20250407T212248Z
UID:10004295-1774121400-1774123200@hisvineyard.com
SUMMARY:"In His Word" - TV Program
DESCRIPTION:
URL:https://hisvineyard.com/event/in-his-word-tv-program-6/2026-03-21/
LOCATION:WGGS – Channel 16
CATEGORIES:Special Events
ATTACH;FMTTYPE=image/png:https://hisvineyard.com/wp-content/uploads/2024/12/Screenshot-2024-12-13-at-10.29.25 AM.png
END:VEVENT
BEGIN:VEVENT
DTSTART;TZID=America/New_York:20260322T140000
DTEND;TZID=America/New_York:20260322T160000
DTSTAMP:20260420T061744
CREATED:20251120T010004Z
LAST-MODIFIED:20260326T123034Z
UID:10007441-1774188000-1774195200@hisvineyard.com
SUMMARY:Divorce Care Meetings
DESCRIPTION:January 11th to April 19th \nEvery Sunday from 2PM – 4PM \nFor more information contact  Sherry Auwarter \n864-293-2211
URL:https://hisvineyard.com/event/divorce-care-meetings/2026-03-22/
LOCATION:Church – 656 Arlington Road – Greer\, SC
CATEGORIES:Special Events,Support Groups
END:VEVENT
BEGIN:VEVENT
DTSTART;TZID=America/New_York:20260325T173000
DTEND;TZID=America/New_York:20260325T184500
DTSTAMP:20260420T061744
CREATED:20260311T231041Z
LAST-MODIFIED:20260311T231041Z
UID:10007859-1774459800-1774464300@hisvineyard.com
SUMMARY:Wednesday Night Fellowship Meal
DESCRIPTION:
URL:https://hisvineyard.com/event/wednesday-night-fellowship-meal/
LOCATION:Church – 656 Arlington Road – Greer\, SC
CATEGORIES:Special Events,Volunteer / Service
ORGANIZER;CN="Denise Clement":MAILTO:denisehomebeauti@bellsouth.net
END:VEVENT
BEGIN:VEVENT
DTSTART;TZID=America/New_York:20260328T193000
DTEND;TZID=America/New_York:20260328T200000
DTSTAMP:20260420T061744
CREATED:20250407T212248Z
LAST-MODIFIED:20250407T212248Z
UID:10004296-1774726200-1774728000@hisvineyard.com
SUMMARY:"In His Word" - TV Program
DESCRIPTION:
URL:https://hisvineyard.com/event/in-his-word-tv-program-6/2026-03-28/
LOCATION:WGGS – Channel 16
CATEGORIES:Special Events
ATTACH;FMTTYPE=image/png:https://hisvineyard.com/wp-content/uploads/2024/12/Screenshot-2024-12-13-at-10.29.25 AM.png
END:VEVENT
BEGIN:VEVENT
DTSTART;TZID=America/New_York:20260329T140000
DTEND;TZID=America/New_York:20260329T160000
DTSTAMP:20260420T061744
CREATED:20251120T010004Z
LAST-MODIFIED:20260326T123034Z
UID:10007442-1774792800-1774800000@hisvineyard.com
SUMMARY:Divorce Care Meetings
DESCRIPTION:January 11th to April 19th \nEvery Sunday from 2PM – 4PM \nFor more information contact  Sherry Auwarter \n864-293-2211
URL:https://hisvineyard.com/event/divorce-care-meetings/2026-03-29/
LOCATION:Church – 656 Arlington Road – Greer\, SC
CATEGORIES:Special Events,Support Groups
END:VEVENT
END:VCALENDAR