BEGIN:VCALENDAR
VERSION:2.0
PRODID:-//His Vineyard - ECPv6.15.20//NONSGML v1.0//EN
CALSCALE:GREGORIAN
METHOD:PUBLISH
X-ORIGINAL-URL:https://hisvineyard.com
X-WR-CALDESC:Events for His Vineyard
REFRESH-INTERVAL;VALUE=DURATION:PT1H
X-Robots-Tag:noindex
X-PUBLISHED-TTL:PT1H
BEGIN:VTIMEZONE
TZID:America/New_York
BEGIN:DAYLIGHT
TZOFFSETFROM:-0500
TZOFFSETTO:-0400
TZNAME:EDT
DTSTART:20250309T070000
END:DAYLIGHT
BEGIN:STANDARD
TZOFFSETFROM:-0400
TZOFFSETTO:-0500
TZNAME:EST
DTSTART:20251102T060000
END:STANDARD
BEGIN:DAYLIGHT
TZOFFSETFROM:-0500
TZOFFSETTO:-0400
TZNAME:EDT
DTSTART:20260308T070000
END:DAYLIGHT
BEGIN:STANDARD
TZOFFSETFROM:-0400
TZOFFSETTO:-0500
TZNAME:EST
DTSTART:20261101T060000
END:STANDARD
BEGIN:DAYLIGHT
TZOFFSETFROM:-0500
TZOFFSETTO:-0400
TZNAME:EDT
DTSTART:20270314T070000
END:DAYLIGHT
BEGIN:STANDARD
TZOFFSETFROM:-0400
TZOFFSETTO:-0500
TZNAME:EST
DTSTART:20271107T060000
END:STANDARD
END:VTIMEZONE
BEGIN:VEVENT
DTSTART;TZID=America/New_York:20260502T193000
DTEND;TZID=America/New_York:20260502T200000
DTSTAMP:20260420T061814
CREATED:20250407T212248Z
LAST-MODIFIED:20250407T212248Z
UID:10004301-1777750200-1777752000@hisvineyard.com
SUMMARY:"In His Word" - TV Program
DESCRIPTION:
URL:https://hisvineyard.com/event/in-his-word-tv-program-6/2026-05-02/
LOCATION:WGGS – Channel 16
CATEGORIES:Special Events
ATTACH;FMTTYPE=image/png:https://hisvineyard.com/wp-content/uploads/2024/12/Screenshot-2024-12-13-at-10.29.25 AM.png
END:VEVENT
BEGIN:VEVENT
DTSTART;TZID=America/New_York:20260506T190000
DTEND;TZID=America/New_York:20260506T200000
DTSTAMP:20260420T061814
CREATED:20260405T014140Z
LAST-MODIFIED:20260405T020303Z
UID:10007964-1778094000-1778097600@hisvineyard.com
SUMMARY:Wednesday Night Prayer Meeting - Reading of the Book of Revelations
DESCRIPTION:Receive the Revelation Blessing as Pastor Keith reads the book of Revelations aloud from the Amplified Bible.
URL:https://hisvineyard.com/event/wednesday-night-prayer-meeting-2-2/2026-05-06/
LOCATION:Church Atrium\, 656 Arlington Road\, Greer\, SC\, 29650\, United States
CATEGORIES:Bibe Study / Fellowship,Special Events
END:VEVENT
BEGIN:VEVENT
DTSTART;TZID=America/New_York:20260509T193000
DTEND;TZID=America/New_York:20260509T200000
DTSTAMP:20260420T061814
CREATED:20250407T212248Z
LAST-MODIFIED:20250407T212248Z
UID:10004302-1778355000-1778356800@hisvineyard.com
SUMMARY:"In His Word" - TV Program
DESCRIPTION:
URL:https://hisvineyard.com/event/in-his-word-tv-program-6/2026-05-09/
LOCATION:WGGS – Channel 16
CATEGORIES:Special Events
ATTACH;FMTTYPE=image/png:https://hisvineyard.com/wp-content/uploads/2024/12/Screenshot-2024-12-13-at-10.29.25 AM.png
END:VEVENT
BEGIN:VEVENT
DTSTART;TZID=America/New_York:20260513T190000
DTEND;TZID=America/New_York:20260513T200000
DTSTAMP:20260420T061814
CREATED:20260405T014140Z
LAST-MODIFIED:20260405T020303Z
UID:10007965-1778698800-1778702400@hisvineyard.com
SUMMARY:Wednesday Night Prayer Meeting - Reading of the Book of Revelations
DESCRIPTION:Receive the Revelation Blessing as Pastor Keith reads the book of Revelations aloud from the Amplified Bible.
URL:https://hisvineyard.com/event/wednesday-night-prayer-meeting-2-2/2026-05-13/
LOCATION:Church Atrium\, 656 Arlington Road\, Greer\, SC\, 29650\, United States
CATEGORIES:Bibe Study / Fellowship,Special Events
END:VEVENT
BEGIN:VEVENT
DTSTART;TZID=America/New_York:20260516T193000
DTEND;TZID=America/New_York:20260516T200000
DTSTAMP:20260420T061814
CREATED:20250407T212248Z
LAST-MODIFIED:20250407T212248Z
UID:10004303-1778959800-1778961600@hisvineyard.com
SUMMARY:"In His Word" - TV Program
DESCRIPTION:
URL:https://hisvineyard.com/event/in-his-word-tv-program-6/2026-05-16/
LOCATION:WGGS – Channel 16
CATEGORIES:Special Events
ATTACH;FMTTYPE=image/png:https://hisvineyard.com/wp-content/uploads/2024/12/Screenshot-2024-12-13-at-10.29.25 AM.png
END:VEVENT
BEGIN:VEVENT
DTSTART;TZID=America/New_York:20260520T190000
DTEND;TZID=America/New_York:20260520T200000
DTSTAMP:20260420T061814
CREATED:20260405T014140Z
LAST-MODIFIED:20260405T020303Z
UID:10007966-1779303600-1779307200@hisvineyard.com
SUMMARY:Wednesday Night Prayer Meeting - Reading of the Book of Revelations
DESCRIPTION:Receive the Revelation Blessing as Pastor Keith reads the book of Revelations aloud from the Amplified Bible.
URL:https://hisvineyard.com/event/wednesday-night-prayer-meeting-2-2/2026-05-20/
LOCATION:Church Atrium\, 656 Arlington Road\, Greer\, SC\, 29650\, United States
CATEGORIES:Bibe Study / Fellowship,Special Events
END:VEVENT
BEGIN:VEVENT
DTSTART;TZID=America/New_York:20260523T100000
DTEND;TZID=America/New_York:20260523T150000
DTSTAMP:20260420T061814
CREATED:20250715T205546Z
LAST-MODIFIED:20250715T205546Z
UID:10004353-1779530400-1779548400@hisvineyard.com
SUMMARY:12th Annual - His Vineyard Car Show
DESCRIPTION:
URL:https://hisvineyard.com/event/12th-annual-his-vineyard-car-show/
LOCATION:Church Parking Lot\, 656 Arlington Road\, Greer\, SC\, 29651\, United States
CATEGORIES:Special Events
ATTACH;FMTTYPE=image/jpeg:https://hisvineyard.com/wp-content/uploads/2024/11/IMG_4613-1.jpg
ORGANIZER;CN="Daron Gray":MAILTO:darongray70@yahoo.com
END:VEVENT
BEGIN:VEVENT
DTSTART;TZID=America/New_York:20260523T193000
DTEND;TZID=America/New_York:20260523T200000
DTSTAMP:20260420T061814
CREATED:20250407T212248Z
LAST-MODIFIED:20250407T212248Z
UID:10004304-1779564600-1779566400@hisvineyard.com
SUMMARY:"In His Word" - TV Program
DESCRIPTION:
URL:https://hisvineyard.com/event/in-his-word-tv-program-6/2026-05-23/
LOCATION:WGGS – Channel 16
CATEGORIES:Special Events
ATTACH;FMTTYPE=image/png:https://hisvineyard.com/wp-content/uploads/2024/12/Screenshot-2024-12-13-at-10.29.25 AM.png
END:VEVENT
BEGIN:VEVENT
DTSTART;TZID=America/New_York:20260527T190000
DTEND;TZID=America/New_York:20260527T200000
DTSTAMP:20260420T061815
CREATED:20260405T014140Z
LAST-MODIFIED:20260405T020303Z
UID:10007967-1779908400-1779912000@hisvineyard.com
SUMMARY:Wednesday Night Prayer Meeting - Reading of the Book of Revelations
DESCRIPTION:Receive the Revelation Blessing as Pastor Keith reads the book of Revelations aloud from the Amplified Bible.
URL:https://hisvineyard.com/event/wednesday-night-prayer-meeting-2-2/2026-05-27/
LOCATION:Church Atrium\, 656 Arlington Road\, Greer\, SC\, 29650\, United States
CATEGORIES:Bibe Study / Fellowship,Special Events
END:VEVENT
BEGIN:VEVENT
DTSTART;TZID=America/New_York:20260530T193000
DTEND;TZID=America/New_York:20260530T200000
DTSTAMP:20260420T061815
CREATED:20250407T212248Z
LAST-MODIFIED:20250407T212248Z
UID:10004305-1780169400-1780171200@hisvineyard.com
SUMMARY:"In His Word" - TV Program
DESCRIPTION:
URL:https://hisvineyard.com/event/in-his-word-tv-program-6/2026-05-30/
LOCATION:WGGS – Channel 16
CATEGORIES:Special Events
ATTACH;FMTTYPE=image/png:https://hisvineyard.com/wp-content/uploads/2024/12/Screenshot-2024-12-13-at-10.29.25 AM.png
END:VEVENT
END:VCALENDAR