BEGIN:VCALENDAR
VERSION:2.0
PRODID:-//His Vineyard - ECPv6.15.20//NONSGML v1.0//EN
CALSCALE:GREGORIAN
METHOD:PUBLISH
X-WR-CALNAME:His Vineyard
X-ORIGINAL-URL:https://hisvineyard.com
X-WR-CALDESC:Events for His Vineyard
REFRESH-INTERVAL;VALUE=DURATION:PT1H
X-Robots-Tag:noindex
X-PUBLISHED-TTL:PT1H
BEGIN:VTIMEZONE
TZID:America/New_York
BEGIN:DAYLIGHT
TZOFFSETFROM:-0500
TZOFFSETTO:-0400
TZNAME:EDT
DTSTART:20250309T070000
END:DAYLIGHT
BEGIN:STANDARD
TZOFFSETFROM:-0400
TZOFFSETTO:-0500
TZNAME:EST
DTSTART:20251102T060000
END:STANDARD
BEGIN:DAYLIGHT
TZOFFSETFROM:-0500
TZOFFSETTO:-0400
TZNAME:EDT
DTSTART:20260308T070000
END:DAYLIGHT
BEGIN:STANDARD
TZOFFSETFROM:-0400
TZOFFSETTO:-0500
TZNAME:EST
DTSTART:20261101T060000
END:STANDARD
BEGIN:DAYLIGHT
TZOFFSETFROM:-0500
TZOFFSETTO:-0400
TZNAME:EDT
DTSTART:20270314T070000
END:DAYLIGHT
BEGIN:STANDARD
TZOFFSETFROM:-0400
TZOFFSETTO:-0500
TZNAME:EST
DTSTART:20271107T060000
END:STANDARD
END:VTIMEZONE
BEGIN:VEVENT
DTSTART;TZID=America/New_York:20261003T193000
DTEND;TZID=America/New_York:20261003T200000
DTSTAMP:20260420T140308
CREATED:20250407T212248Z
LAST-MODIFIED:20250407T212248Z
UID:10004323-1791055800-1791057600@hisvineyard.com
SUMMARY:"In His Word" - TV Program
DESCRIPTION:
URL:https://hisvineyard.com/event/in-his-word-tv-program-6/2026-10-03/
LOCATION:WGGS – Channel 16
CATEGORIES:Special Events
ATTACH;FMTTYPE=image/png:https://hisvineyard.com/wp-content/uploads/2024/12/Screenshot-2024-12-13-at-10.29.25 AM.png
END:VEVENT
BEGIN:VEVENT
DTSTART;TZID=America/New_York:20261010T193000
DTEND;TZID=America/New_York:20261010T200000
DTSTAMP:20260420T140308
CREATED:20250407T212248Z
LAST-MODIFIED:20250407T212248Z
UID:10004324-1791660600-1791662400@hisvineyard.com
SUMMARY:"In His Word" - TV Program
DESCRIPTION:
URL:https://hisvineyard.com/event/in-his-word-tv-program-6/2026-10-10/
LOCATION:WGGS – Channel 16
CATEGORIES:Special Events
ATTACH;FMTTYPE=image/png:https://hisvineyard.com/wp-content/uploads/2024/12/Screenshot-2024-12-13-at-10.29.25 AM.png
END:VEVENT
BEGIN:VEVENT
DTSTART;TZID=America/New_York:20261017T193000
DTEND;TZID=America/New_York:20261017T200000
DTSTAMP:20260420T140308
CREATED:20250407T212248Z
LAST-MODIFIED:20250407T212248Z
UID:10004325-1792265400-1792267200@hisvineyard.com
SUMMARY:"In His Word" - TV Program
DESCRIPTION:
URL:https://hisvineyard.com/event/in-his-word-tv-program-6/2026-10-17/
LOCATION:WGGS – Channel 16
CATEGORIES:Special Events
ATTACH;FMTTYPE=image/png:https://hisvineyard.com/wp-content/uploads/2024/12/Screenshot-2024-12-13-at-10.29.25 AM.png
END:VEVENT
BEGIN:VEVENT
DTSTART;TZID=America/New_York:20261024T193000
DTEND;TZID=America/New_York:20261024T200000
DTSTAMP:20260420T140308
CREATED:20250407T212248Z
LAST-MODIFIED:20250407T212248Z
UID:10004326-1792870200-1792872000@hisvineyard.com
SUMMARY:"In His Word" - TV Program
DESCRIPTION:
URL:https://hisvineyard.com/event/in-his-word-tv-program-6/2026-10-24/
LOCATION:WGGS – Channel 16
CATEGORIES:Special Events
ATTACH;FMTTYPE=image/png:https://hisvineyard.com/wp-content/uploads/2024/12/Screenshot-2024-12-13-at-10.29.25 AM.png
END:VEVENT
BEGIN:VEVENT
DTSTART;TZID=America/New_York:20261031T193000
DTEND;TZID=America/New_York:20261031T200000
DTSTAMP:20260420T140308
CREATED:20250407T212248Z
LAST-MODIFIED:20250407T212248Z
UID:10004327-1793475000-1793476800@hisvineyard.com
SUMMARY:"In His Word" - TV Program
DESCRIPTION:
URL:https://hisvineyard.com/event/in-his-word-tv-program-6/2026-10-31/
LOCATION:WGGS – Channel 16
CATEGORIES:Special Events
ATTACH;FMTTYPE=image/png:https://hisvineyard.com/wp-content/uploads/2024/12/Screenshot-2024-12-13-at-10.29.25 AM.png
END:VEVENT
END:VCALENDAR