BEGIN:VCALENDAR
VERSION:2.0
PRODID:-//His Vineyard - ECPv6.15.20//NONSGML v1.0//EN
CALSCALE:GREGORIAN
METHOD:PUBLISH
X-ORIGINAL-URL:https://hisvineyard.com
X-WR-CALDESC:Events for His Vineyard
REFRESH-INTERVAL;VALUE=DURATION:PT1H
X-Robots-Tag:noindex
X-PUBLISHED-TTL:PT1H
BEGIN:VTIMEZONE
TZID:America/New_York
BEGIN:DAYLIGHT
TZOFFSETFROM:-0500
TZOFFSETTO:-0400
TZNAME:EDT
DTSTART:20250309T070000
END:DAYLIGHT
BEGIN:STANDARD
TZOFFSETFROM:-0400
TZOFFSETTO:-0500
TZNAME:EST
DTSTART:20251102T060000
END:STANDARD
BEGIN:DAYLIGHT
TZOFFSETFROM:-0500
TZOFFSETTO:-0400
TZNAME:EDT
DTSTART:20260308T070000
END:DAYLIGHT
BEGIN:STANDARD
TZOFFSETFROM:-0400
TZOFFSETTO:-0500
TZNAME:EST
DTSTART:20261101T060000
END:STANDARD
BEGIN:DAYLIGHT
TZOFFSETFROM:-0500
TZOFFSETTO:-0400
TZNAME:EDT
DTSTART:20270314T070000
END:DAYLIGHT
BEGIN:STANDARD
TZOFFSETFROM:-0400
TZOFFSETTO:-0500
TZNAME:EST
DTSTART:20271107T060000
END:STANDARD
END:VTIMEZONE
BEGIN:VEVENT
DTSTART;TZID=America/New_York:20260801T193000
DTEND;TZID=America/New_York:20260801T200000
DTSTAMP:20260420T105415
CREATED:20250407T212248Z
LAST-MODIFIED:20250407T212248Z
UID:10004314-1785612600-1785614400@hisvineyard.com
SUMMARY:"In His Word" - TV Program
DESCRIPTION:
URL:https://hisvineyard.com/event/in-his-word-tv-program-6/2026-08-01/
LOCATION:WGGS – Channel 16
CATEGORIES:Special Events
ATTACH;FMTTYPE=image/png:https://hisvineyard.com/wp-content/uploads/2024/12/Screenshot-2024-12-13-at-10.29.25 AM.png
END:VEVENT
BEGIN:VEVENT
DTSTART;TZID=America/New_York:20260802T093000
DTEND;TZID=America/New_York:20260802T103000
DTSTAMP:20260420T105415
CREATED:20250910T234732Z
LAST-MODIFIED:20250910T234732Z
UID:10005304-1785663000-1785666600@hisvineyard.com
SUMMARY:9:30AM Service
DESCRIPTION:
URL:https://hisvineyard.com/event/930am-service/2026-08-02/
LOCATION:Worship Center
END:VEVENT
BEGIN:VEVENT
DTSTART;TZID=America/New_York:20260802T103000
DTEND;TZID=America/New_York:20260802T120000
DTSTAMP:20260420T105415
CREATED:20250910T234528Z
LAST-MODIFIED:20250910T234528Z
UID:10005043-1785666600-1785672000@hisvineyard.com
SUMMARY:10:30AM Service
DESCRIPTION:
URL:https://hisvineyard.com/event/1030am-service/2026-08-02/
LOCATION:Worship Center
END:VEVENT
BEGIN:VEVENT
DTSTART;TZID=America/New_York:20260804T060000
DTEND;TZID=America/New_York:20260804T070000
DTSTAMP:20260420T105415
CREATED:20251202T135140Z
LAST-MODIFIED:20251211T130526Z
UID:10007498-1785823200-1785826800@hisvineyard.com
SUMMARY:Gideons Army
DESCRIPTION:
URL:https://hisvineyard.com/event/gideons-army-76/2026-08-04/
LOCATION:The Gap – Church Office\, 120 Sizemore Street\, Greer\, SC\, 29651\, United States
CATEGORIES:Bibe Study / Fellowship
ORGANIZER;CN="Fred Fuller":MAILTO:ffuller55@gmail.com
END:VEVENT
BEGIN:VEVENT
DTSTART;TZID=America/New_York:20260805T190000
DTEND;TZID=America/New_York:20260805T200000
DTSTAMP:20260420T105415
CREATED:20260127T004329Z
LAST-MODIFIED:20260127T004330Z
UID:10005567-1785956400-1785960000@hisvineyard.com
SUMMARY:Youth Group
DESCRIPTION:
URL:https://hisvineyard.com/event/youth-group-2/2026-08-05/
LOCATION:Worship Center
CATEGORIES:Bibe Study / Fellowship,Youth Groups
ORGANIZER;CN="Derek Henderson - Youth Pastor":MAILTO:derekh1981@gmail.com
END:VEVENT
BEGIN:VEVENT
DTSTART;TZID=America/New_York:20260805T190000
DTEND;TZID=America/New_York:20260805T200000
DTSTAMP:20260420T105415
CREATED:20260127T004523Z
LAST-MODIFIED:20260127T004524Z
UID:10005829-1785956400-1785960000@hisvineyard.com
SUMMARY:Kids Vineyard
DESCRIPTION:
URL:https://hisvineyard.com/event/kids-vineyard-152/2026-08-05/
LOCATION:Kids Vineyard Room
CATEGORIES:Bibe Study / Fellowship,Childrens Ministry
END:VEVENT
BEGIN:VEVENT
DTSTART;TZID=America/New_York:20260805T190000
DTEND;TZID=America/New_York:20260805T200000
DTSTAMP:20260420T105415
CREATED:20260127T004721Z
LAST-MODIFIED:20260127T004722Z
UID:10006090-1785956400-1785960000@hisvineyard.com
SUMMARY:Preschool
DESCRIPTION:
URL:https://hisvineyard.com/event/preschool-2/2026-08-05/
CATEGORIES:Bibe Study / Fellowship,Childrens Ministry
ORGANIZER;CN="Nikki Piper - Preschool Director":MAILTO:nikkipiperpreschool@gmail.com
END:VEVENT
BEGIN:VEVENT
DTSTART;TZID=America/New_York:20260805T190000
DTEND;TZID=America/New_York:20260805T200000
DTSTAMP:20260420T105415
CREATED:20260127T004801Z
LAST-MODIFIED:20260127T004802Z
UID:10006616-1785956400-1785960000@hisvineyard.com
SUMMARY:Nursery
DESCRIPTION:
URL:https://hisvineyard.com/event/nursery-2/2026-08-05/
LOCATION:Nursery – Little Vines
CATEGORIES:Bibe Study / Fellowship,Childrens Ministry
ORGANIZER;CN="Hillary Thompson - Nursery Director":MAILTO:hutcheson.hillary@gmail.com
END:VEVENT
BEGIN:VEVENT
DTSTART;TZID=America/New_York:20260805T190000
DTEND;TZID=America/New_York:20260805T200000
DTSTAMP:20260420T105415
CREATED:20260127T004916Z
LAST-MODIFIED:20260127T004917Z
UID:10006877-1785956400-1785960000@hisvineyard.com
SUMMARY:Toddlers
DESCRIPTION:
URL:https://hisvineyard.com/event/toddlers-2/2026-08-05/
CATEGORIES:Bibe Study / Fellowship,Childrens Ministry
ORGANIZER;CN="Hillary Thompson - Nursery Director":MAILTO:hutcheson.hillary@gmail.com
END:VEVENT
BEGIN:VEVENT
DTSTART;TZID=America/New_York:20260805T190000
DTEND;TZID=America/New_York:20260805T200000
DTSTAMP:20260420T105415
CREATED:20260127T005020Z
LAST-MODIFIED:20260405T020425Z
UID:10007140-1785956400-1785960000@hisvineyard.com
SUMMARY:Wednesday Night Prayer Meeting
DESCRIPTION:
URL:https://hisvineyard.com/event/wednesday-night-prayer-meeting-2/2026-08-05/
LOCATION:Youth Room – Prayer meeting room
CATEGORIES:Bibe Study / Fellowship
END:VEVENT
BEGIN:VEVENT
DTSTART;TZID=America/New_York:20260808T193000
DTEND;TZID=America/New_York:20260808T200000
DTSTAMP:20260420T105415
CREATED:20250407T212248Z
LAST-MODIFIED:20250407T212248Z
UID:10004315-1786217400-1786219200@hisvineyard.com
SUMMARY:"In His Word" - TV Program
DESCRIPTION:
URL:https://hisvineyard.com/event/in-his-word-tv-program-6/2026-08-08/
LOCATION:WGGS – Channel 16
CATEGORIES:Special Events
ATTACH;FMTTYPE=image/png:https://hisvineyard.com/wp-content/uploads/2024/12/Screenshot-2024-12-13-at-10.29.25 AM.png
END:VEVENT
BEGIN:VEVENT
DTSTART;TZID=America/New_York:20260809T093000
DTEND;TZID=America/New_York:20260809T103000
DTSTAMP:20260420T105415
CREATED:20250910T234732Z
LAST-MODIFIED:20250910T234732Z
UID:10005305-1786267800-1786271400@hisvineyard.com
SUMMARY:9:30AM Service
DESCRIPTION:
URL:https://hisvineyard.com/event/930am-service/2026-08-09/
LOCATION:Worship Center
END:VEVENT
BEGIN:VEVENT
DTSTART;TZID=America/New_York:20260809T103000
DTEND;TZID=America/New_York:20260809T120000
DTSTAMP:20260420T105415
CREATED:20250910T234528Z
LAST-MODIFIED:20250910T234528Z
UID:10005044-1786271400-1786276800@hisvineyard.com
SUMMARY:10:30AM Service
DESCRIPTION:
URL:https://hisvineyard.com/event/1030am-service/2026-08-09/
LOCATION:Worship Center
END:VEVENT
BEGIN:VEVENT
DTSTART;TZID=America/New_York:20260811T060000
DTEND;TZID=America/New_York:20260811T070000
DTSTAMP:20260420T105415
CREATED:20251202T135140Z
LAST-MODIFIED:20251211T130526Z
UID:10007499-1786428000-1786431600@hisvineyard.com
SUMMARY:Gideons Army
DESCRIPTION:
URL:https://hisvineyard.com/event/gideons-army-76/2026-08-11/
LOCATION:The Gap – Church Office\, 120 Sizemore Street\, Greer\, SC\, 29651\, United States
CATEGORIES:Bibe Study / Fellowship
ORGANIZER;CN="Fred Fuller":MAILTO:ffuller55@gmail.com
END:VEVENT
BEGIN:VEVENT
DTSTART;TZID=America/New_York:20260812T190000
DTEND;TZID=America/New_York:20260812T200000
DTSTAMP:20260420T105415
CREATED:20260127T004329Z
LAST-MODIFIED:20260127T004330Z
UID:10005568-1786561200-1786564800@hisvineyard.com
SUMMARY:Youth Group
DESCRIPTION:
URL:https://hisvineyard.com/event/youth-group-2/2026-08-12/
LOCATION:Worship Center
CATEGORIES:Bibe Study / Fellowship,Youth Groups
ORGANIZER;CN="Derek Henderson - Youth Pastor":MAILTO:derekh1981@gmail.com
END:VEVENT
BEGIN:VEVENT
DTSTART;TZID=America/New_York:20260812T190000
DTEND;TZID=America/New_York:20260812T200000
DTSTAMP:20260420T105415
CREATED:20260127T004523Z
LAST-MODIFIED:20260127T004524Z
UID:10005830-1786561200-1786564800@hisvineyard.com
SUMMARY:Kids Vineyard
DESCRIPTION:
URL:https://hisvineyard.com/event/kids-vineyard-152/2026-08-12/
LOCATION:Kids Vineyard Room
CATEGORIES:Bibe Study / Fellowship,Childrens Ministry
END:VEVENT
BEGIN:VEVENT
DTSTART;TZID=America/New_York:20260812T190000
DTEND;TZID=America/New_York:20260812T200000
DTSTAMP:20260420T105416
CREATED:20260127T004721Z
LAST-MODIFIED:20260127T004722Z
UID:10006091-1786561200-1786564800@hisvineyard.com
SUMMARY:Preschool
DESCRIPTION:
URL:https://hisvineyard.com/event/preschool-2/2026-08-12/
CATEGORIES:Bibe Study / Fellowship,Childrens Ministry
ORGANIZER;CN="Nikki Piper - Preschool Director":MAILTO:nikkipiperpreschool@gmail.com
END:VEVENT
BEGIN:VEVENT
DTSTART;TZID=America/New_York:20260812T190000
DTEND;TZID=America/New_York:20260812T200000
DTSTAMP:20260420T105416
CREATED:20260127T004801Z
LAST-MODIFIED:20260127T004802Z
UID:10006617-1786561200-1786564800@hisvineyard.com
SUMMARY:Nursery
DESCRIPTION:
URL:https://hisvineyard.com/event/nursery-2/2026-08-12/
LOCATION:Nursery – Little Vines
CATEGORIES:Bibe Study / Fellowship,Childrens Ministry
ORGANIZER;CN="Hillary Thompson - Nursery Director":MAILTO:hutcheson.hillary@gmail.com
END:VEVENT
BEGIN:VEVENT
DTSTART;TZID=America/New_York:20260812T190000
DTEND;TZID=America/New_York:20260812T200000
DTSTAMP:20260420T105416
CREATED:20260127T004916Z
LAST-MODIFIED:20260127T004917Z
UID:10006878-1786561200-1786564800@hisvineyard.com
SUMMARY:Toddlers
DESCRIPTION:
URL:https://hisvineyard.com/event/toddlers-2/2026-08-12/
CATEGORIES:Bibe Study / Fellowship,Childrens Ministry
ORGANIZER;CN="Hillary Thompson - Nursery Director":MAILTO:hutcheson.hillary@gmail.com
END:VEVENT
BEGIN:VEVENT
DTSTART;TZID=America/New_York:20260812T190000
DTEND;TZID=America/New_York:20260812T200000
DTSTAMP:20260420T105416
CREATED:20260127T005020Z
LAST-MODIFIED:20260405T020425Z
UID:10007141-1786561200-1786564800@hisvineyard.com
SUMMARY:Wednesday Night Prayer Meeting
DESCRIPTION:
URL:https://hisvineyard.com/event/wednesday-night-prayer-meeting-2/2026-08-12/
LOCATION:Youth Room – Prayer meeting room
CATEGORIES:Bibe Study / Fellowship
END:VEVENT
BEGIN:VEVENT
DTSTART;TZID=America/New_York:20260815T193000
DTEND;TZID=America/New_York:20260815T200000
DTSTAMP:20260420T105416
CREATED:20250407T212248Z
LAST-MODIFIED:20250407T212248Z
UID:10004316-1786822200-1786824000@hisvineyard.com
SUMMARY:"In His Word" - TV Program
DESCRIPTION:
URL:https://hisvineyard.com/event/in-his-word-tv-program-6/2026-08-15/
LOCATION:WGGS – Channel 16
CATEGORIES:Special Events
ATTACH;FMTTYPE=image/png:https://hisvineyard.com/wp-content/uploads/2024/12/Screenshot-2024-12-13-at-10.29.25 AM.png
END:VEVENT
BEGIN:VEVENT
DTSTART;TZID=America/New_York:20260816T093000
DTEND;TZID=America/New_York:20260816T103000
DTSTAMP:20260420T105416
CREATED:20250910T234732Z
LAST-MODIFIED:20250910T234732Z
UID:10005306-1786872600-1786876200@hisvineyard.com
SUMMARY:9:30AM Service
DESCRIPTION:
URL:https://hisvineyard.com/event/930am-service/2026-08-16/
LOCATION:Worship Center
END:VEVENT
BEGIN:VEVENT
DTSTART;TZID=America/New_York:20260816T103000
DTEND;TZID=America/New_York:20260816T120000
DTSTAMP:20260420T105416
CREATED:20250910T234528Z
LAST-MODIFIED:20250910T234528Z
UID:10005045-1786876200-1786881600@hisvineyard.com
SUMMARY:10:30AM Service
DESCRIPTION:
URL:https://hisvineyard.com/event/1030am-service/2026-08-16/
LOCATION:Worship Center
END:VEVENT
BEGIN:VEVENT
DTSTART;TZID=America/New_York:20260818T060000
DTEND;TZID=America/New_York:20260818T070000
DTSTAMP:20260420T105416
CREATED:20251202T135140Z
LAST-MODIFIED:20251211T130526Z
UID:10007500-1787032800-1787036400@hisvineyard.com
SUMMARY:Gideons Army
DESCRIPTION:
URL:https://hisvineyard.com/event/gideons-army-76/2026-08-18/
LOCATION:The Gap – Church Office\, 120 Sizemore Street\, Greer\, SC\, 29651\, United States
CATEGORIES:Bibe Study / Fellowship
ORGANIZER;CN="Fred Fuller":MAILTO:ffuller55@gmail.com
END:VEVENT
BEGIN:VEVENT
DTSTART;TZID=America/New_York:20260819T190000
DTEND;TZID=America/New_York:20260819T200000
DTSTAMP:20260420T105416
CREATED:20260127T004329Z
LAST-MODIFIED:20260127T004330Z
UID:10005569-1787166000-1787169600@hisvineyard.com
SUMMARY:Youth Group
DESCRIPTION:
URL:https://hisvineyard.com/event/youth-group-2/2026-08-19/
LOCATION:Worship Center
CATEGORIES:Bibe Study / Fellowship,Youth Groups
ORGANIZER;CN="Derek Henderson - Youth Pastor":MAILTO:derekh1981@gmail.com
END:VEVENT
BEGIN:VEVENT
DTSTART;TZID=America/New_York:20260819T190000
DTEND;TZID=America/New_York:20260819T200000
DTSTAMP:20260420T105416
CREATED:20260127T004523Z
LAST-MODIFIED:20260127T004524Z
UID:10005831-1787166000-1787169600@hisvineyard.com
SUMMARY:Kids Vineyard
DESCRIPTION:
URL:https://hisvineyard.com/event/kids-vineyard-152/2026-08-19/
LOCATION:Kids Vineyard Room
CATEGORIES:Bibe Study / Fellowship,Childrens Ministry
END:VEVENT
BEGIN:VEVENT
DTSTART;TZID=America/New_York:20260819T190000
DTEND;TZID=America/New_York:20260819T200000
DTSTAMP:20260420T105416
CREATED:20260127T004721Z
LAST-MODIFIED:20260127T004722Z
UID:10006092-1787166000-1787169600@hisvineyard.com
SUMMARY:Preschool
DESCRIPTION:
URL:https://hisvineyard.com/event/preschool-2/2026-08-19/
CATEGORIES:Bibe Study / Fellowship,Childrens Ministry
ORGANIZER;CN="Nikki Piper - Preschool Director":MAILTO:nikkipiperpreschool@gmail.com
END:VEVENT
BEGIN:VEVENT
DTSTART;TZID=America/New_York:20260819T190000
DTEND;TZID=America/New_York:20260819T200000
DTSTAMP:20260420T105416
CREATED:20260127T004801Z
LAST-MODIFIED:20260127T004802Z
UID:10006618-1787166000-1787169600@hisvineyard.com
SUMMARY:Nursery
DESCRIPTION:
URL:https://hisvineyard.com/event/nursery-2/2026-08-19/
LOCATION:Nursery – Little Vines
CATEGORIES:Bibe Study / Fellowship,Childrens Ministry
ORGANIZER;CN="Hillary Thompson - Nursery Director":MAILTO:hutcheson.hillary@gmail.com
END:VEVENT
BEGIN:VEVENT
DTSTART;TZID=America/New_York:20260819T190000
DTEND;TZID=America/New_York:20260819T200000
DTSTAMP:20260420T105416
CREATED:20260127T004916Z
LAST-MODIFIED:20260127T004917Z
UID:10006879-1787166000-1787169600@hisvineyard.com
SUMMARY:Toddlers
DESCRIPTION:
URL:https://hisvineyard.com/event/toddlers-2/2026-08-19/
CATEGORIES:Bibe Study / Fellowship,Childrens Ministry
ORGANIZER;CN="Hillary Thompson - Nursery Director":MAILTO:hutcheson.hillary@gmail.com
END:VEVENT
BEGIN:VEVENT
DTSTART;TZID=America/New_York:20260819T190000
DTEND;TZID=America/New_York:20260819T200000
DTSTAMP:20260420T105416
CREATED:20260127T005020Z
LAST-MODIFIED:20260405T020425Z
UID:10007142-1787166000-1787169600@hisvineyard.com
SUMMARY:Wednesday Night Prayer Meeting
DESCRIPTION:
URL:https://hisvineyard.com/event/wednesday-night-prayer-meeting-2/2026-08-19/
LOCATION:Youth Room – Prayer meeting room
CATEGORIES:Bibe Study / Fellowship
END:VEVENT
END:VCALENDAR