BEGIN:VCALENDAR
VERSION:2.0
PRODID:-//His Vineyard - ECPv6.15.20//NONSGML v1.0//EN
CALSCALE:GREGORIAN
METHOD:PUBLISH
X-WR-CALNAME:His Vineyard
X-ORIGINAL-URL:https://hisvineyard.com
X-WR-CALDESC:Events for His Vineyard
REFRESH-INTERVAL;VALUE=DURATION:PT1H
X-Robots-Tag:noindex
X-PUBLISHED-TTL:PT1H
BEGIN:VTIMEZONE
TZID:America/New_York
BEGIN:DAYLIGHT
TZOFFSETFROM:-0500
TZOFFSETTO:-0400
TZNAME:EDT
DTSTART:20260308T070000
END:DAYLIGHT
BEGIN:STANDARD
TZOFFSETFROM:-0400
TZOFFSETTO:-0500
TZNAME:EST
DTSTART:20261101T060000
END:STANDARD
BEGIN:DAYLIGHT
TZOFFSETFROM:-0500
TZOFFSETTO:-0400
TZNAME:EDT
DTSTART:20270314T070000
END:DAYLIGHT
BEGIN:STANDARD
TZOFFSETFROM:-0400
TZOFFSETTO:-0500
TZNAME:EST
DTSTART:20271107T060000
END:STANDARD
BEGIN:DAYLIGHT
TZOFFSETFROM:-0500
TZOFFSETTO:-0400
TZNAME:EDT
DTSTART:20280312T070000
END:DAYLIGHT
BEGIN:STANDARD
TZOFFSETFROM:-0400
TZOFFSETTO:-0500
TZNAME:EST
DTSTART:20281105T060000
END:STANDARD
END:VTIMEZONE
BEGIN:VEVENT
DTSTART;TZID=America/New_York:20270502T093000
DTEND;TZID=America/New_York:20270502T103000
DTSTAMP:20260421T013221
CREATED:20250910T234732Z
LAST-MODIFIED:20250910T234732Z
UID:10005343-1809250200-1809253800@hisvineyard.com
SUMMARY:9:30AM Service
DESCRIPTION:
URL:https://hisvineyard.com/event/930am-service/2027-05-02/
LOCATION:Worship Center
END:VEVENT
BEGIN:VEVENT
DTSTART;TZID=America/New_York:20270502T103000
DTEND;TZID=America/New_York:20270502T120000
DTSTAMP:20260421T013221
CREATED:20250910T234528Z
LAST-MODIFIED:20250910T234528Z
UID:10005082-1809253800-1809259200@hisvineyard.com
SUMMARY:10:30AM Service
DESCRIPTION:
URL:https://hisvineyard.com/event/1030am-service/2027-05-02/
LOCATION:Worship Center
END:VEVENT
BEGIN:VEVENT
DTSTART;TZID=America/New_York:20270504T060000
DTEND;TZID=America/New_York:20270504T070000
DTSTAMP:20260421T013221
CREATED:20251202T135140Z
LAST-MODIFIED:20251211T130526Z
UID:10007537-1809410400-1809414000@hisvineyard.com
SUMMARY:Gideons Army
DESCRIPTION:
URL:https://hisvineyard.com/event/gideons-army-76/2027-05-04/
LOCATION:The Gap – Church Office\, 120 Sizemore Street\, Greer\, SC\, 29651\, United States
CATEGORIES:Bibe Study / Fellowship
ORGANIZER;CN="Fred Fuller":MAILTO:ffuller55@gmail.com
END:VEVENT
BEGIN:VEVENT
DTSTART;TZID=America/New_York:20270505T190000
DTEND;TZID=America/New_York:20270505T200000
DTSTAMP:20260421T013221
CREATED:20260127T004329Z
LAST-MODIFIED:20260127T004330Z
UID:10005606-1809543600-1809547200@hisvineyard.com
SUMMARY:Youth Group
DESCRIPTION:
URL:https://hisvineyard.com/event/youth-group-2/2027-05-05/
LOCATION:Worship Center
CATEGORIES:Bibe Study / Fellowship,Youth Groups
ORGANIZER;CN="Derek Henderson - Youth Pastor":MAILTO:derekh1981@gmail.com
END:VEVENT
BEGIN:VEVENT
DTSTART;TZID=America/New_York:20270505T190000
DTEND;TZID=America/New_York:20270505T200000
DTSTAMP:20260421T013221
CREATED:20260127T004523Z
LAST-MODIFIED:20260127T004524Z
UID:10005868-1809543600-1809547200@hisvineyard.com
SUMMARY:Kids Vineyard
DESCRIPTION:
URL:https://hisvineyard.com/event/kids-vineyard-152/2027-05-05/
LOCATION:Kids Vineyard Room
CATEGORIES:Bibe Study / Fellowship,Childrens Ministry
END:VEVENT
BEGIN:VEVENT
DTSTART;TZID=America/New_York:20270505T190000
DTEND;TZID=America/New_York:20270505T200000
DTSTAMP:20260421T013221
CREATED:20260127T004721Z
LAST-MODIFIED:20260127T004722Z
UID:10006129-1809543600-1809547200@hisvineyard.com
SUMMARY:Preschool
DESCRIPTION:
URL:https://hisvineyard.com/event/preschool-2/2027-05-05/
CATEGORIES:Bibe Study / Fellowship,Childrens Ministry
ORGANIZER;CN="Nikki Piper - Preschool Director":MAILTO:nikkipiperpreschool@gmail.com
END:VEVENT
BEGIN:VEVENT
DTSTART;TZID=America/New_York:20270505T190000
DTEND;TZID=America/New_York:20270505T200000
DTSTAMP:20260421T013221
CREATED:20260127T004801Z
LAST-MODIFIED:20260127T004802Z
UID:10006655-1809543600-1809547200@hisvineyard.com
SUMMARY:Nursery
DESCRIPTION:
URL:https://hisvineyard.com/event/nursery-2/2027-05-05/
LOCATION:Nursery – Little Vines
CATEGORIES:Bibe Study / Fellowship,Childrens Ministry
ORGANIZER;CN="Hillary Thompson - Nursery Director":MAILTO:hutcheson.hillary@gmail.com
END:VEVENT
BEGIN:VEVENT
DTSTART;TZID=America/New_York:20270505T190000
DTEND;TZID=America/New_York:20270505T200000
DTSTAMP:20260421T013221
CREATED:20260127T004916Z
LAST-MODIFIED:20260127T004917Z
UID:10006916-1809543600-1809547200@hisvineyard.com
SUMMARY:Toddlers
DESCRIPTION:
URL:https://hisvineyard.com/event/toddlers-2/2027-05-05/
CATEGORIES:Bibe Study / Fellowship,Childrens Ministry
ORGANIZER;CN="Hillary Thompson - Nursery Director":MAILTO:hutcheson.hillary@gmail.com
END:VEVENT
BEGIN:VEVENT
DTSTART;TZID=America/New_York:20270505T190000
DTEND;TZID=America/New_York:20270505T200000
DTSTAMP:20260421T013221
CREATED:20260127T005020Z
LAST-MODIFIED:20260405T020425Z
UID:10007179-1809543600-1809547200@hisvineyard.com
SUMMARY:Wednesday Night Prayer Meeting
DESCRIPTION:
URL:https://hisvineyard.com/event/wednesday-night-prayer-meeting-2/2027-05-05/
LOCATION:Youth Room – Prayer meeting room
CATEGORIES:Bibe Study / Fellowship
END:VEVENT
BEGIN:VEVENT
DTSTART;TZID=America/New_York:20270509T093000
DTEND;TZID=America/New_York:20270509T103000
DTSTAMP:20260421T013221
CREATED:20250910T234732Z
LAST-MODIFIED:20250910T234732Z
UID:10005344-1809855000-1809858600@hisvineyard.com
SUMMARY:9:30AM Service
DESCRIPTION:
URL:https://hisvineyard.com/event/930am-service/2027-05-09/
LOCATION:Worship Center
END:VEVENT
BEGIN:VEVENT
DTSTART;TZID=America/New_York:20270509T103000
DTEND;TZID=America/New_York:20270509T120000
DTSTAMP:20260421T013221
CREATED:20250910T234528Z
LAST-MODIFIED:20250910T234528Z
UID:10005083-1809858600-1809864000@hisvineyard.com
SUMMARY:10:30AM Service
DESCRIPTION:
URL:https://hisvineyard.com/event/1030am-service/2027-05-09/
LOCATION:Worship Center
END:VEVENT
BEGIN:VEVENT
DTSTART;TZID=America/New_York:20270511T060000
DTEND;TZID=America/New_York:20270511T070000
DTSTAMP:20260421T013221
CREATED:20251202T135140Z
LAST-MODIFIED:20251211T130526Z
UID:10007538-1810015200-1810018800@hisvineyard.com
SUMMARY:Gideons Army
DESCRIPTION:
URL:https://hisvineyard.com/event/gideons-army-76/2027-05-11/
LOCATION:The Gap – Church Office\, 120 Sizemore Street\, Greer\, SC\, 29651\, United States
CATEGORIES:Bibe Study / Fellowship
ORGANIZER;CN="Fred Fuller":MAILTO:ffuller55@gmail.com
END:VEVENT
BEGIN:VEVENT
DTSTART;TZID=America/New_York:20270512T190000
DTEND;TZID=America/New_York:20270512T200000
DTSTAMP:20260421T013221
CREATED:20260127T004329Z
LAST-MODIFIED:20260127T004330Z
UID:10005607-1810148400-1810152000@hisvineyard.com
SUMMARY:Youth Group
DESCRIPTION:
URL:https://hisvineyard.com/event/youth-group-2/2027-05-12/
LOCATION:Worship Center
CATEGORIES:Bibe Study / Fellowship,Youth Groups
ORGANIZER;CN="Derek Henderson - Youth Pastor":MAILTO:derekh1981@gmail.com
END:VEVENT
BEGIN:VEVENT
DTSTART;TZID=America/New_York:20270512T190000
DTEND;TZID=America/New_York:20270512T200000
DTSTAMP:20260421T013221
CREATED:20260127T004523Z
LAST-MODIFIED:20260127T004524Z
UID:10005869-1810148400-1810152000@hisvineyard.com
SUMMARY:Kids Vineyard
DESCRIPTION:
URL:https://hisvineyard.com/event/kids-vineyard-152/2027-05-12/
LOCATION:Kids Vineyard Room
CATEGORIES:Bibe Study / Fellowship,Childrens Ministry
END:VEVENT
BEGIN:VEVENT
DTSTART;TZID=America/New_York:20270512T190000
DTEND;TZID=America/New_York:20270512T200000
DTSTAMP:20260421T013221
CREATED:20260127T004721Z
LAST-MODIFIED:20260127T004722Z
UID:10006130-1810148400-1810152000@hisvineyard.com
SUMMARY:Preschool
DESCRIPTION:
URL:https://hisvineyard.com/event/preschool-2/2027-05-12/
CATEGORIES:Bibe Study / Fellowship,Childrens Ministry
ORGANIZER;CN="Nikki Piper - Preschool Director":MAILTO:nikkipiperpreschool@gmail.com
END:VEVENT
BEGIN:VEVENT
DTSTART;TZID=America/New_York:20270512T190000
DTEND;TZID=America/New_York:20270512T200000
DTSTAMP:20260421T013221
CREATED:20260127T004801Z
LAST-MODIFIED:20260127T004802Z
UID:10006656-1810148400-1810152000@hisvineyard.com
SUMMARY:Nursery
DESCRIPTION:
URL:https://hisvineyard.com/event/nursery-2/2027-05-12/
LOCATION:Nursery – Little Vines
CATEGORIES:Bibe Study / Fellowship,Childrens Ministry
ORGANIZER;CN="Hillary Thompson - Nursery Director":MAILTO:hutcheson.hillary@gmail.com
END:VEVENT
BEGIN:VEVENT
DTSTART;TZID=America/New_York:20270512T190000
DTEND;TZID=America/New_York:20270512T200000
DTSTAMP:20260421T013221
CREATED:20260127T004916Z
LAST-MODIFIED:20260127T004917Z
UID:10006917-1810148400-1810152000@hisvineyard.com
SUMMARY:Toddlers
DESCRIPTION:
URL:https://hisvineyard.com/event/toddlers-2/2027-05-12/
CATEGORIES:Bibe Study / Fellowship,Childrens Ministry
ORGANIZER;CN="Hillary Thompson - Nursery Director":MAILTO:hutcheson.hillary@gmail.com
END:VEVENT
BEGIN:VEVENT
DTSTART;TZID=America/New_York:20270512T190000
DTEND;TZID=America/New_York:20270512T200000
DTSTAMP:20260421T013221
CREATED:20260127T005020Z
LAST-MODIFIED:20260405T020425Z
UID:10007180-1810148400-1810152000@hisvineyard.com
SUMMARY:Wednesday Night Prayer Meeting
DESCRIPTION:
URL:https://hisvineyard.com/event/wednesday-night-prayer-meeting-2/2027-05-12/
LOCATION:Youth Room – Prayer meeting room
CATEGORIES:Bibe Study / Fellowship
END:VEVENT
BEGIN:VEVENT
DTSTART;TZID=America/New_York:20270516T093000
DTEND;TZID=America/New_York:20270516T103000
DTSTAMP:20260421T013221
CREATED:20250910T234732Z
LAST-MODIFIED:20250910T234732Z
UID:10005345-1810459800-1810463400@hisvineyard.com
SUMMARY:9:30AM Service
DESCRIPTION:
URL:https://hisvineyard.com/event/930am-service/2027-05-16/
LOCATION:Worship Center
END:VEVENT
BEGIN:VEVENT
DTSTART;TZID=America/New_York:20270516T103000
DTEND;TZID=America/New_York:20270516T120000
DTSTAMP:20260421T013221
CREATED:20250910T234528Z
LAST-MODIFIED:20250910T234528Z
UID:10005084-1810463400-1810468800@hisvineyard.com
SUMMARY:10:30AM Service
DESCRIPTION:
URL:https://hisvineyard.com/event/1030am-service/2027-05-16/
LOCATION:Worship Center
END:VEVENT
BEGIN:VEVENT
DTSTART;TZID=America/New_York:20270518T060000
DTEND;TZID=America/New_York:20270518T070000
DTSTAMP:20260421T013221
CREATED:20251202T135140Z
LAST-MODIFIED:20251211T130526Z
UID:10007539-1810620000-1810623600@hisvineyard.com
SUMMARY:Gideons Army
DESCRIPTION:
URL:https://hisvineyard.com/event/gideons-army-76/2027-05-18/
LOCATION:The Gap – Church Office\, 120 Sizemore Street\, Greer\, SC\, 29651\, United States
CATEGORIES:Bibe Study / Fellowship
ORGANIZER;CN="Fred Fuller":MAILTO:ffuller55@gmail.com
END:VEVENT
BEGIN:VEVENT
DTSTART;TZID=America/New_York:20270519T190000
DTEND;TZID=America/New_York:20270519T200000
DTSTAMP:20260421T013221
CREATED:20260127T004329Z
LAST-MODIFIED:20260127T004330Z
UID:10005608-1810753200-1810756800@hisvineyard.com
SUMMARY:Youth Group
DESCRIPTION:
URL:https://hisvineyard.com/event/youth-group-2/2027-05-19/
LOCATION:Worship Center
CATEGORIES:Bibe Study / Fellowship,Youth Groups
ORGANIZER;CN="Derek Henderson - Youth Pastor":MAILTO:derekh1981@gmail.com
END:VEVENT
BEGIN:VEVENT
DTSTART;TZID=America/New_York:20270519T190000
DTEND;TZID=America/New_York:20270519T200000
DTSTAMP:20260421T013221
CREATED:20260127T004523Z
LAST-MODIFIED:20260127T004524Z
UID:10005870-1810753200-1810756800@hisvineyard.com
SUMMARY:Kids Vineyard
DESCRIPTION:
URL:https://hisvineyard.com/event/kids-vineyard-152/2027-05-19/
LOCATION:Kids Vineyard Room
CATEGORIES:Bibe Study / Fellowship,Childrens Ministry
END:VEVENT
BEGIN:VEVENT
DTSTART;TZID=America/New_York:20270519T190000
DTEND;TZID=America/New_York:20270519T200000
DTSTAMP:20260421T013221
CREATED:20260127T004721Z
LAST-MODIFIED:20260127T004722Z
UID:10006131-1810753200-1810756800@hisvineyard.com
SUMMARY:Preschool
DESCRIPTION:
URL:https://hisvineyard.com/event/preschool-2/2027-05-19/
CATEGORIES:Bibe Study / Fellowship,Childrens Ministry
ORGANIZER;CN="Nikki Piper - Preschool Director":MAILTO:nikkipiperpreschool@gmail.com
END:VEVENT
BEGIN:VEVENT
DTSTART;TZID=America/New_York:20270519T190000
DTEND;TZID=America/New_York:20270519T200000
DTSTAMP:20260421T013221
CREATED:20260127T004801Z
LAST-MODIFIED:20260127T004802Z
UID:10006657-1810753200-1810756800@hisvineyard.com
SUMMARY:Nursery
DESCRIPTION:
URL:https://hisvineyard.com/event/nursery-2/2027-05-19/
LOCATION:Nursery – Little Vines
CATEGORIES:Bibe Study / Fellowship,Childrens Ministry
ORGANIZER;CN="Hillary Thompson - Nursery Director":MAILTO:hutcheson.hillary@gmail.com
END:VEVENT
BEGIN:VEVENT
DTSTART;TZID=America/New_York:20270519T190000
DTEND;TZID=America/New_York:20270519T200000
DTSTAMP:20260421T013221
CREATED:20260127T004916Z
LAST-MODIFIED:20260127T004917Z
UID:10006918-1810753200-1810756800@hisvineyard.com
SUMMARY:Toddlers
DESCRIPTION:
URL:https://hisvineyard.com/event/toddlers-2/2027-05-19/
CATEGORIES:Bibe Study / Fellowship,Childrens Ministry
ORGANIZER;CN="Hillary Thompson - Nursery Director":MAILTO:hutcheson.hillary@gmail.com
END:VEVENT
BEGIN:VEVENT
DTSTART;TZID=America/New_York:20270519T190000
DTEND;TZID=America/New_York:20270519T200000
DTSTAMP:20260421T013221
CREATED:20260127T005020Z
LAST-MODIFIED:20260405T020425Z
UID:10007181-1810753200-1810756800@hisvineyard.com
SUMMARY:Wednesday Night Prayer Meeting
DESCRIPTION:
URL:https://hisvineyard.com/event/wednesday-night-prayer-meeting-2/2027-05-19/
LOCATION:Youth Room – Prayer meeting room
CATEGORIES:Bibe Study / Fellowship
END:VEVENT
BEGIN:VEVENT
DTSTART;TZID=America/New_York:20270523T093000
DTEND;TZID=America/New_York:20270523T103000
DTSTAMP:20260421T013221
CREATED:20250910T234732Z
LAST-MODIFIED:20250910T234732Z
UID:10005346-1811064600-1811068200@hisvineyard.com
SUMMARY:9:30AM Service
DESCRIPTION:
URL:https://hisvineyard.com/event/930am-service/2027-05-23/
LOCATION:Worship Center
END:VEVENT
BEGIN:VEVENT
DTSTART;TZID=America/New_York:20270523T103000
DTEND;TZID=America/New_York:20270523T120000
DTSTAMP:20260421T013221
CREATED:20250910T234528Z
LAST-MODIFIED:20250910T234528Z
UID:10005085-1811068200-1811073600@hisvineyard.com
SUMMARY:10:30AM Service
DESCRIPTION:
URL:https://hisvineyard.com/event/1030am-service/2027-05-23/
LOCATION:Worship Center
END:VEVENT
BEGIN:VEVENT
DTSTART;TZID=America/New_York:20270525T060000
DTEND;TZID=America/New_York:20270525T070000
DTSTAMP:20260421T013221
CREATED:20251202T135140Z
LAST-MODIFIED:20251211T130526Z
UID:10007540-1811224800-1811228400@hisvineyard.com
SUMMARY:Gideons Army
DESCRIPTION:
URL:https://hisvineyard.com/event/gideons-army-76/2027-05-25/
LOCATION:The Gap – Church Office\, 120 Sizemore Street\, Greer\, SC\, 29651\, United States
CATEGORIES:Bibe Study / Fellowship
ORGANIZER;CN="Fred Fuller":MAILTO:ffuller55@gmail.com
END:VEVENT
END:VCALENDAR