BEGIN:VCALENDAR
VERSION:2.0
PRODID:-//His Vineyard - ECPv6.15.20//NONSGML v1.0//EN
CALSCALE:GREGORIAN
METHOD:PUBLISH
X-ORIGINAL-URL:https://hisvineyard.com
X-WR-CALDESC:Events for His Vineyard
REFRESH-INTERVAL;VALUE=DURATION:PT1H
X-Robots-Tag:noindex
X-PUBLISHED-TTL:PT1H
BEGIN:VTIMEZONE
TZID:America/New_York
BEGIN:DAYLIGHT
TZOFFSETFROM:-0500
TZOFFSETTO:-0400
TZNAME:EDT
DTSTART:20260308T070000
END:DAYLIGHT
BEGIN:STANDARD
TZOFFSETFROM:-0400
TZOFFSETTO:-0500
TZNAME:EST
DTSTART:20261101T060000
END:STANDARD
BEGIN:DAYLIGHT
TZOFFSETFROM:-0500
TZOFFSETTO:-0400
TZNAME:EDT
DTSTART:20270314T070000
END:DAYLIGHT
BEGIN:STANDARD
TZOFFSETFROM:-0400
TZOFFSETTO:-0500
TZNAME:EST
DTSTART:20271107T060000
END:STANDARD
BEGIN:DAYLIGHT
TZOFFSETFROM:-0500
TZOFFSETTO:-0400
TZNAME:EDT
DTSTART:20280312T070000
END:DAYLIGHT
BEGIN:STANDARD
TZOFFSETFROM:-0400
TZOFFSETTO:-0500
TZNAME:EST
DTSTART:20281105T060000
END:STANDARD
END:VTIMEZONE
BEGIN:VEVENT
DTSTART;TZID=America/New_York:20271003T093000
DTEND;TZID=America/New_York:20271003T103000
DTSTAMP:20260423T095102
CREATED:20250910T234732Z
LAST-MODIFIED:20250910T234732Z
UID:10005365-1822555800-1822559400@hisvineyard.com
SUMMARY:9:30AM Service
DESCRIPTION:
URL:https://hisvineyard.com/event/930am-service/2027-10-03/
LOCATION:Worship Center
END:VEVENT
BEGIN:VEVENT
DTSTART;TZID=America/New_York:20271003T103000
DTEND;TZID=America/New_York:20271003T120000
DTSTAMP:20260423T095102
CREATED:20250910T234528Z
LAST-MODIFIED:20250910T234528Z
UID:10005104-1822559400-1822564800@hisvineyard.com
SUMMARY:10:30AM Service
DESCRIPTION:
URL:https://hisvineyard.com/event/1030am-service/2027-10-03/
LOCATION:Worship Center
END:VEVENT
BEGIN:VEVENT
DTSTART;TZID=America/New_York:20271005T060000
DTEND;TZID=America/New_York:20271005T070000
DTSTAMP:20260423T095102
CREATED:20251202T135140Z
LAST-MODIFIED:20251211T130526Z
UID:10007559-1822716000-1822719600@hisvineyard.com
SUMMARY:Gideons Army
DESCRIPTION:
URL:https://hisvineyard.com/event/gideons-army-76/2027-10-05/
LOCATION:The Gap – Church Office\, 120 Sizemore Street\, Greer\, SC\, 29651\, United States
CATEGORIES:Bibe Study / Fellowship
ORGANIZER;CN="Fred Fuller":MAILTO:ffuller55@gmail.com
END:VEVENT
BEGIN:VEVENT
DTSTART;TZID=America/New_York:20271006T190000
DTEND;TZID=America/New_York:20271006T200000
DTSTAMP:20260423T095102
CREATED:20260127T004329Z
LAST-MODIFIED:20260127T004330Z
UID:10005628-1822849200-1822852800@hisvineyard.com
SUMMARY:Youth Group
DESCRIPTION:
URL:https://hisvineyard.com/event/youth-group-2/2027-10-06/
LOCATION:Worship Center
CATEGORIES:Bibe Study / Fellowship,Youth Groups
ORGANIZER;CN="Derek Henderson - Youth Pastor":MAILTO:derekh1981@gmail.com
END:VEVENT
BEGIN:VEVENT
DTSTART;TZID=America/New_York:20271006T190000
DTEND;TZID=America/New_York:20271006T200000
DTSTAMP:20260423T095102
CREATED:20260127T004523Z
LAST-MODIFIED:20260127T004524Z
UID:10005890-1822849200-1822852800@hisvineyard.com
SUMMARY:Kids Vineyard
DESCRIPTION:
URL:https://hisvineyard.com/event/kids-vineyard-152/2027-10-06/
LOCATION:Kids Vineyard Room
CATEGORIES:Bibe Study / Fellowship,Childrens Ministry
END:VEVENT
BEGIN:VEVENT
DTSTART;TZID=America/New_York:20271006T190000
DTEND;TZID=America/New_York:20271006T200000
DTSTAMP:20260423T095102
CREATED:20260127T004721Z
LAST-MODIFIED:20260127T004722Z
UID:10006151-1822849200-1822852800@hisvineyard.com
SUMMARY:Preschool
DESCRIPTION:
URL:https://hisvineyard.com/event/preschool-2/2027-10-06/
CATEGORIES:Bibe Study / Fellowship,Childrens Ministry
ORGANIZER;CN="Nikki Piper - Preschool Director":MAILTO:nikkipiperpreschool@gmail.com
END:VEVENT
BEGIN:VEVENT
DTSTART;TZID=America/New_York:20271006T190000
DTEND;TZID=America/New_York:20271006T200000
DTSTAMP:20260423T095102
CREATED:20260127T004801Z
LAST-MODIFIED:20260127T004802Z
UID:10006677-1822849200-1822852800@hisvineyard.com
SUMMARY:Nursery
DESCRIPTION:
URL:https://hisvineyard.com/event/nursery-2/2027-10-06/
LOCATION:Nursery – Little Vines
CATEGORIES:Bibe Study / Fellowship,Childrens Ministry
ORGANIZER;CN="Hillary Thompson - Nursery Director":MAILTO:hutcheson.hillary@gmail.com
END:VEVENT
BEGIN:VEVENT
DTSTART;TZID=America/New_York:20271006T190000
DTEND;TZID=America/New_York:20271006T200000
DTSTAMP:20260423T095102
CREATED:20260127T004916Z
LAST-MODIFIED:20260127T004917Z
UID:10006938-1822849200-1822852800@hisvineyard.com
SUMMARY:Toddlers
DESCRIPTION:
URL:https://hisvineyard.com/event/toddlers-2/2027-10-06/
CATEGORIES:Bibe Study / Fellowship,Childrens Ministry
ORGANIZER;CN="Hillary Thompson - Nursery Director":MAILTO:hutcheson.hillary@gmail.com
END:VEVENT
BEGIN:VEVENT
DTSTART;TZID=America/New_York:20271006T190000
DTEND;TZID=America/New_York:20271006T200000
DTSTAMP:20260423T095102
CREATED:20260127T005020Z
LAST-MODIFIED:20260405T020425Z
UID:10007201-1822849200-1822852800@hisvineyard.com
SUMMARY:Wednesday Night Prayer Meeting
DESCRIPTION:
URL:https://hisvineyard.com/event/wednesday-night-prayer-meeting-2/2027-10-06/
LOCATION:Youth Room – Prayer meeting room
CATEGORIES:Bibe Study / Fellowship
END:VEVENT
BEGIN:VEVENT
DTSTART;TZID=America/New_York:20271010T093000
DTEND;TZID=America/New_York:20271010T103000
DTSTAMP:20260423T095102
CREATED:20250910T234732Z
LAST-MODIFIED:20250910T234732Z
UID:10005366-1823160600-1823164200@hisvineyard.com
SUMMARY:9:30AM Service
DESCRIPTION:
URL:https://hisvineyard.com/event/930am-service/2027-10-10/
LOCATION:Worship Center
END:VEVENT
BEGIN:VEVENT
DTSTART;TZID=America/New_York:20271010T103000
DTEND;TZID=America/New_York:20271010T120000
DTSTAMP:20260423T095102
CREATED:20250910T234528Z
LAST-MODIFIED:20250910T234528Z
UID:10005105-1823164200-1823169600@hisvineyard.com
SUMMARY:10:30AM Service
DESCRIPTION:
URL:https://hisvineyard.com/event/1030am-service/2027-10-10/
LOCATION:Worship Center
END:VEVENT
BEGIN:VEVENT
DTSTART;TZID=America/New_York:20271012T060000
DTEND;TZID=America/New_York:20271012T070000
DTSTAMP:20260423T095102
CREATED:20251202T135140Z
LAST-MODIFIED:20251211T130526Z
UID:10007560-1823320800-1823324400@hisvineyard.com
SUMMARY:Gideons Army
DESCRIPTION:
URL:https://hisvineyard.com/event/gideons-army-76/2027-10-12/
LOCATION:The Gap – Church Office\, 120 Sizemore Street\, Greer\, SC\, 29651\, United States
CATEGORIES:Bibe Study / Fellowship
ORGANIZER;CN="Fred Fuller":MAILTO:ffuller55@gmail.com
END:VEVENT
BEGIN:VEVENT
DTSTART;TZID=America/New_York:20271013T190000
DTEND;TZID=America/New_York:20271013T200000
DTSTAMP:20260423T095103
CREATED:20260127T004329Z
LAST-MODIFIED:20260127T004330Z
UID:10005629-1823454000-1823457600@hisvineyard.com
SUMMARY:Youth Group
DESCRIPTION:
URL:https://hisvineyard.com/event/youth-group-2/2027-10-13/
LOCATION:Worship Center
CATEGORIES:Bibe Study / Fellowship,Youth Groups
ORGANIZER;CN="Derek Henderson - Youth Pastor":MAILTO:derekh1981@gmail.com
END:VEVENT
BEGIN:VEVENT
DTSTART;TZID=America/New_York:20271013T190000
DTEND;TZID=America/New_York:20271013T200000
DTSTAMP:20260423T095103
CREATED:20260127T004523Z
LAST-MODIFIED:20260127T004524Z
UID:10005891-1823454000-1823457600@hisvineyard.com
SUMMARY:Kids Vineyard
DESCRIPTION:
URL:https://hisvineyard.com/event/kids-vineyard-152/2027-10-13/
LOCATION:Kids Vineyard Room
CATEGORIES:Bibe Study / Fellowship,Childrens Ministry
END:VEVENT
BEGIN:VEVENT
DTSTART;TZID=America/New_York:20271013T190000
DTEND;TZID=America/New_York:20271013T200000
DTSTAMP:20260423T095103
CREATED:20260127T004721Z
LAST-MODIFIED:20260127T004722Z
UID:10006152-1823454000-1823457600@hisvineyard.com
SUMMARY:Preschool
DESCRIPTION:
URL:https://hisvineyard.com/event/preschool-2/2027-10-13/
CATEGORIES:Bibe Study / Fellowship,Childrens Ministry
ORGANIZER;CN="Nikki Piper - Preschool Director":MAILTO:nikkipiperpreschool@gmail.com
END:VEVENT
BEGIN:VEVENT
DTSTART;TZID=America/New_York:20271013T190000
DTEND;TZID=America/New_York:20271013T200000
DTSTAMP:20260423T095103
CREATED:20260127T004801Z
LAST-MODIFIED:20260127T004802Z
UID:10006678-1823454000-1823457600@hisvineyard.com
SUMMARY:Nursery
DESCRIPTION:
URL:https://hisvineyard.com/event/nursery-2/2027-10-13/
LOCATION:Nursery – Little Vines
CATEGORIES:Bibe Study / Fellowship,Childrens Ministry
ORGANIZER;CN="Hillary Thompson - Nursery Director":MAILTO:hutcheson.hillary@gmail.com
END:VEVENT
BEGIN:VEVENT
DTSTART;TZID=America/New_York:20271013T190000
DTEND;TZID=America/New_York:20271013T200000
DTSTAMP:20260423T095103
CREATED:20260127T004916Z
LAST-MODIFIED:20260127T004917Z
UID:10006939-1823454000-1823457600@hisvineyard.com
SUMMARY:Toddlers
DESCRIPTION:
URL:https://hisvineyard.com/event/toddlers-2/2027-10-13/
CATEGORIES:Bibe Study / Fellowship,Childrens Ministry
ORGANIZER;CN="Hillary Thompson - Nursery Director":MAILTO:hutcheson.hillary@gmail.com
END:VEVENT
BEGIN:VEVENT
DTSTART;TZID=America/New_York:20271013T190000
DTEND;TZID=America/New_York:20271013T200000
DTSTAMP:20260423T095103
CREATED:20260127T005020Z
LAST-MODIFIED:20260405T020425Z
UID:10007202-1823454000-1823457600@hisvineyard.com
SUMMARY:Wednesday Night Prayer Meeting
DESCRIPTION:
URL:https://hisvineyard.com/event/wednesday-night-prayer-meeting-2/2027-10-13/
LOCATION:Youth Room – Prayer meeting room
CATEGORIES:Bibe Study / Fellowship
END:VEVENT
BEGIN:VEVENT
DTSTART;TZID=America/New_York:20271017T093000
DTEND;TZID=America/New_York:20271017T103000
DTSTAMP:20260423T095103
CREATED:20250910T234732Z
LAST-MODIFIED:20250910T234732Z
UID:10005367-1823765400-1823769000@hisvineyard.com
SUMMARY:9:30AM Service
DESCRIPTION:
URL:https://hisvineyard.com/event/930am-service/2027-10-17/
LOCATION:Worship Center
END:VEVENT
BEGIN:VEVENT
DTSTART;TZID=America/New_York:20271017T103000
DTEND;TZID=America/New_York:20271017T120000
DTSTAMP:20260423T095103
CREATED:20250910T234528Z
LAST-MODIFIED:20250910T234528Z
UID:10005106-1823769000-1823774400@hisvineyard.com
SUMMARY:10:30AM Service
DESCRIPTION:
URL:https://hisvineyard.com/event/1030am-service/2027-10-17/
LOCATION:Worship Center
END:VEVENT
BEGIN:VEVENT
DTSTART;TZID=America/New_York:20271019T060000
DTEND;TZID=America/New_York:20271019T070000
DTSTAMP:20260423T095103
CREATED:20251202T135140Z
LAST-MODIFIED:20251211T130526Z
UID:10007561-1823925600-1823929200@hisvineyard.com
SUMMARY:Gideons Army
DESCRIPTION:
URL:https://hisvineyard.com/event/gideons-army-76/2027-10-19/
LOCATION:The Gap – Church Office\, 120 Sizemore Street\, Greer\, SC\, 29651\, United States
CATEGORIES:Bibe Study / Fellowship
ORGANIZER;CN="Fred Fuller":MAILTO:ffuller55@gmail.com
END:VEVENT
BEGIN:VEVENT
DTSTART;TZID=America/New_York:20271020T190000
DTEND;TZID=America/New_York:20271020T200000
DTSTAMP:20260423T095103
CREATED:20260127T004329Z
LAST-MODIFIED:20260127T004330Z
UID:10005630-1824058800-1824062400@hisvineyard.com
SUMMARY:Youth Group
DESCRIPTION:
URL:https://hisvineyard.com/event/youth-group-2/2027-10-20/
LOCATION:Worship Center
CATEGORIES:Bibe Study / Fellowship,Youth Groups
ORGANIZER;CN="Derek Henderson - Youth Pastor":MAILTO:derekh1981@gmail.com
END:VEVENT
BEGIN:VEVENT
DTSTART;TZID=America/New_York:20271020T190000
DTEND;TZID=America/New_York:20271020T200000
DTSTAMP:20260423T095103
CREATED:20260127T004523Z
LAST-MODIFIED:20260127T004524Z
UID:10005892-1824058800-1824062400@hisvineyard.com
SUMMARY:Kids Vineyard
DESCRIPTION:
URL:https://hisvineyard.com/event/kids-vineyard-152/2027-10-20/
LOCATION:Kids Vineyard Room
CATEGORIES:Bibe Study / Fellowship,Childrens Ministry
END:VEVENT
BEGIN:VEVENT
DTSTART;TZID=America/New_York:20271020T190000
DTEND;TZID=America/New_York:20271020T200000
DTSTAMP:20260423T095103
CREATED:20260127T004721Z
LAST-MODIFIED:20260127T004722Z
UID:10006153-1824058800-1824062400@hisvineyard.com
SUMMARY:Preschool
DESCRIPTION:
URL:https://hisvineyard.com/event/preschool-2/2027-10-20/
CATEGORIES:Bibe Study / Fellowship,Childrens Ministry
ORGANIZER;CN="Nikki Piper - Preschool Director":MAILTO:nikkipiperpreschool@gmail.com
END:VEVENT
BEGIN:VEVENT
DTSTART;TZID=America/New_York:20271020T190000
DTEND;TZID=America/New_York:20271020T200000
DTSTAMP:20260423T095103
CREATED:20260127T004801Z
LAST-MODIFIED:20260127T004802Z
UID:10006679-1824058800-1824062400@hisvineyard.com
SUMMARY:Nursery
DESCRIPTION:
URL:https://hisvineyard.com/event/nursery-2/2027-10-20/
LOCATION:Nursery – Little Vines
CATEGORIES:Bibe Study / Fellowship,Childrens Ministry
ORGANIZER;CN="Hillary Thompson - Nursery Director":MAILTO:hutcheson.hillary@gmail.com
END:VEVENT
BEGIN:VEVENT
DTSTART;TZID=America/New_York:20271020T190000
DTEND;TZID=America/New_York:20271020T200000
DTSTAMP:20260423T095103
CREATED:20260127T004916Z
LAST-MODIFIED:20260127T004917Z
UID:10006940-1824058800-1824062400@hisvineyard.com
SUMMARY:Toddlers
DESCRIPTION:
URL:https://hisvineyard.com/event/toddlers-2/2027-10-20/
CATEGORIES:Bibe Study / Fellowship,Childrens Ministry
ORGANIZER;CN="Hillary Thompson - Nursery Director":MAILTO:hutcheson.hillary@gmail.com
END:VEVENT
BEGIN:VEVENT
DTSTART;TZID=America/New_York:20271020T190000
DTEND;TZID=America/New_York:20271020T200000
DTSTAMP:20260423T095103
CREATED:20260127T005020Z
LAST-MODIFIED:20260405T020425Z
UID:10007203-1824058800-1824062400@hisvineyard.com
SUMMARY:Wednesday Night Prayer Meeting
DESCRIPTION:
URL:https://hisvineyard.com/event/wednesday-night-prayer-meeting-2/2027-10-20/
LOCATION:Youth Room – Prayer meeting room
CATEGORIES:Bibe Study / Fellowship
END:VEVENT
BEGIN:VEVENT
DTSTART;TZID=America/New_York:20271024T093000
DTEND;TZID=America/New_York:20271024T103000
DTSTAMP:20260423T095103
CREATED:20250910T234732Z
LAST-MODIFIED:20250910T234732Z
UID:10005368-1824370200-1824373800@hisvineyard.com
SUMMARY:9:30AM Service
DESCRIPTION:
URL:https://hisvineyard.com/event/930am-service/2027-10-24/
LOCATION:Worship Center
END:VEVENT
BEGIN:VEVENT
DTSTART;TZID=America/New_York:20271024T103000
DTEND;TZID=America/New_York:20271024T120000
DTSTAMP:20260423T095103
CREATED:20250910T234528Z
LAST-MODIFIED:20250910T234528Z
UID:10005107-1824373800-1824379200@hisvineyard.com
SUMMARY:10:30AM Service
DESCRIPTION:
URL:https://hisvineyard.com/event/1030am-service/2027-10-24/
LOCATION:Worship Center
END:VEVENT
BEGIN:VEVENT
DTSTART;TZID=America/New_York:20271026T060000
DTEND;TZID=America/New_York:20271026T070000
DTSTAMP:20260423T095103
CREATED:20251202T135140Z
LAST-MODIFIED:20251211T130526Z
UID:10007562-1824530400-1824534000@hisvineyard.com
SUMMARY:Gideons Army
DESCRIPTION:
URL:https://hisvineyard.com/event/gideons-army-76/2027-10-26/
LOCATION:The Gap – Church Office\, 120 Sizemore Street\, Greer\, SC\, 29651\, United States
CATEGORIES:Bibe Study / Fellowship
ORGANIZER;CN="Fred Fuller":MAILTO:ffuller55@gmail.com
END:VEVENT
END:VCALENDAR