BEGIN:VCALENDAR
VERSION:2.0
PRODID:-//His Vineyard - ECPv6.15.20//NONSGML v1.0//EN
CALSCALE:GREGORIAN
METHOD:PUBLISH
X-ORIGINAL-URL:https://hisvineyard.com
X-WR-CALDESC:Events for His Vineyard
REFRESH-INTERVAL;VALUE=DURATION:PT1H
X-Robots-Tag:noindex
X-PUBLISHED-TTL:PT1H
BEGIN:VTIMEZONE
TZID:America/New_York
BEGIN:DAYLIGHT
TZOFFSETFROM:-0500
TZOFFSETTO:-0400
TZNAME:EDT
DTSTART:20260308T070000
END:DAYLIGHT
BEGIN:STANDARD
TZOFFSETFROM:-0400
TZOFFSETTO:-0500
TZNAME:EST
DTSTART:20261101T060000
END:STANDARD
BEGIN:DAYLIGHT
TZOFFSETFROM:-0500
TZOFFSETTO:-0400
TZNAME:EDT
DTSTART:20270314T070000
END:DAYLIGHT
BEGIN:STANDARD
TZOFFSETFROM:-0400
TZOFFSETTO:-0500
TZNAME:EST
DTSTART:20271107T060000
END:STANDARD
BEGIN:DAYLIGHT
TZOFFSETFROM:-0500
TZOFFSETTO:-0400
TZNAME:EDT
DTSTART:20280312T070000
END:DAYLIGHT
BEGIN:STANDARD
TZOFFSETFROM:-0400
TZOFFSETTO:-0500
TZNAME:EST
DTSTART:20281105T060000
END:STANDARD
END:VTIMEZONE
BEGIN:VEVENT
DTSTART;TZID=America/New_York:20271201T190000
DTEND;TZID=America/New_York:20271201T200000
DTSTAMP:20260423T130809
CREATED:20260127T004329Z
LAST-MODIFIED:20260127T004330Z
UID:10005636-1827687600-1827691200@hisvineyard.com
SUMMARY:Youth Group
DESCRIPTION:
URL:https://hisvineyard.com/event/youth-group-2/2027-12-01/
LOCATION:Worship Center
CATEGORIES:Bibe Study / Fellowship,Youth Groups
ORGANIZER;CN="Derek Henderson - Youth Pastor":MAILTO:derekh1981@gmail.com
END:VEVENT
BEGIN:VEVENT
DTSTART;TZID=America/New_York:20271201T190000
DTEND;TZID=America/New_York:20271201T200000
DTSTAMP:20260423T130809
CREATED:20260127T004523Z
LAST-MODIFIED:20260127T004524Z
UID:10005898-1827687600-1827691200@hisvineyard.com
SUMMARY:Kids Vineyard
DESCRIPTION:
URL:https://hisvineyard.com/event/kids-vineyard-152/2027-12-01/
LOCATION:Kids Vineyard Room
CATEGORIES:Bibe Study / Fellowship,Childrens Ministry
END:VEVENT
BEGIN:VEVENT
DTSTART;TZID=America/New_York:20271201T190000
DTEND;TZID=America/New_York:20271201T200000
DTSTAMP:20260423T130809
CREATED:20260127T004721Z
LAST-MODIFIED:20260127T004722Z
UID:10006159-1827687600-1827691200@hisvineyard.com
SUMMARY:Preschool
DESCRIPTION:
URL:https://hisvineyard.com/event/preschool-2/2027-12-01/
CATEGORIES:Bibe Study / Fellowship,Childrens Ministry
ORGANIZER;CN="Nikki Piper - Preschool Director":MAILTO:nikkipiperpreschool@gmail.com
END:VEVENT
BEGIN:VEVENT
DTSTART;TZID=America/New_York:20271201T190000
DTEND;TZID=America/New_York:20271201T200000
DTSTAMP:20260423T130809
CREATED:20260127T004801Z
LAST-MODIFIED:20260127T004802Z
UID:10006685-1827687600-1827691200@hisvineyard.com
SUMMARY:Nursery
DESCRIPTION:
URL:https://hisvineyard.com/event/nursery-2/2027-12-01/
LOCATION:Nursery – Little Vines
CATEGORIES:Bibe Study / Fellowship,Childrens Ministry
ORGANIZER;CN="Hillary Thompson - Nursery Director":MAILTO:hutcheson.hillary@gmail.com
END:VEVENT
BEGIN:VEVENT
DTSTART;TZID=America/New_York:20271201T190000
DTEND;TZID=America/New_York:20271201T200000
DTSTAMP:20260423T130809
CREATED:20260127T004916Z
LAST-MODIFIED:20260127T004917Z
UID:10006946-1827687600-1827691200@hisvineyard.com
SUMMARY:Toddlers
DESCRIPTION:
URL:https://hisvineyard.com/event/toddlers-2/2027-12-01/
CATEGORIES:Bibe Study / Fellowship,Childrens Ministry
ORGANIZER;CN="Hillary Thompson - Nursery Director":MAILTO:hutcheson.hillary@gmail.com
END:VEVENT
BEGIN:VEVENT
DTSTART;TZID=America/New_York:20271201T190000
DTEND;TZID=America/New_York:20271201T200000
DTSTAMP:20260423T130809
CREATED:20260127T005020Z
LAST-MODIFIED:20260405T020425Z
UID:10007209-1827687600-1827691200@hisvineyard.com
SUMMARY:Wednesday Night Prayer Meeting
DESCRIPTION:
URL:https://hisvineyard.com/event/wednesday-night-prayer-meeting-2/2027-12-01/
LOCATION:Youth Room – Prayer meeting room
CATEGORIES:Bibe Study / Fellowship
END:VEVENT
BEGIN:VEVENT
DTSTART;TZID=America/New_York:20271205T093000
DTEND;TZID=America/New_York:20271205T103000
DTSTAMP:20260423T130809
CREATED:20250910T234732Z
LAST-MODIFIED:20250910T234732Z
UID:10005374-1827999000-1828002600@hisvineyard.com
SUMMARY:9:30AM Service
DESCRIPTION:
URL:https://hisvineyard.com/event/930am-service/2027-12-05/
LOCATION:Worship Center
END:VEVENT
BEGIN:VEVENT
DTSTART;TZID=America/New_York:20271205T103000
DTEND;TZID=America/New_York:20271205T120000
DTSTAMP:20260423T130809
CREATED:20250910T234528Z
LAST-MODIFIED:20250910T234528Z
UID:10005113-1828002600-1828008000@hisvineyard.com
SUMMARY:10:30AM Service
DESCRIPTION:
URL:https://hisvineyard.com/event/1030am-service/2027-12-05/
LOCATION:Worship Center
END:VEVENT
BEGIN:VEVENT
DTSTART;TZID=America/New_York:20271207T060000
DTEND;TZID=America/New_York:20271207T070000
DTSTAMP:20260423T130809
CREATED:20251202T135140Z
LAST-MODIFIED:20251211T130526Z
UID:10007568-1828159200-1828162800@hisvineyard.com
SUMMARY:Gideons Army
DESCRIPTION:
URL:https://hisvineyard.com/event/gideons-army-76/2027-12-07/
LOCATION:The Gap – Church Office\, 120 Sizemore Street\, Greer\, SC\, 29651\, United States
CATEGORIES:Bibe Study / Fellowship
ORGANIZER;CN="Fred Fuller":MAILTO:ffuller55@gmail.com
END:VEVENT
BEGIN:VEVENT
DTSTART;TZID=America/New_York:20271208T190000
DTEND;TZID=America/New_York:20271208T200000
DTSTAMP:20260423T130809
CREATED:20260127T004329Z
LAST-MODIFIED:20260127T004330Z
UID:10005637-1828292400-1828296000@hisvineyard.com
SUMMARY:Youth Group
DESCRIPTION:
URL:https://hisvineyard.com/event/youth-group-2/2027-12-08/
LOCATION:Worship Center
CATEGORIES:Bibe Study / Fellowship,Youth Groups
ORGANIZER;CN="Derek Henderson - Youth Pastor":MAILTO:derekh1981@gmail.com
END:VEVENT
BEGIN:VEVENT
DTSTART;TZID=America/New_York:20271208T190000
DTEND;TZID=America/New_York:20271208T200000
DTSTAMP:20260423T130809
CREATED:20260127T004523Z
LAST-MODIFIED:20260127T004524Z
UID:10005899-1828292400-1828296000@hisvineyard.com
SUMMARY:Kids Vineyard
DESCRIPTION:
URL:https://hisvineyard.com/event/kids-vineyard-152/2027-12-08/
LOCATION:Kids Vineyard Room
CATEGORIES:Bibe Study / Fellowship,Childrens Ministry
END:VEVENT
BEGIN:VEVENT
DTSTART;TZID=America/New_York:20271208T190000
DTEND;TZID=America/New_York:20271208T200000
DTSTAMP:20260423T130809
CREATED:20260127T004721Z
LAST-MODIFIED:20260127T004722Z
UID:10006160-1828292400-1828296000@hisvineyard.com
SUMMARY:Preschool
DESCRIPTION:
URL:https://hisvineyard.com/event/preschool-2/2027-12-08/
CATEGORIES:Bibe Study / Fellowship,Childrens Ministry
ORGANIZER;CN="Nikki Piper - Preschool Director":MAILTO:nikkipiperpreschool@gmail.com
END:VEVENT
BEGIN:VEVENT
DTSTART;TZID=America/New_York:20271208T190000
DTEND;TZID=America/New_York:20271208T200000
DTSTAMP:20260423T130809
CREATED:20260127T004801Z
LAST-MODIFIED:20260127T004802Z
UID:10006686-1828292400-1828296000@hisvineyard.com
SUMMARY:Nursery
DESCRIPTION:
URL:https://hisvineyard.com/event/nursery-2/2027-12-08/
LOCATION:Nursery – Little Vines
CATEGORIES:Bibe Study / Fellowship,Childrens Ministry
ORGANIZER;CN="Hillary Thompson - Nursery Director":MAILTO:hutcheson.hillary@gmail.com
END:VEVENT
BEGIN:VEVENT
DTSTART;TZID=America/New_York:20271208T190000
DTEND;TZID=America/New_York:20271208T200000
DTSTAMP:20260423T130809
CREATED:20260127T004916Z
LAST-MODIFIED:20260127T004917Z
UID:10006947-1828292400-1828296000@hisvineyard.com
SUMMARY:Toddlers
DESCRIPTION:
URL:https://hisvineyard.com/event/toddlers-2/2027-12-08/
CATEGORIES:Bibe Study / Fellowship,Childrens Ministry
ORGANIZER;CN="Hillary Thompson - Nursery Director":MAILTO:hutcheson.hillary@gmail.com
END:VEVENT
BEGIN:VEVENT
DTSTART;TZID=America/New_York:20271208T190000
DTEND;TZID=America/New_York:20271208T200000
DTSTAMP:20260423T130809
CREATED:20260127T005020Z
LAST-MODIFIED:20260405T020425Z
UID:10007210-1828292400-1828296000@hisvineyard.com
SUMMARY:Wednesday Night Prayer Meeting
DESCRIPTION:
URL:https://hisvineyard.com/event/wednesday-night-prayer-meeting-2/2027-12-08/
LOCATION:Youth Room – Prayer meeting room
CATEGORIES:Bibe Study / Fellowship
END:VEVENT
BEGIN:VEVENT
DTSTART;TZID=America/New_York:20271212T093000
DTEND;TZID=America/New_York:20271212T103000
DTSTAMP:20260423T130809
CREATED:20250910T234732Z
LAST-MODIFIED:20250910T234732Z
UID:10005375-1828603800-1828607400@hisvineyard.com
SUMMARY:9:30AM Service
DESCRIPTION:
URL:https://hisvineyard.com/event/930am-service/2027-12-12/
LOCATION:Worship Center
END:VEVENT
BEGIN:VEVENT
DTSTART;TZID=America/New_York:20271212T103000
DTEND;TZID=America/New_York:20271212T120000
DTSTAMP:20260423T130809
CREATED:20250910T234528Z
LAST-MODIFIED:20250910T234528Z
UID:10005114-1828607400-1828612800@hisvineyard.com
SUMMARY:10:30AM Service
DESCRIPTION:
URL:https://hisvineyard.com/event/1030am-service/2027-12-12/
LOCATION:Worship Center
END:VEVENT
BEGIN:VEVENT
DTSTART;TZID=America/New_York:20271214T060000
DTEND;TZID=America/New_York:20271214T070000
DTSTAMP:20260423T130809
CREATED:20251202T135140Z
LAST-MODIFIED:20251211T130526Z
UID:10007569-1828764000-1828767600@hisvineyard.com
SUMMARY:Gideons Army
DESCRIPTION:
URL:https://hisvineyard.com/event/gideons-army-76/2027-12-14/
LOCATION:The Gap – Church Office\, 120 Sizemore Street\, Greer\, SC\, 29651\, United States
CATEGORIES:Bibe Study / Fellowship
ORGANIZER;CN="Fred Fuller":MAILTO:ffuller55@gmail.com
END:VEVENT
BEGIN:VEVENT
DTSTART;TZID=America/New_York:20271215T190000
DTEND;TZID=America/New_York:20271215T200000
DTSTAMP:20260423T130809
CREATED:20260127T004329Z
LAST-MODIFIED:20260127T004330Z
UID:10005638-1828897200-1828900800@hisvineyard.com
SUMMARY:Youth Group
DESCRIPTION:
URL:https://hisvineyard.com/event/youth-group-2/2027-12-15/
LOCATION:Worship Center
CATEGORIES:Bibe Study / Fellowship,Youth Groups
ORGANIZER;CN="Derek Henderson - Youth Pastor":MAILTO:derekh1981@gmail.com
END:VEVENT
BEGIN:VEVENT
DTSTART;TZID=America/New_York:20271215T190000
DTEND;TZID=America/New_York:20271215T200000
DTSTAMP:20260423T130809
CREATED:20260127T004523Z
LAST-MODIFIED:20260127T004524Z
UID:10005900-1828897200-1828900800@hisvineyard.com
SUMMARY:Kids Vineyard
DESCRIPTION:
URL:https://hisvineyard.com/event/kids-vineyard-152/2027-12-15/
LOCATION:Kids Vineyard Room
CATEGORIES:Bibe Study / Fellowship,Childrens Ministry
END:VEVENT
BEGIN:VEVENT
DTSTART;TZID=America/New_York:20271215T190000
DTEND;TZID=America/New_York:20271215T200000
DTSTAMP:20260423T130809
CREATED:20260127T004721Z
LAST-MODIFIED:20260127T004722Z
UID:10006161-1828897200-1828900800@hisvineyard.com
SUMMARY:Preschool
DESCRIPTION:
URL:https://hisvineyard.com/event/preschool-2/2027-12-15/
CATEGORIES:Bibe Study / Fellowship,Childrens Ministry
ORGANIZER;CN="Nikki Piper - Preschool Director":MAILTO:nikkipiperpreschool@gmail.com
END:VEVENT
BEGIN:VEVENT
DTSTART;TZID=America/New_York:20271215T190000
DTEND;TZID=America/New_York:20271215T200000
DTSTAMP:20260423T130809
CREATED:20260127T004801Z
LAST-MODIFIED:20260127T004802Z
UID:10006687-1828897200-1828900800@hisvineyard.com
SUMMARY:Nursery
DESCRIPTION:
URL:https://hisvineyard.com/event/nursery-2/2027-12-15/
LOCATION:Nursery – Little Vines
CATEGORIES:Bibe Study / Fellowship,Childrens Ministry
ORGANIZER;CN="Hillary Thompson - Nursery Director":MAILTO:hutcheson.hillary@gmail.com
END:VEVENT
BEGIN:VEVENT
DTSTART;TZID=America/New_York:20271215T190000
DTEND;TZID=America/New_York:20271215T200000
DTSTAMP:20260423T130809
CREATED:20260127T004916Z
LAST-MODIFIED:20260127T004917Z
UID:10006948-1828897200-1828900800@hisvineyard.com
SUMMARY:Toddlers
DESCRIPTION:
URL:https://hisvineyard.com/event/toddlers-2/2027-12-15/
CATEGORIES:Bibe Study / Fellowship,Childrens Ministry
ORGANIZER;CN="Hillary Thompson - Nursery Director":MAILTO:hutcheson.hillary@gmail.com
END:VEVENT
BEGIN:VEVENT
DTSTART;TZID=America/New_York:20271215T190000
DTEND;TZID=America/New_York:20271215T200000
DTSTAMP:20260423T130809
CREATED:20260127T005020Z
LAST-MODIFIED:20260405T020425Z
UID:10007211-1828897200-1828900800@hisvineyard.com
SUMMARY:Wednesday Night Prayer Meeting
DESCRIPTION:
URL:https://hisvineyard.com/event/wednesday-night-prayer-meeting-2/2027-12-15/
LOCATION:Youth Room – Prayer meeting room
CATEGORIES:Bibe Study / Fellowship
END:VEVENT
BEGIN:VEVENT
DTSTART;TZID=America/New_York:20271219T093000
DTEND;TZID=America/New_York:20271219T103000
DTSTAMP:20260423T130809
CREATED:20250910T234732Z
LAST-MODIFIED:20250910T234732Z
UID:10005376-1829208600-1829212200@hisvineyard.com
SUMMARY:9:30AM Service
DESCRIPTION:
URL:https://hisvineyard.com/event/930am-service/2027-12-19/
LOCATION:Worship Center
END:VEVENT
BEGIN:VEVENT
DTSTART;TZID=America/New_York:20271219T103000
DTEND;TZID=America/New_York:20271219T120000
DTSTAMP:20260423T130809
CREATED:20250910T234528Z
LAST-MODIFIED:20250910T234528Z
UID:10005115-1829212200-1829217600@hisvineyard.com
SUMMARY:10:30AM Service
DESCRIPTION:
URL:https://hisvineyard.com/event/1030am-service/2027-12-19/
LOCATION:Worship Center
END:VEVENT
BEGIN:VEVENT
DTSTART;TZID=America/New_York:20271221T060000
DTEND;TZID=America/New_York:20271221T070000
DTSTAMP:20260423T130809
CREATED:20251202T135140Z
LAST-MODIFIED:20251211T130526Z
UID:10007570-1829368800-1829372400@hisvineyard.com
SUMMARY:Gideons Army
DESCRIPTION:
URL:https://hisvineyard.com/event/gideons-army-76/2027-12-21/
LOCATION:The Gap – Church Office\, 120 Sizemore Street\, Greer\, SC\, 29651\, United States
CATEGORIES:Bibe Study / Fellowship
ORGANIZER;CN="Fred Fuller":MAILTO:ffuller55@gmail.com
END:VEVENT
BEGIN:VEVENT
DTSTART;TZID=America/New_York:20271222T190000
DTEND;TZID=America/New_York:20271222T200000
DTSTAMP:20260423T130809
CREATED:20260127T004329Z
LAST-MODIFIED:20260127T004330Z
UID:10005639-1829502000-1829505600@hisvineyard.com
SUMMARY:Youth Group
DESCRIPTION:
URL:https://hisvineyard.com/event/youth-group-2/2027-12-22/
LOCATION:Worship Center
CATEGORIES:Bibe Study / Fellowship,Youth Groups
ORGANIZER;CN="Derek Henderson - Youth Pastor":MAILTO:derekh1981@gmail.com
END:VEVENT
BEGIN:VEVENT
DTSTART;TZID=America/New_York:20271222T190000
DTEND;TZID=America/New_York:20271222T200000
DTSTAMP:20260423T130809
CREATED:20260127T004523Z
LAST-MODIFIED:20260127T004524Z
UID:10005901-1829502000-1829505600@hisvineyard.com
SUMMARY:Kids Vineyard
DESCRIPTION:
URL:https://hisvineyard.com/event/kids-vineyard-152/2027-12-22/
LOCATION:Kids Vineyard Room
CATEGORIES:Bibe Study / Fellowship,Childrens Ministry
END:VEVENT
BEGIN:VEVENT
DTSTART;TZID=America/New_York:20271222T190000
DTEND;TZID=America/New_York:20271222T200000
DTSTAMP:20260423T130809
CREATED:20260127T004721Z
LAST-MODIFIED:20260127T004722Z
UID:10006162-1829502000-1829505600@hisvineyard.com
SUMMARY:Preschool
DESCRIPTION:
URL:https://hisvineyard.com/event/preschool-2/2027-12-22/
CATEGORIES:Bibe Study / Fellowship,Childrens Ministry
ORGANIZER;CN="Nikki Piper - Preschool Director":MAILTO:nikkipiperpreschool@gmail.com
END:VEVENT
END:VCALENDAR