BEGIN:VCALENDAR
VERSION:2.0
PRODID:-//His Vineyard - ECPv6.15.20//NONSGML v1.0//EN
CALSCALE:GREGORIAN
METHOD:PUBLISH
X-ORIGINAL-URL:https://hisvineyard.com
X-WR-CALDESC:Events for His Vineyard
REFRESH-INTERVAL;VALUE=DURATION:PT1H
X-Robots-Tag:noindex
X-PUBLISHED-TTL:PT1H
BEGIN:VTIMEZONE
TZID:America/New_York
BEGIN:DAYLIGHT
TZOFFSETFROM:-0500
TZOFFSETTO:-0400
TZNAME:EDT
DTSTART:20250309T070000
END:DAYLIGHT
BEGIN:STANDARD
TZOFFSETFROM:-0400
TZOFFSETTO:-0500
TZNAME:EST
DTSTART:20251102T060000
END:STANDARD
BEGIN:DAYLIGHT
TZOFFSETFROM:-0500
TZOFFSETTO:-0400
TZNAME:EDT
DTSTART:20260308T070000
END:DAYLIGHT
BEGIN:STANDARD
TZOFFSETFROM:-0400
TZOFFSETTO:-0500
TZNAME:EST
DTSTART:20261101T060000
END:STANDARD
BEGIN:DAYLIGHT
TZOFFSETFROM:-0500
TZOFFSETTO:-0400
TZNAME:EDT
DTSTART:20270314T070000
END:DAYLIGHT
BEGIN:STANDARD
TZOFFSETFROM:-0400
TZOFFSETTO:-0500
TZNAME:EST
DTSTART:20271107T060000
END:STANDARD
END:VTIMEZONE
BEGIN:VEVENT
DTSTART;TZID=America/New_York:20260420T173000
DTEND;TZID=America/New_York:20260420T190000
DTSTAMP:20260420T064129
CREATED:20260326T122624Z
LAST-MODIFIED:20260326T122756Z
UID:10007891-1776706200-1776711600@hisvineyard.com
SUMMARY:Grief Share
DESCRIPTION:
URL:https://hisvineyard.com/event/grief-share/2026-04-20/
LOCATION:Church – 656 Arlington Road – Greer\, SC
CATEGORIES:Support Groups
END:VEVENT
BEGIN:VEVENT
DTSTART;TZID=America/New_York:20260421T060000
DTEND;TZID=America/New_York:20260421T070000
DTSTAMP:20260420T064129
CREATED:20251202T135140Z
LAST-MODIFIED:20251211T130526Z
UID:10007483-1776751200-1776754800@hisvineyard.com
SUMMARY:Gideons Army
DESCRIPTION:
URL:https://hisvineyard.com/event/gideons-army-76/2026-04-21/
LOCATION:The Gap – Church Office\, 120 Sizemore Street\, Greer\, SC\, 29651\, United States
CATEGORIES:Bibe Study / Fellowship
ORGANIZER;CN="Fred Fuller":MAILTO:ffuller55@gmail.com
END:VEVENT
BEGIN:VEVENT
DTSTART;TZID=America/New_York:20260422T190000
DTEND;TZID=America/New_York:20260422T200000
DTSTAMP:20260420T064129
CREATED:20260127T004329Z
LAST-MODIFIED:20260127T004330Z
UID:10005552-1776884400-1776888000@hisvineyard.com
SUMMARY:Youth Group
DESCRIPTION:
URL:https://hisvineyard.com/event/youth-group-2/2026-04-22/
LOCATION:Worship Center
CATEGORIES:Bibe Study / Fellowship,Youth Groups
ORGANIZER;CN="Derek Henderson - Youth Pastor":MAILTO:derekh1981@gmail.com
END:VEVENT
BEGIN:VEVENT
DTSTART;TZID=America/New_York:20260422T190000
DTEND;TZID=America/New_York:20260422T200000
DTSTAMP:20260420T064129
CREATED:20260127T004523Z
LAST-MODIFIED:20260127T004524Z
UID:10005814-1776884400-1776888000@hisvineyard.com
SUMMARY:Kids Vineyard
DESCRIPTION:
URL:https://hisvineyard.com/event/kids-vineyard-152/2026-04-22/
LOCATION:Kids Vineyard Room
CATEGORIES:Bibe Study / Fellowship,Childrens Ministry
END:VEVENT
BEGIN:VEVENT
DTSTART;TZID=America/New_York:20260422T190000
DTEND;TZID=America/New_York:20260422T200000
DTSTAMP:20260420T064129
CREATED:20260127T004721Z
LAST-MODIFIED:20260127T004722Z
UID:10006075-1776884400-1776888000@hisvineyard.com
SUMMARY:Preschool
DESCRIPTION:
URL:https://hisvineyard.com/event/preschool-2/2026-04-22/
CATEGORIES:Bibe Study / Fellowship,Childrens Ministry
ORGANIZER;CN="Nikki Piper - Preschool Director":MAILTO:nikkipiperpreschool@gmail.com
END:VEVENT
BEGIN:VEVENT
DTSTART;TZID=America/New_York:20260422T190000
DTEND;TZID=America/New_York:20260422T200000
DTSTAMP:20260420T064129
CREATED:20260127T004801Z
LAST-MODIFIED:20260127T004802Z
UID:10006601-1776884400-1776888000@hisvineyard.com
SUMMARY:Nursery
DESCRIPTION:
URL:https://hisvineyard.com/event/nursery-2/2026-04-22/
LOCATION:Nursery – Little Vines
CATEGORIES:Bibe Study / Fellowship,Childrens Ministry
ORGANIZER;CN="Hillary Thompson - Nursery Director":MAILTO:hutcheson.hillary@gmail.com
END:VEVENT
BEGIN:VEVENT
DTSTART;TZID=America/New_York:20260422T190000
DTEND;TZID=America/New_York:20260422T200000
DTSTAMP:20260420T064129
CREATED:20260127T004916Z
LAST-MODIFIED:20260127T004917Z
UID:10006862-1776884400-1776888000@hisvineyard.com
SUMMARY:Toddlers
DESCRIPTION:
URL:https://hisvineyard.com/event/toddlers-2/2026-04-22/
CATEGORIES:Bibe Study / Fellowship,Childrens Ministry
ORGANIZER;CN="Hillary Thompson - Nursery Director":MAILTO:hutcheson.hillary@gmail.com
END:VEVENT
BEGIN:VEVENT
DTSTART;TZID=America/New_York:20260422T190000
DTEND;TZID=America/New_York:20260422T200000
DTSTAMP:20260420T064129
CREATED:20260405T014140Z
LAST-MODIFIED:20260405T020303Z
UID:10007962-1776884400-1776888000@hisvineyard.com
SUMMARY:Wednesday Night Prayer Meeting - Reading of the Book of Revelations
DESCRIPTION:Receive the Revelation Blessing as Pastor Keith reads the book of Revelations aloud from the Amplified Bible.
URL:https://hisvineyard.com/event/wednesday-night-prayer-meeting-2-2/2026-04-22/
LOCATION:Church Atrium\, 656 Arlington Road\, Greer\, SC\, 29650\, United States
CATEGORIES:Bibe Study / Fellowship,Special Events
END:VEVENT
BEGIN:VEVENT
DTSTART;TZID=America/New_York:20260425T193000
DTEND;TZID=America/New_York:20260425T200000
DTSTAMP:20260420T064129
CREATED:20250407T212248Z
LAST-MODIFIED:20250407T212248Z
UID:10004300-1777145400-1777147200@hisvineyard.com
SUMMARY:"In His Word" - TV Program
DESCRIPTION:
URL:https://hisvineyard.com/event/in-his-word-tv-program-6/2026-04-25/
LOCATION:WGGS – Channel 16
CATEGORIES:Special Events
ATTACH;FMTTYPE=image/png:https://hisvineyard.com/wp-content/uploads/2024/12/Screenshot-2024-12-13-at-10.29.25 AM.png
END:VEVENT
BEGIN:VEVENT
DTSTART;TZID=America/New_York:20260426T093000
DTEND;TZID=America/New_York:20260426T103000
DTSTAMP:20260420T064129
CREATED:20250910T234732Z
LAST-MODIFIED:20250910T234732Z
UID:10005290-1777195800-1777199400@hisvineyard.com
SUMMARY:9:30AM Service
DESCRIPTION:
URL:https://hisvineyard.com/event/930am-service/2026-04-26/
LOCATION:Worship Center
END:VEVENT
BEGIN:VEVENT
DTSTART;TZID=America/New_York:20260426T103000
DTEND;TZID=America/New_York:20260426T120000
DTSTAMP:20260420T064129
CREATED:20250910T234528Z
LAST-MODIFIED:20250910T234528Z
UID:10005029-1777199400-1777204800@hisvineyard.com
SUMMARY:10:30AM Service
DESCRIPTION:
URL:https://hisvineyard.com/event/1030am-service/2026-04-26/
LOCATION:Worship Center
END:VEVENT
BEGIN:VEVENT
DTSTART;TZID=America/New_York:20260427T173000
DTEND;TZID=America/New_York:20260427T190000
DTSTAMP:20260420T064129
CREATED:20260326T122624Z
LAST-MODIFIED:20260326T122756Z
UID:10007892-1777311000-1777316400@hisvineyard.com
SUMMARY:Grief Share
DESCRIPTION:
URL:https://hisvineyard.com/event/grief-share/2026-04-27/
LOCATION:Church – 656 Arlington Road – Greer\, SC
CATEGORIES:Support Groups
END:VEVENT
BEGIN:VEVENT
DTSTART;TZID=America/New_York:20260428T060000
DTEND;TZID=America/New_York:20260428T070000
DTSTAMP:20260420T064129
CREATED:20251202T135140Z
LAST-MODIFIED:20251211T130526Z
UID:10007484-1777356000-1777359600@hisvineyard.com
SUMMARY:Gideons Army
DESCRIPTION:
URL:https://hisvineyard.com/event/gideons-army-76/2026-04-28/
LOCATION:The Gap – Church Office\, 120 Sizemore Street\, Greer\, SC\, 29651\, United States
CATEGORIES:Bibe Study / Fellowship
ORGANIZER;CN="Fred Fuller":MAILTO:ffuller55@gmail.com
END:VEVENT
BEGIN:VEVENT
DTSTART;TZID=America/New_York:20260429T173000
DTEND;TZID=America/New_York:20260429T184500
DTSTAMP:20260420T064129
CREATED:20260405T010359Z
LAST-MODIFIED:20260405T010359Z
UID:10007956-1777483800-1777488300@hisvineyard.com
SUMMARY:Wednesday Night Fellowship Meal
DESCRIPTION:
URL:https://hisvineyard.com/event/wednesday-night-fellowship-meal-2/
LOCATION:Church – 656 Arlington Road – Greer\, SC
CATEGORIES:Special Events
ORGANIZER;CN="Beth Singleton":MAILTO:hvjust4jesus@gmail.com
END:VEVENT
BEGIN:VEVENT
DTSTART;TZID=America/New_York:20260429T190000
DTEND;TZID=America/New_York:20260429T200000
DTSTAMP:20260420T064129
CREATED:20260127T004329Z
LAST-MODIFIED:20260127T004330Z
UID:10005553-1777489200-1777492800@hisvineyard.com
SUMMARY:Youth Group
DESCRIPTION:
URL:https://hisvineyard.com/event/youth-group-2/2026-04-29/
LOCATION:Worship Center
CATEGORIES:Bibe Study / Fellowship,Youth Groups
ORGANIZER;CN="Derek Henderson - Youth Pastor":MAILTO:derekh1981@gmail.com
END:VEVENT
BEGIN:VEVENT
DTSTART;TZID=America/New_York:20260429T190000
DTEND;TZID=America/New_York:20260429T200000
DTSTAMP:20260420T064129
CREATED:20260127T004523Z
LAST-MODIFIED:20260127T004524Z
UID:10005815-1777489200-1777492800@hisvineyard.com
SUMMARY:Kids Vineyard
DESCRIPTION:
URL:https://hisvineyard.com/event/kids-vineyard-152/2026-04-29/
LOCATION:Kids Vineyard Room
CATEGORIES:Bibe Study / Fellowship,Childrens Ministry
END:VEVENT
BEGIN:VEVENT
DTSTART;TZID=America/New_York:20260429T190000
DTEND;TZID=America/New_York:20260429T200000
DTSTAMP:20260420T064129
CREATED:20260127T004721Z
LAST-MODIFIED:20260127T004722Z
UID:10006076-1777489200-1777492800@hisvineyard.com
SUMMARY:Preschool
DESCRIPTION:
URL:https://hisvineyard.com/event/preschool-2/2026-04-29/
CATEGORIES:Bibe Study / Fellowship,Childrens Ministry
ORGANIZER;CN="Nikki Piper - Preschool Director":MAILTO:nikkipiperpreschool@gmail.com
END:VEVENT
BEGIN:VEVENT
DTSTART;TZID=America/New_York:20260429T190000
DTEND;TZID=America/New_York:20260429T200000
DTSTAMP:20260420T064129
CREATED:20260127T004801Z
LAST-MODIFIED:20260127T004802Z
UID:10006602-1777489200-1777492800@hisvineyard.com
SUMMARY:Nursery
DESCRIPTION:
URL:https://hisvineyard.com/event/nursery-2/2026-04-29/
LOCATION:Nursery – Little Vines
CATEGORIES:Bibe Study / Fellowship,Childrens Ministry
ORGANIZER;CN="Hillary Thompson - Nursery Director":MAILTO:hutcheson.hillary@gmail.com
END:VEVENT
BEGIN:VEVENT
DTSTART;TZID=America/New_York:20260429T190000
DTEND;TZID=America/New_York:20260429T200000
DTSTAMP:20260420T064129
CREATED:20260127T004916Z
LAST-MODIFIED:20260127T004917Z
UID:10006863-1777489200-1777492800@hisvineyard.com
SUMMARY:Toddlers
DESCRIPTION:
URL:https://hisvineyard.com/event/toddlers-2/2026-04-29/
CATEGORIES:Bibe Study / Fellowship,Childrens Ministry
ORGANIZER;CN="Hillary Thompson - Nursery Director":MAILTO:hutcheson.hillary@gmail.com
END:VEVENT
BEGIN:VEVENT
DTSTART;TZID=America/New_York:20260429T190000
DTEND;TZID=America/New_York:20260429T200000
DTSTAMP:20260420T064129
CREATED:20260405T014140Z
LAST-MODIFIED:20260405T020303Z
UID:10007963-1777489200-1777492800@hisvineyard.com
SUMMARY:Wednesday Night Prayer Meeting - Reading of the Book of Revelations
DESCRIPTION:Receive the Revelation Blessing as Pastor Keith reads the book of Revelations aloud from the Amplified Bible.
URL:https://hisvineyard.com/event/wednesday-night-prayer-meeting-2-2/2026-04-29/
LOCATION:Church Atrium\, 656 Arlington Road\, Greer\, SC\, 29650\, United States
CATEGORIES:Bibe Study / Fellowship,Special Events
END:VEVENT
END:VCALENDAR