BEGIN:VCALENDAR
VERSION:2.0
PRODID:-//His Vineyard - ECPv6.15.20//NONSGML v1.0//EN
CALSCALE:GREGORIAN
METHOD:PUBLISH
X-WR-CALNAME:His Vineyard
X-ORIGINAL-URL:https://hisvineyard.com
X-WR-CALDESC:Events for His Vineyard
REFRESH-INTERVAL;VALUE=DURATION:PT1H
X-Robots-Tag:noindex
X-PUBLISHED-TTL:PT1H
BEGIN:VTIMEZONE
TZID:America/New_York
BEGIN:DAYLIGHT
TZOFFSETFROM:-0500
TZOFFSETTO:-0400
TZNAME:EDT
DTSTART:20250309T070000
END:DAYLIGHT
BEGIN:STANDARD
TZOFFSETFROM:-0400
TZOFFSETTO:-0500
TZNAME:EST
DTSTART:20251102T060000
END:STANDARD
BEGIN:DAYLIGHT
TZOFFSETFROM:-0500
TZOFFSETTO:-0400
TZNAME:EDT
DTSTART:20260308T070000
END:DAYLIGHT
BEGIN:STANDARD
TZOFFSETFROM:-0400
TZOFFSETTO:-0500
TZNAME:EST
DTSTART:20261101T060000
END:STANDARD
BEGIN:DAYLIGHT
TZOFFSETFROM:-0500
TZOFFSETTO:-0400
TZNAME:EDT
DTSTART:20270314T070000
END:DAYLIGHT
BEGIN:STANDARD
TZOFFSETFROM:-0400
TZOFFSETTO:-0500
TZNAME:EST
DTSTART:20271107T060000
END:STANDARD
END:VTIMEZONE
BEGIN:VEVENT
DTSTART;TZID=America/New_York:20260422T190000
DTEND;TZID=America/New_York:20260422T200000
DTSTAMP:20260420T064128
CREATED:20260405T014140Z
LAST-MODIFIED:20260405T020303Z
UID:10007962-1776884400-1776888000@hisvineyard.com
SUMMARY:Wednesday Night Prayer Meeting - Reading of the Book of Revelations
DESCRIPTION:Receive the Revelation Blessing as Pastor Keith reads the book of Revelations aloud from the Amplified Bible.
URL:https://hisvineyard.com/event/wednesday-night-prayer-meeting-2-2/2026-04-22/
LOCATION:Church Atrium\, 656 Arlington Road\, Greer\, SC\, 29650\, United States
CATEGORIES:Bibe Study / Fellowship,Special Events
END:VEVENT
BEGIN:VEVENT
DTSTART;TZID=America/New_York:20260429T190000
DTEND;TZID=America/New_York:20260429T200000
DTSTAMP:20260420T064128
CREATED:20260405T014140Z
LAST-MODIFIED:20260405T020303Z
UID:10007963-1777489200-1777492800@hisvineyard.com
SUMMARY:Wednesday Night Prayer Meeting - Reading of the Book of Revelations
DESCRIPTION:Receive the Revelation Blessing as Pastor Keith reads the book of Revelations aloud from the Amplified Bible.
URL:https://hisvineyard.com/event/wednesday-night-prayer-meeting-2-2/2026-04-29/
LOCATION:Church Atrium\, 656 Arlington Road\, Greer\, SC\, 29650\, United States
CATEGORIES:Bibe Study / Fellowship,Special Events
END:VEVENT
BEGIN:VEVENT
DTSTART;TZID=America/New_York:20260506T190000
DTEND;TZID=America/New_York:20260506T200000
DTSTAMP:20260420T064128
CREATED:20260405T014140Z
LAST-MODIFIED:20260405T020303Z
UID:10007964-1778094000-1778097600@hisvineyard.com
SUMMARY:Wednesday Night Prayer Meeting - Reading of the Book of Revelations
DESCRIPTION:Receive the Revelation Blessing as Pastor Keith reads the book of Revelations aloud from the Amplified Bible.
URL:https://hisvineyard.com/event/wednesday-night-prayer-meeting-2-2/2026-05-06/
LOCATION:Church Atrium\, 656 Arlington Road\, Greer\, SC\, 29650\, United States
CATEGORIES:Bibe Study / Fellowship,Special Events
END:VEVENT
BEGIN:VEVENT
DTSTART;TZID=America/New_York:20260513T190000
DTEND;TZID=America/New_York:20260513T200000
DTSTAMP:20260420T064128
CREATED:20260405T014140Z
LAST-MODIFIED:20260405T020303Z
UID:10007965-1778698800-1778702400@hisvineyard.com
SUMMARY:Wednesday Night Prayer Meeting - Reading of the Book of Revelations
DESCRIPTION:Receive the Revelation Blessing as Pastor Keith reads the book of Revelations aloud from the Amplified Bible.
URL:https://hisvineyard.com/event/wednesday-night-prayer-meeting-2-2/2026-05-13/
LOCATION:Church Atrium\, 656 Arlington Road\, Greer\, SC\, 29650\, United States
CATEGORIES:Bibe Study / Fellowship,Special Events
END:VEVENT
BEGIN:VEVENT
DTSTART;TZID=America/New_York:20260520T190000
DTEND;TZID=America/New_York:20260520T200000
DTSTAMP:20260420T064128
CREATED:20260405T014140Z
LAST-MODIFIED:20260405T020303Z
UID:10007966-1779303600-1779307200@hisvineyard.com
SUMMARY:Wednesday Night Prayer Meeting - Reading of the Book of Revelations
DESCRIPTION:Receive the Revelation Blessing as Pastor Keith reads the book of Revelations aloud from the Amplified Bible.
URL:https://hisvineyard.com/event/wednesday-night-prayer-meeting-2-2/2026-05-20/
LOCATION:Church Atrium\, 656 Arlington Road\, Greer\, SC\, 29650\, United States
CATEGORIES:Bibe Study / Fellowship,Special Events
END:VEVENT
BEGIN:VEVENT
DTSTART;TZID=America/New_York:20260527T190000
DTEND;TZID=America/New_York:20260527T200000
DTSTAMP:20260420T064128
CREATED:20260405T014140Z
LAST-MODIFIED:20260405T020303Z
UID:10007967-1779908400-1779912000@hisvineyard.com
SUMMARY:Wednesday Night Prayer Meeting - Reading of the Book of Revelations
DESCRIPTION:Receive the Revelation Blessing as Pastor Keith reads the book of Revelations aloud from the Amplified Bible.
URL:https://hisvineyard.com/event/wednesday-night-prayer-meeting-2-2/2026-05-27/
LOCATION:Church Atrium\, 656 Arlington Road\, Greer\, SC\, 29650\, United States
CATEGORIES:Bibe Study / Fellowship,Special Events
END:VEVENT
BEGIN:VEVENT
DTSTART;TZID=America/New_York:20260603T190000
DTEND;TZID=America/New_York:20260603T200000
DTSTAMP:20260420T064128
CREATED:20260405T014140Z
LAST-MODIFIED:20260405T020303Z
UID:10007968-1780513200-1780516800@hisvineyard.com
SUMMARY:Wednesday Night Prayer Meeting - Reading of the Book of Revelations
DESCRIPTION:Receive the Revelation Blessing as Pastor Keith reads the book of Revelations aloud from the Amplified Bible.
URL:https://hisvineyard.com/event/wednesday-night-prayer-meeting-2-2/2026-06-03/
LOCATION:Church Atrium\, 656 Arlington Road\, Greer\, SC\, 29650\, United States
CATEGORIES:Bibe Study / Fellowship,Special Events
END:VEVENT
BEGIN:VEVENT
DTSTART;TZID=America/New_York:20260610T190000
DTEND;TZID=America/New_York:20260610T200000
DTSTAMP:20260420T064128
CREATED:20260405T014140Z
LAST-MODIFIED:20260405T020303Z
UID:10007969-1781118000-1781121600@hisvineyard.com
SUMMARY:Wednesday Night Prayer Meeting - Reading of the Book of Revelations
DESCRIPTION:Receive the Revelation Blessing as Pastor Keith reads the book of Revelations aloud from the Amplified Bible.
URL:https://hisvineyard.com/event/wednesday-night-prayer-meeting-2-2/2026-06-10/
LOCATION:Church Atrium\, 656 Arlington Road\, Greer\, SC\, 29650\, United States
CATEGORIES:Bibe Study / Fellowship,Special Events
END:VEVENT
BEGIN:VEVENT
DTSTART;TZID=America/New_York:20260617T190000
DTEND;TZID=America/New_York:20260617T200000
DTSTAMP:20260420T064128
CREATED:20260405T014140Z
LAST-MODIFIED:20260405T020303Z
UID:10007970-1781722800-1781726400@hisvineyard.com
SUMMARY:Wednesday Night Prayer Meeting - Reading of the Book of Revelations
DESCRIPTION:Receive the Revelation Blessing as Pastor Keith reads the book of Revelations aloud from the Amplified Bible.
URL:https://hisvineyard.com/event/wednesday-night-prayer-meeting-2-2/2026-06-17/
LOCATION:Church Atrium\, 656 Arlington Road\, Greer\, SC\, 29650\, United States
CATEGORIES:Bibe Study / Fellowship,Special Events
END:VEVENT
BEGIN:VEVENT
DTSTART;TZID=America/New_York:20260624T190000
DTEND;TZID=America/New_York:20260624T200000
DTSTAMP:20260420T064128
CREATED:20260405T014140Z
LAST-MODIFIED:20260405T020303Z
UID:10007971-1782327600-1782331200@hisvineyard.com
SUMMARY:Wednesday Night Prayer Meeting - Reading of the Book of Revelations
DESCRIPTION:Receive the Revelation Blessing as Pastor Keith reads the book of Revelations aloud from the Amplified Bible.
URL:https://hisvineyard.com/event/wednesday-night-prayer-meeting-2-2/2026-06-24/
LOCATION:Church Atrium\, 656 Arlington Road\, Greer\, SC\, 29650\, United States
CATEGORIES:Bibe Study / Fellowship,Special Events
END:VEVENT
END:VCALENDAR