BEGIN:VCALENDAR
VERSION:2.0
PRODID:-//His Vineyard - ECPv6.15.20//NONSGML v1.0//EN
CALSCALE:GREGORIAN
METHOD:PUBLISH
X-ORIGINAL-URL:https://hisvineyard.com
X-WR-CALDESC:Events for His Vineyard
REFRESH-INTERVAL;VALUE=DURATION:PT1H
X-Robots-Tag:noindex
X-PUBLISHED-TTL:PT1H
BEGIN:VTIMEZONE
TZID:America/New_York
BEGIN:DAYLIGHT
TZOFFSETFROM:-0500
TZOFFSETTO:-0400
TZNAME:EDT
DTSTART:20250309T070000
END:DAYLIGHT
BEGIN:STANDARD
TZOFFSETFROM:-0400
TZOFFSETTO:-0500
TZNAME:EST
DTSTART:20251102T060000
END:STANDARD
BEGIN:DAYLIGHT
TZOFFSETFROM:-0500
TZOFFSETTO:-0400
TZNAME:EDT
DTSTART:20260308T070000
END:DAYLIGHT
BEGIN:STANDARD
TZOFFSETFROM:-0400
TZOFFSETTO:-0500
TZNAME:EST
DTSTART:20261101T060000
END:STANDARD
BEGIN:DAYLIGHT
TZOFFSETFROM:-0500
TZOFFSETTO:-0400
TZNAME:EDT
DTSTART:20270314T070000
END:DAYLIGHT
BEGIN:STANDARD
TZOFFSETFROM:-0400
TZOFFSETTO:-0500
TZNAME:EST
DTSTART:20271107T060000
END:STANDARD
END:VTIMEZONE
BEGIN:VEVENT
DTSTART;TZID=America/New_York:20260416T183000
DTEND;TZID=America/New_York:20260416T200000
DTSTAMP:20260420T092110
CREATED:20260410T144525Z
LAST-MODIFIED:20260410T144525Z
UID:10007979-1776364200-1776369600@hisvineyard.com
SUMMARY:Mens Meeting - Tacos & Testimony
DESCRIPTION:
URL:https://hisvineyard.com/event/mens-meeting-tacos-testimony/
LOCATION:Church – 656 Arlington Road – Greer\, SC
CATEGORIES:Bibe Study / Fellowship,Special Events
END:VEVENT
BEGIN:VEVENT
DTSTART;TZID=America/New_York:20260413T173000
DTEND;TZID=America/New_York:20260413T190000
DTSTAMP:20260420T092110
CREATED:20260326T122624Z
LAST-MODIFIED:20260326T122756Z
UID:10007890-1776101400-1776106800@hisvineyard.com
SUMMARY:Grief Share
DESCRIPTION:
URL:https://hisvineyard.com/event/grief-share/2026-04-13/
LOCATION:Church – 656 Arlington Road – Greer\, SC
CATEGORIES:Support Groups
END:VEVENT
BEGIN:VEVENT
DTSTART;TZID=America/New_York:20260406T173000
DTEND;TZID=America/New_York:20260406T190000
DTSTAMP:20260420T092110
CREATED:20260326T122624Z
LAST-MODIFIED:20260326T122756Z
UID:10007889-1775496600-1775502000@hisvineyard.com
SUMMARY:Grief Share
DESCRIPTION:
URL:https://hisvineyard.com/event/grief-share/2026-04-06/
LOCATION:Church – 656 Arlington Road – Greer\, SC
CATEGORIES:Support Groups
END:VEVENT
BEGIN:VEVENT
DTSTART;TZID=America/New_York:20260330T173000
DTEND;TZID=America/New_York:20260330T190000
DTSTAMP:20260420T092110
CREATED:20260326T122624Z
LAST-MODIFIED:20260326T122756Z
UID:10007888-1774891800-1774897200@hisvineyard.com
SUMMARY:Grief Share
DESCRIPTION:
URL:https://hisvineyard.com/event/grief-share/2026-03-30/
LOCATION:Church – 656 Arlington Road – Greer\, SC
CATEGORIES:Support Groups
END:VEVENT
BEGIN:VEVENT
DTSTART;TZID=America/New_York:20260323T173000
DTEND;TZID=America/New_York:20260323T190000
DTSTAMP:20260420T092110
CREATED:20260326T122624Z
LAST-MODIFIED:20260326T122756Z
UID:10007887-1774287000-1774292400@hisvineyard.com
SUMMARY:Grief Share
DESCRIPTION:
URL:https://hisvineyard.com/event/grief-share/2026-03-23/
LOCATION:Church – 656 Arlington Road – Greer\, SC
CATEGORIES:Support Groups
END:VEVENT
END:VCALENDAR